Back to Build/check report for BioC 3.23:   simplified   long
ABCDEFGHIJKLMNOPQ[R]STUVWXYZ

This page was generated on 2025-10-31 08:34 -0400 (Fri, 31 Oct 2025).

HostnameOSArch (*)R versionInstalled pkgs
nebbiolo1Linux (Ubuntu 24.04.3 LTS)x86_64R Under development (unstable) (2025-10-20 r88955) -- "Unsuffered Consequences" 4428
Click on any hostname to see more info about the system (e.g. compilers)      (*) as reported by 'uname -p', except on Windows and Mac OS X

Package 1693/2321HostnameOS / ArchINSTALLBUILDCHECKBUILD BIN
rBLAST 1.7.0  (landing page)
Michael Hahsler
Snapshot Date: 2025-10-30 13:40 -0400 (Thu, 30 Oct 2025)
git_url: https://git.bioconductor.org/packages/rBLAST
git_branch: devel
git_last_commit: dcc0f85
git_last_commit_date: 2025-10-29 11:29:56 -0400 (Wed, 29 Oct 2025)
nebbiolo1Linux (Ubuntu 24.04.3 LTS) / x86_64  OK    OK    OK  NO, package depends on 'Biostrings' which is not available


BUILD results for rBLAST on nebbiolo1

To the developers/maintainers of the rBLAST package:
- Allow up to 24 hours (and sometimes 48 hours) for your latest push to git@git.bioconductor.org:packages/rBLAST.git to reflect on this report. See Troubleshooting Build Report for more information.
- Use the following Renviron settings to reproduce errors and warnings.
- If 'R CMD check' started to fail recently on the Linux builder(s) over a missing dependency, add the missing dependency to 'Suggests:' in your DESCRIPTION file. See Renviron.bioc for more information.

raw results


Summary

Package: rBLAST
Version: 1.7.0
Command: /home/biocbuild/bbs-3.23-bioc/R/bin/R CMD build --keep-empty-dirs --no-resave-data rBLAST
StartedAt: 2025-10-30 18:34:46 -0400 (Thu, 30 Oct 2025)
EndedAt: 2025-10-30 18:35:00 -0400 (Thu, 30 Oct 2025)
EllapsedTime: 14.0 seconds
RetCode: 0
Status:   OK  
PackageFile: rBLAST_1.7.0.tar.gz
PackageFileSize: 24.87 KiB

Command output

##############################################################################
##############################################################################
###
### Running command:
###
###   /home/biocbuild/bbs-3.23-bioc/R/bin/R CMD build --keep-empty-dirs --no-resave-data rBLAST
###
##############################################################################
##############################################################################


* checking for file ‘rBLAST/DESCRIPTION’ ... OK
* preparing ‘rBLAST’:
* checking DESCRIPTION meta-information ... OK
* installing the package (it is needed to build vignettes)
* creating vignettes ... OK
* checking for LF line-endings in source and make files and shell scripts
* checking for empty or unneeded directories
* building ‘rBLAST_1.7.0.tar.gz’