Back to Build/check report for BioC 3.23:   simplified   long
ABCDEFGHIJKLMNO[P]QRSTUVWXYZ

This page was generated on 2025-11-01 11:32 -0400 (Sat, 01 Nov 2025).

HostnameOSArch (*)R versionInstalled pkgs
nebbiolo1Linux (Ubuntu 24.04.3 LTS)x86_64R Under development (unstable) (2025-10-20 r88955) -- "Unsuffered Consequences" 4774
Click on any hostname to see more info about the system (e.g. compilers)      (*) as reported by 'uname -p', except on Windows and Mac OS X

Package 1621/2321HostnameOS / ArchINSTALLBUILDCHECKBUILD BIN
profileplyr 1.27.0  (landing page)
Tom Carroll , Doug Barrows
Snapshot Date: 2025-10-31 13:40 -0400 (Fri, 31 Oct 2025)
git_url: https://git.bioconductor.org/packages/profileplyr
git_branch: devel
git_last_commit: c441d3c
git_last_commit_date: 2025-10-29 10:51:25 -0400 (Wed, 29 Oct 2025)
nebbiolo1Linux (Ubuntu 24.04.3 LTS) / x86_64  ERROR    ERROR  skipped


BUILD results for profileplyr on nebbiolo1

To the developers/maintainers of the profileplyr package:
- Allow up to 24 hours (and sometimes 48 hours) for your latest push to git@git.bioconductor.org:packages/profileplyr.git to reflect on this report. See Troubleshooting Build Report for more information.
- Use the following Renviron settings to reproduce errors and warnings.
- If 'R CMD check' started to fail recently on the Linux builder(s) over a missing dependency, add the missing dependency to 'Suggests:' in your DESCRIPTION file. See Renviron.bioc for more information.

raw results


Summary

Package: profileplyr
Version: 1.27.0
Command: /home/biocbuild/bbs-3.23-bioc/R/bin/R CMD build --keep-empty-dirs --no-resave-data profileplyr
StartedAt: 2025-10-31 19:32:07 -0400 (Fri, 31 Oct 2025)
EndedAt: 2025-10-31 19:32:22 -0400 (Fri, 31 Oct 2025)
EllapsedTime: 15.0 seconds
RetCode: 1
Status:   ERROR  
PackageFile: None
PackageFileSize: NA

Command output

##############################################################################
##############################################################################
###
### Running command:
###
###   /home/biocbuild/bbs-3.23-bioc/R/bin/R CMD build --keep-empty-dirs --no-resave-data profileplyr
###
##############################################################################
##############################################################################


* checking for file ‘profileplyr/DESCRIPTION’ ... OK
* preparing ‘profileplyr’:
* checking DESCRIPTION meta-information ... OK
* installing the package (it is needed to build vignettes)
      -----------------------------------
* installing *source* package ‘profileplyr’ ...
** this is package ‘profileplyr’ version ‘1.27.0’
** using staged installation
** R
** data
** inst
** byte-compile and prepare package for lazy loading
Error: object ‘makeTxDbFromGFF’ is not exported by 'namespace:GenomicFeatures'
Execution halted
ERROR: lazy loading failed for package ‘profileplyr’
* removing ‘/tmp/RtmpvoBiQs/Rinst10704f64ea845c/profileplyr’
      -----------------------------------
ERROR: package installation failed