Back to Build/check report for BioC 3.23:   simplified   long
ABCDEFGHIJKLMNO[P]QRSTUVWXYZ

This page was generated on 2025-10-31 08:34 -0400 (Fri, 31 Oct 2025).

HostnameOSArch (*)R versionInstalled pkgs
nebbiolo1Linux (Ubuntu 24.04.3 LTS)x86_64R Under development (unstable) (2025-10-20 r88955) -- "Unsuffered Consequences" 4428
Click on any hostname to see more info about the system (e.g. compilers)      (*) as reported by 'uname -p', except on Windows and Mac OS X

All results for package preprocessCore


To the developers/maintainers of the preprocessCore package:
- Allow up to 24 hours (and sometimes 48 hours) for your latest push to git@git.bioconductor.org:packages/preprocessCore.git to reflect on this report. See Troubleshooting Build Report for more information.
- Use the following Renviron settings to reproduce errors and warnings.
- If 'R CMD check' started to fail recently on the Linux builder(s) over a missing dependency, add the missing dependency to 'Suggests:' in your DESCRIPTION file. See Renviron.bioc for more information.

raw results

Package 1613/2321HostnameOS / ArchINSTALLBUILDCHECKBUILD BIN
preprocessCore 1.73.0  (landing page)
Ben Bolstad
Snapshot Date: 2025-10-30 13:40 -0400 (Thu, 30 Oct 2025)
git_url: https://git.bioconductor.org/packages/preprocessCore
git_branch: devel
git_last_commit: bb678ea
git_last_commit_date: 2025-10-29 09:42:06 -0400 (Wed, 29 Oct 2025)
nebbiolo1Linux (Ubuntu 24.04.3 LTS) / x86_64  OK    OK    WARNINGS  YES



Results for Bioconductor software packages that depend directly on package preprocessCore

QUICK STATSOS / ArchINSTALLBUILDCHECKBUILD BIN
nebbiolo1Linux (Ubuntu 24.04.3 LTS) / x86_64
0931
02218
04311
Package 1/40HostnameOS / ArchINSTALLBUILDCHECKBUILD BIN
affy 1.89.0  (landing page)
Robert D. Shear
git_last_commit: b2e5a66
git_last_commit_date: 2025-10-29 09:42:08 -0400
nebbiolo1Linux (Ubuntu 24.04.3 LTS) / x86_64  OK    ERROR  skipped
Package 2/40HostnameOS / ArchINSTALLBUILDCHECKBUILD BIN
affyPLM 1.87.0  (landing page)
Ben Bolstad
git_last_commit: 53a03e9
git_last_commit_date: 2025-10-29 09:53:58 -0400
nebbiolo1Linux (Ubuntu 24.04.3 LTS) / x86_64  OK    ERROR  skipped
Package 3/40HostnameOS / ArchINSTALLBUILDCHECKBUILD BIN
AgiMicroRna 2.61.0  (landing page)
Pedro Lopez-Romero
git_last_commit: 75a71a9
git_last_commit_date: 2025-10-29 10:03:34 -0400
nebbiolo1Linux (Ubuntu 24.04.3 LTS) / x86_64  ERROR    ERROR  skipped
Package 4/40HostnameOS / ArchINSTALLBUILDCHECKBUILD BIN
BloodGen3Module 1.19.0  (landing page)
Darawan Rinchai
git_last_commit: 825e116
git_last_commit_date: 2025-10-29 11:09:33 -0400
nebbiolo1Linux (Ubuntu 24.04.3 LTS) / x86_64  OK    OK    WARNINGS  NO, package depends on 'SummarizedExperiment' which is not available
Package 5/40HostnameOS / ArchINSTALLBUILDCHECKBUILD BIN
bnbc 1.33.0  (landing page)
Kipper Fletez-Brant
git_last_commit: dc2adb8
git_last_commit_date: 2025-10-29 10:41:29 -0400
nebbiolo1Linux (Ubuntu 24.04.3 LTS) / x86_64  OK    ERROR  skipped
Package 6/40HostnameOS / ArchINSTALLBUILDCHECKBUILD BIN
ChAMP 2.41.0  (landing page)
Yuan Tian
git_last_commit: 8bc9b68
git_last_commit_date: 2025-10-29 10:17:05 -0400
nebbiolo1Linux (Ubuntu 24.04.3 LTS) / x86_64  ERROR    ERROR  skipped
Package 7/40HostnameOS / ArchINSTALLBUILDCHECKBUILD BIN
cn.farms 1.59.0  (landing page)
Andreas Mitterecker
git_last_commit: cd33296
git_last_commit_date: 2025-10-29 10:07:06 -0400
nebbiolo1Linux (Ubuntu 24.04.3 LTS) / x86_64  OK    OK    OK  NO, package depends on 'oligoClasses' which is not available
Package 8/40HostnameOS / ArchINSTALLBUILDCHECKBUILD BIN
CPSM 1.3.0  (landing page)
Harpreet Kaur
git_last_commit: 12c6f22
git_last_commit_date: 2025-10-29 11:34:56 -0400
nebbiolo1Linux (Ubuntu 24.04.3 LTS) / x86_64  OK    OK    OK  NO, package depends on 'SummarizedExperiment' which is not available
Package 9/40HostnameOS / ArchINSTALLBUILDCHECKBUILD BIN
crlmm 1.69.0  (landing page)
Benilton S Carvalho
git_last_commit: 51993cf
git_last_commit_date: 2025-10-29 10:02:32 -0400
nebbiolo1Linux (Ubuntu 24.04.3 LTS) / x86_64  OK    ERROR  skipped
Package 10/40HostnameOS / ArchINSTALLBUILDCHECKBUILD BIN
crupR 1.3.0  (landing page)
Persia Akbari Omgba
git_last_commit: f02dafa
git_last_commit_date: 2025-10-29 11:36:29 -0400
nebbiolo1Linux (Ubuntu 24.04.3 LTS) / x86_64  ERROR    ERROR  skipped
Package 11/40HostnameOS / ArchINSTALLBUILDCHECKBUILD BIN
cypress 1.7.0  (landing page)
Shilin Yu
git_last_commit: 40f21f4
git_last_commit_date: 2025-10-29 11:29:05 -0400
nebbiolo1Linux (Ubuntu 24.04.3 LTS) / x86_64  OK    OK    OK  NO, package depends on 'TOAST' which is not available
Package 12/40HostnameOS / ArchINSTALLBUILDCHECKBUILD BIN
EMDomics 2.41.0  (landing page)
Sadhika Malladi and Daniel Schmolze
git_last_commit: a487db4
git_last_commit_date: 2025-10-29 10:26:01 -0400
nebbiolo1Linux (Ubuntu 24.04.3 LTS) / x86_64  OK    OK    OK  YES
Package 13/40HostnameOS / ArchINSTALLBUILDCHECKBUILD BIN
ExiMiR 2.53.0  (landing page)
Sylvain Gubian
git_last_commit: 6d3b680
git_last_commit_date: 2025-10-29 10:06:33 -0400
nebbiolo1Linux (Ubuntu 24.04.3 LTS) / x86_64  OK    ERROR  skipped
Package 14/40HostnameOS / ArchINSTALLBUILDCHECKBUILD BIN
fastLiquidAssociation 1.47.0  (landing page)
Tina Gunderson
git_last_commit: bde2bd2
git_last_commit_date: 2025-10-29 10:19:27 -0400
nebbiolo1Linux (Ubuntu 24.04.3 LTS) / x86_64  ERROR    ERROR  skipped
Package 15/40HostnameOS / ArchINSTALLBUILDCHECKBUILD BIN
frma 1.63.0  (landing page)
Matthew N. McCall
git_last_commit: 06e0f3f
git_last_commit_date: 2025-10-29 10:04:08 -0400
nebbiolo1Linux (Ubuntu 24.04.3 LTS) / x86_64  OK    ERROR  skipped
Package 16/40HostnameOS / ArchINSTALLBUILDCHECKBUILD BIN
frmaTools 1.63.0  (landing page)
Matthew N. McCall
git_last_commit: c003f6b
git_last_commit_date: 2025-10-29 10:04:10 -0400
nebbiolo1Linux (Ubuntu 24.04.3 LTS) / x86_64  OK    ERROR  skipped
Package 17/40HostnameOS / ArchINSTALLBUILDCHECKBUILD BIN
hipathia 3.11.0  (landing page)
Marta R. Hidalgo
git_last_commit: 14e5361
git_last_commit_date: 2025-10-29 10:44:56 -0400
nebbiolo1Linux (Ubuntu 24.04.3 LTS) / x86_64  OK    ERROR  skipped
Package 18/40HostnameOS / ArchINSTALLBUILDCHECKBUILD BIN
iCheck 1.41.0  (landing page)
Weiliang Qiu
git_last_commit: da591b3
git_last_commit_date: 2025-10-29 10:28:02 -0400
nebbiolo1Linux (Ubuntu 24.04.3 LTS) / x86_64  ERROR    ERROR  skipped
Package 19/40HostnameOS / ArchINSTALLBUILDCHECKBUILD BIN
InPAS 2.19.0  (landing page)
Jianhong Ou
git_last_commit: 5b899e7
git_last_commit_date: 2025-10-29 10:24:45 -0400
nebbiolo1Linux (Ubuntu 24.04.3 LTS) / x86_64  ERROR    ERROR  skipped
Package 20/40HostnameOS / ArchINSTALLBUILDCHECKBUILD BIN
lumi 2.63.0  (landing page)
Lei Huang
git_last_commit: 692966d
git_last_commit_date: 2025-10-29 09:58:49 -0400
nebbiolo1Linux (Ubuntu 24.04.3 LTS) / x86_64  ERROR    OK    ERROR  
Package 21/40HostnameOS / ArchINSTALLBUILDCHECKBUILD BIN
MBCB 1.65.0  (landing page)
Bo Yao
git_last_commit: 4aa3893
git_last_commit_date: 2025-10-29 10:05:23 -0400
nebbiolo1Linux (Ubuntu 24.04.3 LTS) / x86_64  OK    OK    OK  YES
Package 22/40HostnameOS / ArchINSTALLBUILDCHECKBUILD BIN
MBQN 2.23.0  (landing page)
Eva Brombacher
git_last_commit: 6c11f8c
git_last_commit_date: 2025-10-29 10:55:13 -0400
nebbiolo1Linux (Ubuntu 24.04.3 LTS) / x86_64  OK    OK    OK  NO, package depends on 'SummarizedExperiment' which is not available
Package 23/40HostnameOS / ArchINSTALLBUILDCHECKBUILD BIN
MEDIPS 1.63.0  (landing page)
Lukas Chavez
git_last_commit: b8a28dc
git_last_commit_date: 2025-10-29 10:06:09 -0400
nebbiolo1Linux (Ubuntu 24.04.3 LTS) / x86_64  OK    ERROR  skipped
Package 24/40HostnameOS / ArchINSTALLBUILDCHECKBUILD BIN
methylclock 1.17.0  (landing page)
Dolors Pelegri-Siso
git_last_commit: 33c0153
git_last_commit_date: 2025-10-29 11:10:33 -0400
nebbiolo1Linux (Ubuntu 24.04.3 LTS) / x86_64  ERROR    ERROR  skipped
Package 25/40HostnameOS / ArchINSTALLBUILDCHECKBUILD BIN
mimager 1.35.0  (landing page)
Aaron Wolen
git_last_commit: 86a8e49
git_last_commit_date: 2025-10-29 10:36:18 -0400
nebbiolo1Linux (Ubuntu 24.04.3 LTS) / x86_64  OK    ERROR  skipped
Package 26/40HostnameOS / ArchINSTALLBUILDCHECKBUILD BIN
minfi 1.57.0  (landing page)
Kasper Daniel Hansen
git_last_commit: 36249fb
git_last_commit_date: 2025-10-29 10:09:18 -0400
nebbiolo1Linux (Ubuntu 24.04.3 LTS) / x86_64  OK    ERROR  skipped
Package 27/40HostnameOS / ArchINSTALLBUILDCHECKBUILD BIN
MSPrep 1.21.0  (landing page)
Max McGrath
git_last_commit: e2ae0eb
git_last_commit_date: 2025-10-29 11:02:54 -0400
nebbiolo1Linux (Ubuntu 24.04.3 LTS) / x86_64  OK    OK    ERROR  
Package 28/40HostnameOS / ArchINSTALLBUILDCHECKBUILD BIN
MSstats 4.19.0  (landing page)
Meena Choi
git_last_commit: 5806648
git_last_commit_date: 2025-10-29 10:16:50 -0400
nebbiolo1Linux (Ubuntu 24.04.3 LTS) / x86_64  OK    OK    WARNINGS  YES
Package 29/40HostnameOS / ArchINSTALLBUILDCHECKBUILD BIN
NormalyzerDE 1.29.0  (landing page)
Jakob Willforss
git_last_commit: 1b37592
git_last_commit_date: 2025-10-29 10:47:24 -0400
nebbiolo1Linux (Ubuntu 24.04.3 LTS) / x86_64  OK    OK    WARNINGS  NO, package depends on 'vsn' which is not available
Package 30/40HostnameOS / ArchINSTALLBUILDCHECKBUILD BIN
oligo 1.75.0  (landing page)
Benilton Carvalho
git_last_commit: e5c4ecd
git_last_commit_date: 2025-10-29 09:56:42 -0400
nebbiolo1Linux (Ubuntu 24.04.3 LTS) / x86_64  OK    OK    ERROR  
Package 31/40HostnameOS / ArchINSTALLBUILDCHECKBUILD BIN
PanomiR 1.15.0  (landing page)
Pourya Naderi
git_last_commit: eb18fe4
git_last_commit_date: 2025-10-29 11:14:47 -0400
nebbiolo1Linux (Ubuntu 24.04.3 LTS) / x86_64  OK    OK    OK  NO, package depends on 'clusterProfiler' which is not available
Package 32/40HostnameOS / ArchINSTALLBUILDCHECKBUILD BIN
PECA 1.47.0  (landing page)
Tomi Suomi
git_last_commit: ef37402
git_last_commit_date: 2025-10-29 10:17:25 -0400
nebbiolo1Linux (Ubuntu 24.04.3 LTS) / x86_64  OK    ERROR  skipped
Package 33/40HostnameOS / ArchINSTALLBUILDCHECKBUILD BIN
PhosR 1.21.0  (landing page)
Di Xiao
git_last_commit: 244f040
git_last_commit_date: 2025-10-29 11:02:33 -0400
nebbiolo1Linux (Ubuntu 24.04.3 LTS) / x86_64  OK    ERROR  skipped
Package 34/40HostnameOS / ArchINSTALLBUILDCHECKBUILD BIN
Pigengene 1.37.0  (landing page)
Habil Zare
git_last_commit: b4e2edc
git_last_commit_date: 2025-10-29 10:32:29 -0400
nebbiolo1Linux (Ubuntu 24.04.3 LTS) / x86_64  ERROR    ERROR  skipped
Package 35/40HostnameOS / ArchINSTALLBUILDCHECKBUILD BIN
PRONE 1.5.0  (landing page)
Lis Arend
git_last_commit: cfe6a55
git_last_commit_date: 2025-10-29 11:32:38 -0400
nebbiolo1Linux (Ubuntu 24.04.3 LTS) / x86_64  OK    OK    OK  NO, package depends on 'SummarizedExperiment' which is not available
Package 36/40HostnameOS / ArchINSTALLBUILDCHECKBUILD BIN
qPLEXanalyzer 1.29.0  (landing page)
Ashley Sawle
git_last_commit: d72dc3a
git_last_commit_date: 2025-10-29 10:46:08 -0400
nebbiolo1Linux (Ubuntu 24.04.3 LTS) / x86_64  OK    ERROR  skipped
Package 37/40HostnameOS / ArchINSTALLBUILDCHECKBUILD BIN
quantiseqr 1.19.0  (landing page)
Federico Marini
git_last_commit: 0a7a615
git_last_commit_date: 2025-10-29 11:08:45 -0400
nebbiolo1Linux (Ubuntu 24.04.3 LTS) / x86_64  OK    OK    OK  NO, package depends on 'SummarizedExperiment' which is not available
Package 38/40HostnameOS / ArchINSTALLBUILDCHECKBUILD BIN
sesame 1.29.0  (landing page)
Wanding Zhou
git_last_commit: 92283cb
git_last_commit_date: 2025-10-29 10:46:05 -0400
nebbiolo1Linux (Ubuntu 24.04.3 LTS) / x86_64  OK    OK    OK  NO, package depends on 'GenomicRanges' which is not available
Package 39/40HostnameOS / ArchINSTALLBUILDCHECKBUILD BIN
soGGi 1.43.0  (landing page)
Tom Carroll
git_last_commit: c0596bd
git_last_commit_date: 2025-10-29 10:25:37 -0400
nebbiolo1Linux (Ubuntu 24.04.3 LTS) / x86_64  OK    OK    ERROR  
Package 40/40HostnameOS / ArchINSTALLBUILDCHECKBUILD BIN
yarn 1.37.0  (landing page)
Joseph N Paulson
git_last_commit: 1ca2322
git_last_commit_date: 2025-10-29 10:35:35 -0400
nebbiolo1Linux (Ubuntu 24.04.3 LTS) / x86_64  OK    OK    OK  NO, package depends on 'biomaRt' which is not available