| Back to Build/check report for BioC 3.23: simplified long |
|
This page was generated on 2025-11-01 11:32 -0400 (Sat, 01 Nov 2025).
| Hostname | OS | Arch (*) | R version | Installed pkgs |
|---|---|---|---|---|
| nebbiolo1 | Linux (Ubuntu 24.04.3 LTS) | x86_64 | R Under development (unstable) (2025-10-20 r88955) -- "Unsuffered Consequences" | 4774 |
| Click on any hostname to see more info about the system (e.g. compilers) (*) as reported by 'uname -p', except on Windows and Mac OS X | ||||
| Package 1592/2321 | Hostname | OS / Arch | INSTALL | BUILD | CHECK | BUILD BIN | ||||||||
| plyranges 1.31.0 (landing page) Michael Love
| nebbiolo1 | Linux (Ubuntu 24.04.3 LTS) / x86_64 | OK | OK | OK | |||||||||
|
To the developers/maintainers of the plyranges package: - Allow up to 24 hours (and sometimes 48 hours) for your latest push to git@git.bioconductor.org:packages/plyranges.git to reflect on this report. See Troubleshooting Build Report for more information. - Use the following Renviron settings to reproduce errors and warnings. - If 'R CMD check' started to fail recently on the Linux builder(s) over a missing dependency, add the missing dependency to 'Suggests:' in your DESCRIPTION file. See Renviron.bioc for more information. |
| Package: plyranges |
| Version: 1.31.0 |
| Command: /home/biocbuild/bbs-3.23-bioc/R/bin/R CMD check --install=check:plyranges.install-out.txt --library=/home/biocbuild/bbs-3.23-bioc/R/site-library --timings plyranges_1.31.0.tar.gz |
| StartedAt: 2025-11-01 02:20:29 -0400 (Sat, 01 Nov 2025) |
| EndedAt: 2025-11-01 02:25:18 -0400 (Sat, 01 Nov 2025) |
| EllapsedTime: 288.3 seconds |
| RetCode: 0 |
| Status: OK |
| CheckDir: plyranges.Rcheck |
| Warnings: 0 |
##############################################################################
##############################################################################
###
### Running command:
###
### /home/biocbuild/bbs-3.23-bioc/R/bin/R CMD check --install=check:plyranges.install-out.txt --library=/home/biocbuild/bbs-3.23-bioc/R/site-library --timings plyranges_1.31.0.tar.gz
###
##############################################################################
##############################################################################
* using log directory ‘/home/biocbuild/bbs-3.23-bioc/meat/plyranges.Rcheck’
* using R Under development (unstable) (2025-10-20 r88955)
* using platform: x86_64-pc-linux-gnu
* R was compiled by
gcc (Ubuntu 13.3.0-6ubuntu2~24.04) 13.3.0
GNU Fortran (Ubuntu 13.3.0-6ubuntu2~24.04) 13.3.0
* running under: Ubuntu 24.04.3 LTS
* using session charset: UTF-8
* checking for file ‘plyranges/DESCRIPTION’ ... OK
* checking extension type ... Package
* this is package ‘plyranges’ version ‘1.31.0’
* package encoding: UTF-8
* checking package namespace information ... OK
* checking package dependencies ... OK
* checking if this is a source package ... OK
* checking if there is a namespace ... OK
* checking for hidden files and directories ... OK
* checking for portable file names ... OK
* checking for sufficient/correct file permissions ... OK
* checking whether package ‘plyranges’ can be installed ... OK
* checking installed package size ... OK
* checking package directory ... OK
* checking ‘build’ directory ... OK
* checking DESCRIPTION meta-information ... OK
* checking top-level files ... OK
* checking for left-over files ... OK
* checking index information ... OK
* checking package subdirectories ... OK
* checking code files for non-ASCII characters ... OK
* checking R files for syntax errors ... OK
* checking whether the package can be loaded ... OK
* checking whether the package can be loaded with stated dependencies ... OK
* checking whether the package can be unloaded cleanly ... OK
* checking whether the namespace can be loaded with stated dependencies ... OK
* checking whether the namespace can be unloaded cleanly ... OK
* checking loading without being on the library search path ... OK
* checking dependencies in R code ... OK
* checking S3 generic/method consistency ... OK
* checking replacement functions ... OK
* checking foreign function calls ... OK
* checking R code for possible problems ... OK
* checking Rd files ... NOTE
checkRd: (-1) group_by-ranges.Rd:57: Lost braces in \itemize; meant \describe ?
checkRd: (-1) group_by-ranges.Rd:58: Lost braces in \itemize; meant \describe ?
checkRd: (-1) ranges-anchor.Rd:58: Lost braces in \itemize; meant \describe ?
checkRd: (-1) ranges-anchor.Rd:59: Lost braces in \itemize; meant \describe ?
checkRd: (-1) ranges-anchor.Rd:60: Lost braces in \itemize; meant \describe ?
checkRd: (-1) ranges-anchor.Rd:61-62: Lost braces in \itemize; meant \describe ?
checkRd: (-1) ranges-anchor.Rd:63-64: Lost braces in \itemize; meant \describe ?
* checking Rd metadata ... OK
* checking Rd cross-references ... NOTE
Non-topic package-anchored link(s) in Rd file 'tidyverse-reexports.Rd':
‘[magrittr:pipe]{%>%}’
See section 'Cross-references' in the 'Writing R Extensions' manual.
Found the following Rd file(s) with Rd \link{} targets missing package
anchors:
as_ranges.Rd: Rle, RleList, IRanges, GRanges
ranges-construct.Rd: tibble
ranges-filter-overlaps.Rd: GRanges
Please provide package anchors for all Rd \link{} targets not in the
package itself and the base packages.
* checking for missing documentation entries ... OK
* checking for code/documentation mismatches ... OK
* checking Rd \usage sections ... OK
* checking Rd contents ... OK
* checking for unstated dependencies in examples ... OK
* checking files in ‘vignettes’ ... OK
* checking examples ... OK
* checking for unstated dependencies in ‘tests’ ... OK
* checking tests ...
Running ‘testthat.R’
OK
* checking for unstated dependencies in vignettes ... OK
* checking package vignettes ... OK
* checking re-building of vignette outputs ... OK
* checking PDF version of manual ... OK
* DONE
Status: 2 NOTEs
See
‘/home/biocbuild/bbs-3.23-bioc/meat/plyranges.Rcheck/00check.log’
for details.
plyranges.Rcheck/00install.out
############################################################################## ############################################################################## ### ### Running command: ### ### /home/biocbuild/bbs-3.23-bioc/R/bin/R CMD INSTALL plyranges ### ############################################################################## ############################################################################## * installing to library ‘/home/biocbuild/bbs-3.23-bioc/R/site-library’ * installing *source* package ‘plyranges’ ... ** this is package ‘plyranges’ version ‘1.31.0’ ** using staged installation ** R ** inst ** byte-compile and prepare package for lazy loading ** help *** installing help indices *** copying figures ** building package indices ** installing vignettes ** testing if installed package can be loaded from temporary location ** testing if installed package can be loaded from final location ** testing if installed package keeps a record of temporary installation path * DONE (plyranges)
plyranges.Rcheck/tests/testthat.Rout
R Under development (unstable) (2025-10-20 r88955) -- "Unsuffered Consequences"
Copyright (C) 2025 The R Foundation for Statistical Computing
Platform: x86_64-pc-linux-gnu
R is free software and comes with ABSOLUTELY NO WARRANTY.
You are welcome to redistribute it under certain conditions.
Type 'license()' or 'licence()' for distribution details.
R is a collaborative project with many contributors.
Type 'contributors()' for more information and
'citation()' on how to cite R or R packages in publications.
Type 'demo()' for some demos, 'help()' for on-line help, or
'help.start()' for an HTML browser interface to help.
Type 'q()' to quit R.
> library(testthat)
> library(plyranges)
Loading required package: BiocGenerics
Loading required package: generics
Attaching package: 'generics'
The following objects are masked from 'package:base':
as.difftime, as.factor, as.ordered, intersect, is.element, setdiff,
setequal, union
Attaching package: 'BiocGenerics'
The following objects are masked from 'package:stats':
IQR, mad, sd, var, xtabs
The following objects are masked from 'package:base':
Filter, Find, Map, Position, Reduce, anyDuplicated, aperm, append,
as.data.frame, basename, cbind, colnames, dirname, do.call,
duplicated, eval, evalq, get, grep, grepl, is.unsorted, lapply,
mapply, match, mget, order, paste, pmax, pmax.int, pmin, pmin.int,
rank, rbind, rownames, sapply, saveRDS, table, tapply, unique,
unsplit, which.max, which.min
Loading required package: IRanges
Loading required package: S4Vectors
Loading required package: stats4
Attaching package: 'S4Vectors'
The following object is masked from 'package:utils':
findMatches
The following objects are masked from 'package:base':
I, expand.grid, unname
Loading required package: GenomicRanges
Loading required package: Seqinfo
Attaching package: 'plyranges'
The following object is masked from 'package:IRanges':
slice
The following object is masked from 'package:stats':
filter
>
> test_check("plyranges")
[ FAIL 0 | WARN 8 | SKIP 0 | PASS 397 ]
[ FAIL 0 | WARN 8 | SKIP 0 | PASS 397 ]
>
> proc.time()
user system elapsed
41.099 1.066 42.163
plyranges.Rcheck/plyranges-Ex.timings
| name | user | system | elapsed | |
| add-nearest-distance | 0.303 | 0.015 | 0.318 | |
| as_ranges | 0.074 | 0.017 | 0.091 | |
| compute_coverage | 0.015 | 0.002 | 0.017 | |
| element-setops | 0.092 | 0.016 | 0.108 | |
| filter-ranges | 0.492 | 0.017 | 0.508 | |
| group_by-ranges | 0.272 | 0.000 | 0.273 | |
| io-bam-read | 0.593 | 0.028 | 0.623 | |
| io-bed-read | 1.672 | 0.023 | 1.700 | |
| io-bed-write | 0.000 | 0.000 | 0.001 | |
| io-bigwig-read | 0.092 | 0.000 | 0.093 | |
| io-bigwig-write | 0 | 0 | 0 | |
| io-gff-read | 0.332 | 0.009 | 0.341 | |
| io-gff-write | 0 | 0 | 0 | |
| io-wig-read | 0.266 | 0.001 | 0.268 | |
| mutate-ranges | 0.558 | 0.006 | 0.563 | |
| n | 0.186 | 0.001 | 0.187 | |
| n_distinct | 0.037 | 0.000 | 0.036 | |
| overlap-joins | 0.166 | 0.001 | 0.166 | |
| ranges-anchor | 0.087 | 0.001 | 0.087 | |
| ranges-arrange | 0.042 | 0.000 | 0.042 | |
| ranges-bind | 0.155 | 0.002 | 0.157 | |
| ranges-chop | 0.307 | 0.003 | 0.310 | |
| ranges-construct | 0.090 | 0.002 | 0.092 | |
| ranges-count-overlaps | 0.056 | 0.000 | 0.056 | |
| ranges-disjoin | 0.645 | 0.002 | 0.647 | |
| ranges-expand | 0.490 | 0.003 | 0.493 | |
| ranges-filter-overlaps | 0.112 | 0.002 | 0.113 | |
| ranges-flank | 0.090 | 0.002 | 0.092 | |
| ranges-follow | 0.167 | 0.001 | 0.169 | |
| ranges-info | 0.043 | 0.001 | 0.044 | |
| ranges-interweave | 0.159 | 0.001 | 0.160 | |
| ranges-names | 0.107 | 0.000 | 0.107 | |
| ranges-nearest | 0.445 | 0.002 | 0.448 | |
| ranges-overlaps-self | 0.114 | 0.002 | 0.117 | |
| ranges-overlaps | 0.155 | 0.002 | 0.156 | |
| ranges-pairs | 0.315 | 0.006 | 0.320 | |
| ranges-precede | 0.139 | 0.001 | 0.139 | |
| ranges-reduce | 0.849 | 0.001 | 0.851 | |
| ranges-select | 0.066 | 0.004 | 0.070 | |
| ranges-setops | 0.737 | 0.002 | 0.738 | |
| ranges-shift | 0.139 | 0.001 | 0.140 | |
| ranges-summarise | 0.126 | 0.000 | 0.125 | |
| ranges-tile | 0.081 | 0.001 | 0.082 | |
| slice-ranges | 0.517 | 0.002 | 0.519 | |
| stretch | 0.205 | 0.003 | 0.207 | |