Back to Multiple platform build/check report for BioC 3.22:   simplified   long
ABCDEFGHIJKLMNO[P]QRSTUVWXYZ

This page was generated on 2025-10-28 12:04 -0400 (Tue, 28 Oct 2025).

HostnameOSArch (*)R versionInstalled pkgs
nebbiolo2Linux (Ubuntu 24.04.3 LTS)x86_644.5.1 Patched (2025-08-23 r88802) -- "Great Square Root" 4901
lconwaymacOS 12.7.6 Montereyx86_644.5.1 Patched (2025-09-10 r88807) -- "Great Square Root" 4691
kjohnson3macOS 13.7.7 Venturaarm644.5.1 Patched (2025-09-10 r88807) -- "Great Square Root" 4637
Click on any hostname to see more info about the system (e.g. compilers)      (*) as reported by 'uname -p', except on Windows and Mac OS X

Package 1571/2361HostnameOS / ArchINSTALLBUILDCHECKBUILD BIN
peakPantheR 1.23.3  (landing page)
Arnaud Wolfer
Snapshot Date: 2025-10-27 13:45 -0400 (Mon, 27 Oct 2025)
git_url: https://git.bioconductor.org/packages/peakPantheR
git_branch: devel
git_last_commit: 0d1b221
git_last_commit_date: 2025-09-27 18:38:06 -0400 (Sat, 27 Sep 2025)
nebbiolo2Linux (Ubuntu 24.04.3 LTS) / x86_64  OK    OK    OK  UNNEEDED, same version is already published
lconwaymacOS 12.7.6 Monterey / x86_64  OK    OK    OK    OK  UNNEEDED, same version is already published
kjohnson3macOS 13.7.7 Ventura / arm64  OK    OK    OK    OK  UNNEEDED, same version is already published


CHECK results for peakPantheR on lconway

To the developers/maintainers of the peakPantheR package:
- Allow up to 24 hours (and sometimes 48 hours) for your latest push to git@git.bioconductor.org:packages/peakPantheR.git to reflect on this report. See Troubleshooting Build Report for more information.
- Use the following Renviron settings to reproduce errors and warnings.
- If 'R CMD check' started to fail recently on the Linux builder(s) over a missing dependency, add the missing dependency to 'Suggests:' in your DESCRIPTION file. See Renviron.bioc for more information.

raw results


Summary

Package: peakPantheR
Version: 1.23.3
Command: /Library/Frameworks/R.framework/Resources/bin/R CMD check --install=check:peakPantheR.install-out.txt --library=/Library/Frameworks/R.framework/Resources/library --no-vignettes --timings peakPantheR_1.23.3.tar.gz
StartedAt: 2025-10-27 23:45:35 -0400 (Mon, 27 Oct 2025)
EndedAt: 2025-10-28 00:08:31 -0400 (Tue, 28 Oct 2025)
EllapsedTime: 1375.4 seconds
RetCode: 0
Status:   OK  
CheckDir: peakPantheR.Rcheck
Warnings: 0

Command output

##############################################################################
##############################################################################
###
### Running command:
###
###   /Library/Frameworks/R.framework/Resources/bin/R CMD check --install=check:peakPantheR.install-out.txt --library=/Library/Frameworks/R.framework/Resources/library --no-vignettes --timings peakPantheR_1.23.3.tar.gz
###
##############################################################################
##############################################################################


* using log directory ‘/Users/biocbuild/bbs-3.22-bioc/meat/peakPantheR.Rcheck’
* using R version 4.5.1 Patched (2025-09-10 r88807)
* using platform: x86_64-apple-darwin20
* R was compiled by
    Apple clang version 14.0.0 (clang-1400.0.29.202)
    GNU Fortran (GCC) 14.2.0
* running under: macOS Monterey 12.7.6
* using session charset: UTF-8
* using option ‘--no-vignettes’
* checking for file ‘peakPantheR/DESCRIPTION’ ... OK
* this is package ‘peakPantheR’ version ‘1.23.3’
* package encoding: UTF-8
* checking package namespace information ... OK
* checking package dependencies ... OK
* checking if this is a source package ... OK
* checking if there is a namespace ... OK
* checking for hidden files and directories ... OK
* checking for portable file names ... OK
* checking for sufficient/correct file permissions ... OK
* checking whether package ‘peakPantheR’ can be installed ... OK
* checking installed package size ... OK
* checking package directory ... OK
* checking ‘build’ directory ... OK
* checking DESCRIPTION meta-information ... OK
* checking top-level files ... OK
* checking for left-over files ... OK
* checking index information ... OK
* checking package subdirectories ... OK
* checking code files for non-ASCII characters ... OK
* checking R files for syntax errors ... OK
* checking whether the package can be loaded ... OK
* checking whether the package can be loaded with stated dependencies ... OK
* checking whether the package can be unloaded cleanly ... OK
* checking whether the namespace can be loaded with stated dependencies ... OK
* checking whether the namespace can be unloaded cleanly ... OK
* checking whether startup messages can be suppressed ... OK
* checking dependencies in R code ... OK
* checking S3 generic/method consistency ... OK
* checking replacement functions ... OK
* checking foreign function calls ... OK
* checking R code for possible problems ... OK
* checking Rd files ... OK
* checking Rd metadata ... OK
* checking Rd cross-references ... OK
* checking for missing documentation entries ... OK
* checking for code/documentation mismatches ... OK
* checking Rd \usage sections ... OK
* checking Rd contents ... OK
* checking for unstated dependencies in examples ... OK
* checking files in ‘vignettes’ ... OK
* checking examples ... OK
Examples with CPU (user + system) or elapsed time > 5s
                                                          user system elapsed
peakPantheR_ROIStatistics                               23.667  0.324  24.142
peakPantheR_parallelAnnotation                          16.343  0.153  16.597
outputAnnotationResult-peakPantheRAnnotation-method     15.605  0.195  15.927
outputAnnotationDiagnostic-peakPantheRAnnotation-method 15.471  0.183  15.798
EICs-peakPantheRAnnotation-method                       12.809  0.717  13.638
retentionTimeCorrection-peakPantheRAnnotation-method    10.828  0.064  10.918
peakPantheR_singleFileSearch                             5.377  0.044   5.437
* checking for unstated dependencies in ‘tests’ ... OK
* checking tests ...
  Running ‘testthat.R’
 OK
* checking for unstated dependencies in vignettes ... OK
* checking package vignettes ... OK
* checking running R code from vignettes ... SKIPPED
* checking re-building of vignette outputs ... SKIPPED
* checking PDF version of manual ... OK
* DONE

Status: OK


Installation output

peakPantheR.Rcheck/00install.out

##############################################################################
##############################################################################
###
### Running command:
###
###   /Library/Frameworks/R.framework/Resources/bin/R CMD INSTALL peakPantheR
###
##############################################################################
##############################################################################


* installing to library ‘/Library/Frameworks/R.framework/Versions/4.5-x86_64/Resources/library’
* installing *source* package ‘peakPantheR’ ...
** this is package ‘peakPantheR’ version ‘1.23.3’
** using staged installation
** R
** inst
** byte-compile and prepare package for lazy loading
** help
*** installing help indices
*** copying figures
** building package indices
** installing vignettes
** testing if installed package can be loaded from temporary location
** testing if installed package can be loaded from final location
** testing if installed package keeps a record of temporary installation path
* DONE (peakPantheR)

Tests output

peakPantheR.Rcheck/tests/testthat.Rout


R version 4.5.1 Patched (2025-09-10 r88807) -- "Great Square Root"
Copyright (C) 2025 The R Foundation for Statistical Computing
Platform: x86_64-apple-darwin20

R is free software and comes with ABSOLUTELY NO WARRANTY.
You are welcome to redistribute it under certain conditions.
Type 'license()' or 'licence()' for distribution details.

R is a collaborative project with many contributors.
Type 'contributors()' for more information and
'citation()' on how to cite R or R packages in publications.

Type 'demo()' for some demos, 'help()' for on-line help, or
'help.start()' for an HTML browser interface to help.
Type 'q()' to quit R.

> library(testthat)
> library(peakPantheR)

This is peakPantheR version 1.23.3 

> 
> test_check("peakPantheR")
2025-10-27 23:54:40.563 R[27654:655016827] XType: com.apple.fonts is not accessible.
2025-10-27 23:54:40.563 R[27654:655016827] XType: XTFontStaticRegistry is enabled.
2025-10-27 23:55:00.094 R[54572:655089272] XType: com.apple.fonts is not accessible.
2025-10-27 23:55:00.094 R[54572:655089272] XType: XTFontStaticRegistry is enabled.
2025-10-27 23:55:12.334 R[55173:655090607] XType: com.apple.fonts is not accessible.
2025-10-27 23:55:12.334 R[55173:655090607] XType: XTFontStaticRegistry is enabled.
2025-10-27 23:59:49.469 R[77052:655136774] XType: com.apple.fonts is not accessible.
2025-10-27 23:59:49.469 R[77052:655136774] XType: XTFontStaticRegistry is enabled.
[ FAIL 0 | WARN 0 | SKIP 0 | PASS 1460 ]
Warning messages:
1: In .Internal(gc(verbose, reset, full)) :
  closing unused connection 10 (/private/tmp/RtmpJPevpd/notValidXML.mzML)
2: In .Internal(gc(verbose, reset, full)) :
  closing unused connection 9 (/private/tmp/RtmpJPevpd/notValidXML.mzML)
3: In .Internal(gc(verbose, reset, full)) :
  closing unused connection 8 (/private/tmp/RtmpJPevpd/notValidXML.mzML)
4: In .Internal(gc(verbose, reset, full)) :
  closing unused connection 7 (/private/tmp/RtmpJPevpd/notValidXML.mzML)
5: In .Internal(gc(verbose, reset, full)) :
  closing unused connection 6 (/Library/Frameworks/R.framework/Versions/4.5-x86_64/Resources/library/peakPantheR/extdata/test_fakemzML.mzML)
6: In .Internal(gc(verbose, reset, full)) :
  closing unused connection 5 (/Library/Frameworks/R.framework/Versions/4.5-x86_64/Resources/library/peakPantheR/extdata/test_fakemzML.mzML)
> 
> proc.time()
    user   system  elapsed 
 822.995    9.123 1168.812 

Example timings

peakPantheR.Rcheck/peakPantheR-Ex.timings

nameusersystemelapsed
EICs-peakPantheRAnnotation-method12.809 0.71713.638
FIR-peakPantheRAnnotation-method0.0360.0030.038
ROI-peakPantheRAnnotation-method0.0270.0020.028
TIC-peakPantheRAnnotation-method0.0230.0020.025
acquisitionTime-peakPantheRAnnotation-method0.0230.0030.026
annotationDiagnosticPlots-peakPantheRAnnotation-method0.0240.0020.026
annotationParamsDiagnostic-peakPantheRAnnotation-method0.0240.0020.026
annotationTable-peakPantheRAnnotation-method0.0230.0020.025
annotation_diagnostic_multiplot_UI_helper0.1740.0130.189
annotation_fit_summary_UI_helper0.0070.0010.008
annotation_showMethod_UI_helper0.0040.0010.005
annotation_showText_UI_helper0.0000.0010.001
cpdID-peakPantheRAnnotation-method0.0280.0030.031
cpdMetadata-peakPantheRAnnotation-method0.0250.0020.028
cpdName-peakPantheRAnnotation-method0.0230.0020.025
dataPoints-peakPantheRAnnotation-method0.0240.0020.027
filename-peakPantheRAnnotation-method0.0240.0020.027
filepath-peakPantheRAnnotation-method0.0250.0020.027
initialise_annotation_from_files_UI_helper0.0120.0020.015
isAnnotated-peakPantheRAnnotation-method0.0230.0020.026
load_annotation_from_file_UI_helper0.0070.0020.009
nbCompounds-peakPantheRAnnotation-method0.0230.0020.024
nbSamples-peakPantheRAnnotation-method0.1340.0020.136
outputAnnotationDiagnostic-peakPantheRAnnotation-method15.471 0.18315.798
outputAnnotationFeatureMetadata_UI_helper0.0060.0000.006
outputAnnotationParamsCSV-peakPantheRAnnotation-method0.0250.0010.026
outputAnnotationResult-peakPantheRAnnotation-method15.605 0.19515.927
outputAnnotationSpectraMetadata_UI_helper0.0080.0010.008
peakFit-peakPantheRAnnotation-method0.0220.0020.024
peakPantheRAnnotation0.0330.0020.036
peakPantheR_ROIStatistics23.667 0.32424.142
peakPantheR_loadAnnotationParamsCSV0.0070.0010.007
peakPantheR_parallelAnnotation16.343 0.15316.597
peakPantheR_plotEICFit0.4970.0050.504
peakPantheR_plotPeakwidth0.9160.0340.953
peakPantheR_quickEIC4.5670.0824.675
peakPantheR_singleFileSearch5.3770.0445.437
peakPantheR_start_GUI000
peakTables-peakPantheRAnnotation-method0.0220.0020.024
resetAnnotation-peakPantheRAnnotation-method0.0270.0030.028
resetFIR-peakPantheRAnnotation-method0.0040.0010.004
retentionTimeCorrection-peakPantheRAnnotation-method10.828 0.06410.918
spectraMetadata-peakPantheRAnnotation-method0.0280.0020.029
spectraPaths_and_metadata_UI_helper0.0030.0010.005
spectra_metadata_colourScheme_UI_helper0.0040.0010.005
uROI-peakPantheRAnnotation-method0.0240.0010.026
uROIExist-peakPantheRAnnotation-method0.0250.0020.028
useFIR-peakPantheRAnnotation-method0.0230.0020.024
useUROI-peakPantheRAnnotation-method0.0270.0020.028