| Back to Build/check report for BioC 3.23: simplified long |
|
This page was generated on 2025-10-31 08:34 -0400 (Fri, 31 Oct 2025).
| Hostname | OS | Arch (*) | R version | Installed pkgs |
|---|---|---|---|---|
| nebbiolo1 | Linux (Ubuntu 24.04.3 LTS) | x86_64 | R Under development (unstable) (2025-10-20 r88955) -- "Unsuffered Consequences" | 4428 |
| Click on any hostname to see more info about the system (e.g. compilers) (*) as reported by 'uname -p', except on Windows and Mac OS X | ||||
| Package 1536/2321 | Hostname | OS / Arch | INSTALL | BUILD | CHECK | BUILD BIN | ||||||||
| pathRender 1.79.0 (landing page) Vince Carey
| nebbiolo1 | Linux (Ubuntu 24.04.3 LTS) / x86_64 | ERROR | ERROR | skipped | |||||||||
|
To the developers/maintainers of the pathRender package: - Allow up to 24 hours (and sometimes 48 hours) for your latest push to git@git.bioconductor.org:packages/pathRender.git to reflect on this report. See Troubleshooting Build Report for more information. - Use the following Renviron settings to reproduce errors and warnings. - If 'R CMD check' started to fail recently on the Linux builder(s) over a missing dependency, add the missing dependency to 'Suggests:' in your DESCRIPTION file. See Renviron.bioc for more information. |
| Package: pathRender |
| Version: 1.79.0 |
| Command: /home/biocbuild/bbs-3.23-bioc/R/bin/R CMD INSTALL pathRender |
| StartedAt: 2025-10-30 15:58:35 -0400 (Thu, 30 Oct 2025) |
| EndedAt: 2025-10-30 15:58:36 -0400 (Thu, 30 Oct 2025) |
| EllapsedTime: 0.5 seconds |
| RetCode: 1 |
| Status: ERROR |
##############################################################################
##############################################################################
###
### Running command:
###
### /home/biocbuild/bbs-3.23-bioc/R/bin/R CMD INSTALL pathRender
###
##############################################################################
##############################################################################
* installing to library ‘/home/biocbuild/bbs-3.23-bioc/R/site-library’
ERROR: dependency ‘cMAP’ is not available for package ‘pathRender’
Perhaps try a variation of:
install.packages('cMAP')
* removing ‘/home/biocbuild/bbs-3.23-bioc/R/site-library/pathRender’