| Back to Multiple platform build/check report for BioC 3.22: simplified long |
|
This page was generated on 2025-10-25 12:03 -0400 (Sat, 25 Oct 2025).
| Hostname | OS | Arch (*) | R version | Installed pkgs |
|---|---|---|---|---|
| nebbiolo2 | Linux (Ubuntu 24.04.3 LTS) | x86_64 | 4.5.1 Patched (2025-08-23 r88802) -- "Great Square Root" | 4901 |
| lconway | macOS 12.7.6 Monterey | x86_64 | 4.5.1 Patched (2025-09-10 r88807) -- "Great Square Root" | 4691 |
| kjohnson3 | macOS 13.7.7 Ventura | arm64 | 4.5.1 Patched (2025-09-10 r88807) -- "Great Square Root" | 4637 |
| taishan | Linux (openEuler 24.03 LTS) | aarch64 | 4.5.0 (2025-04-11) -- "How About a Twenty-Six" | 4658 |
| Click on any hostname to see more info about the system (e.g. compilers) (*) as reported by 'uname -p', except on Windows and Mac OS X | ||||
| Package 1493/2361 | Hostname | OS / Arch | INSTALL | BUILD | CHECK | BUILD BIN | ||||||||
| omada 1.11.0 (landing page) Sokratis Kariotis
| nebbiolo2 | Linux (Ubuntu 24.04.3 LTS) / x86_64 | OK | OK | OK | |||||||||
| lconway | macOS 12.7.6 Monterey / x86_64 | OK | OK | OK | OK | |||||||||
| kjohnson3 | macOS 13.7.7 Ventura / arm64 | OK | OK | OK | OK | |||||||||
| taishan | Linux (openEuler 24.03 LTS) / aarch64 | OK | NA | NA | ||||||||||
|
To the developers/maintainers of the omada package: - Allow up to 24 hours (and sometimes 48 hours) for your latest push to git@git.bioconductor.org:packages/omada.git to reflect on this report. See Troubleshooting Build Report for more information. - Use the following Renviron settings to reproduce errors and warnings. - If 'R CMD check' started to fail recently on the Linux builder(s) over a missing dependency, add the missing dependency to 'Suggests:' in your DESCRIPTION file. See Renviron.bioc for more information. |
| Package: omada |
| Version: 1.11.0 |
| Command: /home/biocbuild/bbs-3.22-bioc/R/bin/R CMD check --install=check:omada.install-out.txt --library=/home/biocbuild/bbs-3.22-bioc/R/site-library --timings omada_1.11.0.tar.gz |
| StartedAt: 2025-10-25 02:19:09 -0400 (Sat, 25 Oct 2025) |
| EndedAt: 2025-10-25 02:33:19 -0400 (Sat, 25 Oct 2025) |
| EllapsedTime: 850.0 seconds |
| RetCode: 0 |
| Status: OK |
| CheckDir: omada.Rcheck |
| Warnings: 0 |
##############################################################################
##############################################################################
###
### Running command:
###
### /home/biocbuild/bbs-3.22-bioc/R/bin/R CMD check --install=check:omada.install-out.txt --library=/home/biocbuild/bbs-3.22-bioc/R/site-library --timings omada_1.11.0.tar.gz
###
##############################################################################
##############################################################################
* using log directory ‘/home/biocbuild/bbs-3.22-bioc/meat/omada.Rcheck’
* using R version 4.5.1 Patched (2025-08-23 r88802)
* using platform: x86_64-pc-linux-gnu
* R was compiled by
gcc (Ubuntu 13.3.0-6ubuntu2~24.04) 13.3.0
GNU Fortran (Ubuntu 13.3.0-6ubuntu2~24.04) 13.3.0
* running under: Ubuntu 24.04.3 LTS
* using session charset: UTF-8
* checking for file ‘omada/DESCRIPTION’ ... OK
* checking extension type ... Package
* this is package ‘omada’ version ‘1.11.0’
* package encoding: UTF-8
* checking package namespace information ... OK
* checking package dependencies ... INFO
Depends: includes the non-default packages:
'pdfCluster', 'kernlab', 'fpc', 'Rcpp', 'diceR', 'ggplot2',
'reshape', 'genieclust', 'clValid', 'glmnet', 'dplyr'
Adding so many packages to the search path is excessive and importing
selectively is preferable.
* checking if this is a source package ... OK
* checking if there is a namespace ... OK
* checking for hidden files and directories ... OK
* checking for portable file names ... OK
* checking for sufficient/correct file permissions ... OK
* checking whether package ‘omada’ can be installed ... OK
* checking installed package size ... OK
* checking package directory ... OK
* checking ‘build’ directory ... OK
* checking DESCRIPTION meta-information ... OK
* checking top-level files ... NOTE
File
LICENSE
is not mentioned in the DESCRIPTION file.
* checking for left-over files ... OK
* checking index information ... OK
* checking package subdirectories ... OK
* checking code files for non-ASCII characters ... OK
* checking R files for syntax errors ... OK
* checking whether the package can be loaded ... OK
* checking whether the package can be loaded with stated dependencies ... OK
* checking whether the package can be unloaded cleanly ... OK
* checking whether the namespace can be loaded with stated dependencies ... OK
* checking whether the namespace can be unloaded cleanly ... OK
* checking loading without being on the library search path ... OK
* checking dependencies in R code ... NOTE
Packages in Depends field not imported from:
‘Rcpp’ ‘dplyr’ ‘genieclust’ ‘glmnet’ ‘kernlab’ ‘reshape’
These packages need to be imported from (in the NAMESPACE file)
for when this namespace is loaded but not attached.
* checking S3 generic/method consistency ... OK
* checking replacement functions ... OK
* checking foreign function calls ... OK
* checking R code for possible problems ... NOTE
Index.15and28: no visible global function definition for ‘dist’
Index.15and28: no visible global function definition for ‘as.dist’
Index.sPlussMoins: no visible global function definition for ‘dist’
Index.sPlussMoins: no visible global function definition for ‘as.dist’
Index.sPlussMoins: no visible global function definition for ‘median’
Indice.cindex: no visible global function definition for ‘dist’
clusterVoting: no visible global function definition for ‘calinhara’
clusterVoting: no visible global function definition for
‘generalised_dunn_index’
clusterVoting: no visible global function definition for
‘silhouette_index’
clusterVoting: no visible global function definition for
‘negated_davies_bouldin_index’
clusterVoting: no visible binding for global variable ‘k’
clusterVoting: no visible binding for global variable ‘Frequency’
clusteringMethodSelection: no visible binding for global variable
‘value’
clusteringMethodSelection: no visible binding for global variable
‘methods’
featureSelection: no visible binding for global variable ‘featureSet’
featureSelection: no visible binding for global variable ‘means’
Undefined global functions or variables:
Frequency as.dist calinhara dist featureSet generalised_dunn_index k
means median methods negated_davies_bouldin_index silhouette_index
value
Consider adding
importFrom("stats", "as.dist", "dist", "median")
importFrom("utils", "methods")
to your NAMESPACE file.
* checking Rd files ... OK
* checking Rd metadata ... OK
* checking Rd cross-references ... OK
* checking for missing documentation entries ... OK
* checking for code/documentation mismatches ... OK
* checking Rd \usage sections ... OK
* checking Rd contents ... OK
* checking for unstated dependencies in examples ... OK
* checking contents of ‘data’ directory ... OK
* checking data for non-ASCII characters ... OK
* checking LazyData ... OK
* checking data for ASCII and uncompressed saves ... OK
* checking files in ‘vignettes’ ... OK
* checking examples ... OK
Examples with CPU (user + system) or elapsed time > 5s
user system elapsed
get_feature_selection_scores 42.373 0.054 42.426
get_feature_selection_optimal_number_of_features 41.635 0.085 41.718
plot_partition_agreement 33.013 0.017 33.029
get_cluster_voting_k_votes 29.822 0.107 29.932
get_feature_selection_optimal_features 28.841 0.109 28.950
get_partition_agreement_scores 28.654 0.013 28.669
plot_feature_selection 28.549 0.012 28.561
get_sample_memberships 28.163 0.071 28.296
get_cluster_voting_memberships 28.046 0.170 28.217
get_cluster_voting_metric_votes 28.023 0.106 28.129
get_cluster_voting_scores 27.613 0.039 27.650
plot_cluster_voting 22.196 0.013 22.209
omada 20.697 0.076 20.776
get_optimal_features 9.625 0.011 9.637
get_optimal_number_of_features 9.581 0.004 9.585
plot_average_stabilities 8.608 0.002 8.610
get_optimal_parameter_used 8.245 0.004 8.249
get_optimal_stability_score 7.965 0.006 7.971
featureSelection 6.576 0.080 6.656
get_optimal_memberships 6.597 0.011 6.607
* checking for unstated dependencies in ‘tests’ ... OK
* checking tests ...
Running ‘testthat.R’
OK
* checking for unstated dependencies in vignettes ... OK
* checking package vignettes ... OK
* checking re-building of vignette outputs ... OK
* checking PDF version of manual ... OK
* DONE
Status: 3 NOTEs
See
‘/home/biocbuild/bbs-3.22-bioc/meat/omada.Rcheck/00check.log’
for details.
omada.Rcheck/00install.out
############################################################################## ############################################################################## ### ### Running command: ### ### /home/biocbuild/bbs-3.22-bioc/R/bin/R CMD INSTALL omada ### ############################################################################## ############################################################################## * installing to library ‘/home/biocbuild/bbs-3.22-bioc/R/site-library’ * installing *source* package ‘omada’ ... ** this is package ‘omada’ version ‘1.11.0’ ** using staged installation ** R ** data *** moving datasets to lazyload DB ** inst ** byte-compile and prepare package for lazy loading ** help *** installing help indices ** building package indices ** installing vignettes ** testing if installed package can be loaded from temporary location ** testing if installed package can be loaded from final location ** testing if installed package keeps a record of temporary installation path * DONE (omada)
omada.Rcheck/tests/testthat.Rout
R version 4.5.1 Patched (2025-08-23 r88802) -- "Great Square Root"
Copyright (C) 2025 The R Foundation for Statistical Computing
Platform: x86_64-pc-linux-gnu
R is free software and comes with ABSOLUTELY NO WARRANTY.
You are welcome to redistribute it under certain conditions.
Type 'license()' or 'licence()' for distribution details.
R is a collaborative project with many contributors.
Type 'contributors()' for more information and
'citation()' on how to cite R or R packages in publications.
Type 'demo()' for some demos, 'help()' for on-line help, or
'help.start()' for an HTML browser interface to help.
Type 'q()' to quit R.
> library(testthat)
> library(omada)
Loading required package: pdfCluster
pdfCluster 1.0-4
Loading required package: kernlab
Loading required package: fpc
Loading required package: Rcpp
Loading required package: diceR
Loading required package: ggplot2
Attaching package: 'ggplot2'
The following object is masked from 'package:kernlab':
alpha
Loading required package: reshape
Loading required package: genieclust
Loading required package: clValid
Loading required package: cluster
Loading required package: glmnet
Loading required package: Matrix
Attaching package: 'Matrix'
The following object is masked from 'package:reshape':
expand
Loaded glmnet 4.1-10
Loading required package: dplyr
Attaching package: 'dplyr'
The following object is masked from 'package:reshape':
rename
The following object is masked from 'package:pdfCluster':
groups
The following object is masked from 'package:testthat':
matches
The following objects are masked from 'package:stats':
filter, lag
The following objects are masked from 'package:base':
intersect, setdiff, setequal, union
>
> test_check("omada")
[ FAIL 0 | WARN 1 | SKIP 0 | PASS 38 ]
[ FAIL 0 | WARN 1 | SKIP 0 | PASS 38 ]
>
> proc.time()
user system elapsed
103.748 1.102 113.460
omada.Rcheck/omada-Ex.timings
| name | user | system | elapsed | |
| clusterVoting | 3.440 | 0.072 | 3.512 | |
| clusteringMethodSelection | 1.253 | 0.010 | 1.264 | |
| feasibilityAnalysis | 1.138 | 0.002 | 1.140 | |
| feasibilityAnalysisDataBased | 3.455 | 0.083 | 3.538 | |
| featureSelection | 6.576 | 0.080 | 6.656 | |
| get_agreement_scores | 0.146 | 0.000 | 0.146 | |
| get_average_feature_k_stabilities | 4.471 | 0.052 | 4.523 | |
| get_average_stabilities_per_k | 0.768 | 0.016 | 0.785 | |
| get_average_stability | 0.783 | 0.001 | 0.784 | |
| get_cluster_memberships_k | 0.738 | 0.020 | 0.758 | |
| get_cluster_voting_k_votes | 29.822 | 0.107 | 29.932 | |
| get_cluster_voting_memberships | 28.046 | 0.170 | 28.217 | |
| get_cluster_voting_metric_votes | 28.023 | 0.106 | 28.129 | |
| get_cluster_voting_scores | 27.613 | 0.039 | 27.650 | |
| get_feature_selection_optimal_features | 28.841 | 0.109 | 28.950 | |
| get_feature_selection_optimal_number_of_features | 41.635 | 0.085 | 41.718 | |
| get_feature_selection_scores | 42.373 | 0.054 | 42.426 | |
| get_generated_dataset | 3.103 | 0.001 | 3.104 | |
| get_internal_metric_scores | 0.732 | 0.000 | 0.733 | |
| get_max_stability | 0.762 | 0.007 | 0.770 | |
| get_metric_votes_k | 0.711 | 0.028 | 0.740 | |
| get_optimal_features | 9.625 | 0.011 | 9.637 | |
| get_optimal_memberships | 6.597 | 0.011 | 6.607 | |
| get_optimal_number_of_features | 9.581 | 0.004 | 9.585 | |
| get_optimal_parameter_used | 8.245 | 0.004 | 8.249 | |
| get_optimal_stability_score | 7.965 | 0.006 | 7.971 | |
| get_partition_agreement_scores | 28.654 | 0.013 | 28.669 | |
| get_sample_memberships | 28.163 | 0.071 | 28.296 | |
| get_vote_frequencies_k | 1.258 | 0.003 | 1.261 | |
| omada | 20.697 | 0.076 | 20.776 | |
| optimalClustering | 0.080 | 0.001 | 0.081 | |
| partitionAgreement | 0.315 | 0.008 | 0.323 | |
| plot_average_stabilities | 8.608 | 0.002 | 8.610 | |
| plot_cluster_voting | 22.196 | 0.013 | 22.209 | |
| plot_feature_selection | 28.549 | 0.012 | 28.561 | |
| plot_partition_agreement | 33.013 | 0.017 | 33.029 | |
| plot_vote_frequencies | 1.186 | 0.001 | 1.187 | |
| toy_gene_memberships | 0.011 | 0.002 | 0.013 | |
| toy_genes | 0.000 | 0.001 | 0.001 | |