Back to Build/check report for BioC 3.23:   simplified   long
ABCDEFGHIJKL[M]NOPQRSTUVWXYZ

This page was generated on 2025-10-31 08:34 -0400 (Fri, 31 Oct 2025).

HostnameOSArch (*)R versionInstalled pkgs
nebbiolo1Linux (Ubuntu 24.04.3 LTS)x86_64R Under development (unstable) (2025-10-20 r88955) -- "Unsuffered Consequences" 4428
Click on any hostname to see more info about the system (e.g. compilers)      (*) as reported by 'uname -p', except on Windows and Mac OS X

Package 1415/2321HostnameOS / ArchINSTALLBUILDCHECKBUILD BIN
mzR 2.45.0  (landing page)
Steffen Neumann
Snapshot Date: 2025-10-30 13:40 -0400 (Thu, 30 Oct 2025)
git_url: https://git.bioconductor.org/packages/mzR
git_branch: devel
git_last_commit: b483816
git_last_commit_date: 2025-10-29 10:08:33 -0400 (Wed, 29 Oct 2025)
nebbiolo1Linux (Ubuntu 24.04.3 LTS) / x86_64  OK    OK    WARNINGS  YES


BUILD results for mzR on nebbiolo1

To the developers/maintainers of the mzR package:
- Allow up to 24 hours (and sometimes 48 hours) for your latest push to git@git.bioconductor.org:packages/mzR.git to reflect on this report. See Troubleshooting Build Report for more information.
- Use the following Renviron settings to reproduce errors and warnings.
- If 'R CMD check' started to fail recently on the Linux builder(s) over a missing dependency, add the missing dependency to 'Suggests:' in your DESCRIPTION file. See Renviron.bioc for more information.

raw results


Summary

Package: mzR
Version: 2.45.0
Command: /home/biocbuild/bbs-3.23-bioc/R/bin/R CMD build --keep-empty-dirs --no-resave-data mzR
StartedAt: 2025-10-30 18:09:47 -0400 (Thu, 30 Oct 2025)
EndedAt: 2025-10-30 18:18:18 -0400 (Thu, 30 Oct 2025)
EllapsedTime: 511.6 seconds
RetCode: 0
Status:   OK  
PackageFile: mzR_2.45.0.tar.gz
PackageFileSize: 7.376 MiB

Command output

##############################################################################
##############################################################################
###
### Running command:
###
###   /home/biocbuild/bbs-3.23-bioc/R/bin/R CMD build --keep-empty-dirs --no-resave-data mzR
###
##############################################################################
##############################################################################


* checking for file ‘mzR/DESCRIPTION’ ... OK
* preparing ‘mzR’:
* checking DESCRIPTION meta-information ... OK
* cleaning src
* running ‘cleanup’
* installing the package (it is needed to build vignettes)
* creating vignettes ... OK
* cleaning src
* running ‘cleanup’
* checking for LF line-endings in source and make files and shell scripts
* checking for empty or unneeded directories
* building ‘mzR_2.45.0.tar.gz’