| Back to Build/check report for BioC 3.22: simplified long | 
 | 
This page was generated on 2025-10-27 12:45 -0400 (Mon, 27 Oct 2025).
| Hostname | OS | Arch (*) | R version | Installed pkgs | 
|---|---|---|---|---|
| kjohnson3 | macOS 13.7.7 Ventura | arm64 | 4.5.1 Patched (2025-09-10 r88807) -- "Great Square Root" | 4637 | 
| Click on any hostname to see more info about the system (e.g. compilers) (*) as reported by 'uname -p', except on Windows and Mac OS X | ||||
| Package 1422/2361 | Hostname | OS / Arch | INSTALL | BUILD | CHECK | BUILD BIN | ||||||||
| multistateQTL 2.1.2  (landing page) Amelia Dunstone 
 | kjohnson3 | macOS 13.7.7 Ventura / arm64 | OK | OK | OK | OK |  | |||||||
| To the developers/maintainers of the multistateQTL package: - Allow up to 24 hours (and sometimes 48 hours) for your latest push to git@git.bioconductor.org:packages/multistateQTL.git to reflect on this report. See Troubleshooting Build Report for more information. - Use the following Renviron settings to reproduce errors and warnings. - If 'R CMD check' started to fail recently on the Linux builder(s) over a missing dependency, add the missing dependency to 'Suggests:' in your DESCRIPTION file. See Renviron.bioc for more information. | 
| Package: multistateQTL | 
| Version: 2.1.2 | 
| Command: rm -rf multistateQTL.buildbin-libdir && mkdir multistateQTL.buildbin-libdir && /Users/biocbuild/BBS/utils/build-universal.sh multistateQTL_2.1.2.tar.gz /Library/Frameworks/R.framework/Resources/bin/R multistateQTL.buildbin-libdir | 
| StartedAt: 2025-10-26 22:42:32 -0400 (Sun, 26 Oct 2025) | 
| EndedAt: 2025-10-26 22:42:45 -0400 (Sun, 26 Oct 2025) | 
| EllapsedTime: 12.3 seconds | 
| RetCode: 0 | 
| Status: OK | 
| PackageFile: multistateQTL_2.1.2.tgz | 
| PackageFileSize: 937.9 KiB | 
############################################################################## ############################################################################## ### ### Running command: ### ### rm -rf multistateQTL.buildbin-libdir && mkdir multistateQTL.buildbin-libdir && /Users/biocbuild/BBS/utils/build-universal.sh multistateQTL_2.1.2.tar.gz /Library/Frameworks/R.framework/Resources/bin/R multistateQTL.buildbin-libdir ### ############################################################################## ############################################################################## >>>>>>> >>>>>>> INSTALLATION WITH 'R CMD INSTALL --preclean --no-multiarch --library=multistateQTL.buildbin-libdir multistateQTL_2.1.2.tar.gz' >>>>>>> * installing *source* package ‘multistateQTL’ ... ** this is package ‘multistateQTL’ version ‘2.1.2’ ** using staged installation ** R ** inst ** byte-compile and prepare package for lazy loading ** help *** installing help indices ** building package indices ** installing vignettes ** testing if installed package can be loaded from temporary location ** testing if installed package can be loaded from final location ** testing if installed package keeps a record of temporary installation path * DONE (multistateQTL)