Back to Build/check report for BioC 3.23:   simplified   long
ABCDEFGHIJKL[M]NOPQRSTUVWXYZ

This page was generated on 2025-11-06 11:32 -0500 (Thu, 06 Nov 2025).

HostnameOSArch (*)R versionInstalled pkgs
nebbiolo1Linux (Ubuntu 24.04.3 LTS)x86_64R Under development (unstable) (2025-10-20 r88955) -- "Unsuffered Consequences" 4818
Click on any hostname to see more info about the system (e.g. compilers)      (*) as reported by 'uname -p', except on Windows and Mac OS X

Package 1310/2323HostnameOS / ArchINSTALLBUILDCHECKBUILD BIN
mitoClone2 1.17.0  (landing page)
Benjamin Story
Snapshot Date: 2025-11-05 13:40 -0500 (Wed, 05 Nov 2025)
git_url: https://git.bioconductor.org/packages/mitoClone2
git_branch: devel
git_last_commit: 0ee32de
git_last_commit_date: 2025-10-29 11:11:00 -0500 (Wed, 29 Oct 2025)
nebbiolo1Linux (Ubuntu 24.04.3 LTS) / x86_64  OK    OK    WARNINGS  UNNEEDED, same version is already published


BUILD results for mitoClone2 on nebbiolo1

To the developers/maintainers of the mitoClone2 package:
- Allow up to 24 hours (and sometimes 48 hours) for your latest push to git@git.bioconductor.org:packages/mitoClone2.git to reflect on this report. See Troubleshooting Build Report for more information.
- Use the following Renviron settings to reproduce errors and warnings.
- If 'R CMD check' started to fail recently on the Linux builder(s) over a missing dependency, add the missing dependency to 'Suggests:' in your DESCRIPTION file. See Renviron.bioc for more information.

raw results


Summary

Package: mitoClone2
Version: 1.17.0
Command: /home/biocbuild/bbs-3.23-bioc/R/bin/R CMD build --keep-empty-dirs --no-resave-data mitoClone2
StartedAt: 2025-11-05 18:44:58 -0500 (Wed, 05 Nov 2025)
EndedAt: 2025-11-05 18:49:39 -0500 (Wed, 05 Nov 2025)
EllapsedTime: 281.2 seconds
RetCode: 0
Status:   OK  
PackageFile: mitoClone2_1.17.0.tar.gz
PackageFileSize: 1.447 MiB

Command output

##############################################################################
##############################################################################
###
### Running command:
###
###   /home/biocbuild/bbs-3.23-bioc/R/bin/R CMD build --keep-empty-dirs --no-resave-data mitoClone2
###
##############################################################################
##############################################################################


* checking for file ‘mitoClone2/DESCRIPTION’ ... OK
* preparing ‘mitoClone2’:
* checking DESCRIPTION meta-information ... OK
* cleaning src
* installing the package (it is needed to build vignettes)
* creating vignettes ... OK
* cleaning src
* checking for LF line-endings in source and make files and shell scripts
* checking for empty or unneeded directories
* looking to see if a ‘data/datalist’ file should be added
* building ‘mitoClone2_1.17.0.tar.gz’