Back to Multiple platform build/check report for BioC 3.22:   simplified   long
ABCDEFGHIJKL[M]NOPQRSTUVWXYZ

This page was generated on 2025-10-30 12:36 -0400 (Thu, 30 Oct 2025).

HostnameOSArch (*)R versionInstalled pkgs
nebbiolo2Linux (Ubuntu 24.04.3 LTS)x86_644.5.1 Patched (2025-08-23 r88802) -- "Great Square Root" 4901
lconwaymacOS 12.7.6 Montereyx86_644.5.1 Patched (2025-09-10 r88807) -- "Great Square Root" 4691
kjohnson3macOS 13.7.7 Venturaarm644.5.1 Patched (2025-09-10 r88807) -- "Great Square Root" 4637
Click on any hostname to see more info about the system (e.g. compilers)      (*) as reported by 'uname -p', except on Windows and Mac OS X

Package 1329/2361HostnameOS / ArchINSTALLBUILDCHECKBUILD BIN
mistyR 1.18.0  (landing page)
Jovan Tanevski
Snapshot Date: 2025-10-29 19:52 -0400 (Wed, 29 Oct 2025)
git_url: https://git.bioconductor.org/packages/mistyR
git_branch: RELEASE_3_22
git_last_commit: 1401996
git_last_commit_date: 2025-10-29 11:09:54 -0400 (Wed, 29 Oct 2025)
nebbiolo2Linux (Ubuntu 24.04.3 LTS) / x86_64  OK    OK    OK  UNNEEDED, same version is already published
lconwaymacOS 12.7.6 Monterey / x86_64  OK    OK    OK    OK  UNNEEDED, same version is already published
kjohnson3macOS 13.7.7 Ventura / arm64  OK    OK    ERROR    OK  


CHECK results for mistyR on lconway

To the developers/maintainers of the mistyR package:
- Allow up to 24 hours (and sometimes 48 hours) for your latest push to git@git.bioconductor.org:packages/mistyR.git to reflect on this report. See Troubleshooting Build Report for more information.
- Use the following Renviron settings to reproduce errors and warnings.
- If 'R CMD check' started to fail recently on the Linux builder(s) over a missing dependency, add the missing dependency to 'Suggests:' in your DESCRIPTION file. See Renviron.bioc for more information.

raw results


Summary

Package: mistyR
Version: 1.18.0
Command: /Library/Frameworks/R.framework/Resources/bin/R CMD check --install=check:mistyR.install-out.txt --library=/Library/Frameworks/R.framework/Resources/library --no-vignettes --timings mistyR_1.18.0.tar.gz
StartedAt: 2025-10-30 05:15:42 -0400 (Thu, 30 Oct 2025)
EndedAt: 2025-10-30 05:30:10 -0400 (Thu, 30 Oct 2025)
EllapsedTime: 867.6 seconds
RetCode: 0
Status:   OK  
CheckDir: mistyR.Rcheck
Warnings: 0

Command output

##############################################################################
##############################################################################
###
### Running command:
###
###   /Library/Frameworks/R.framework/Resources/bin/R CMD check --install=check:mistyR.install-out.txt --library=/Library/Frameworks/R.framework/Resources/library --no-vignettes --timings mistyR_1.18.0.tar.gz
###
##############################################################################
##############################################################################


* using log directory ‘/Users/biocbuild/bbs-3.22-bioc/meat/mistyR.Rcheck’
* using R version 4.5.1 Patched (2025-09-10 r88807)
* using platform: x86_64-apple-darwin20
* R was compiled by
    Apple clang version 14.0.0 (clang-1400.0.29.202)
    GNU Fortran (GCC) 14.2.0
* running under: macOS Monterey 12.7.6
* using session charset: UTF-8
* using option ‘--no-vignettes’
* checking for file ‘mistyR/DESCRIPTION’ ... OK
* checking extension type ... Package
* this is package ‘mistyR’ version ‘1.18.0’
* package encoding: UTF-8
* checking package namespace information ... OK
* checking package dependencies ... INFO
Imports includes 21 non-default packages.
Importing from so many packages makes the package vulnerable to any of
them becoming unavailable.  Move as many as possible to Suggests and
use conditionally.
* checking if this is a source package ... OK
* checking if there is a namespace ... OK
* checking for hidden files and directories ... OK
* checking for portable file names ... OK
* checking for sufficient/correct file permissions ... OK
* checking whether package ‘mistyR’ can be installed ... OK
* checking installed package size ... OK
* checking package directory ... OK
* checking ‘build’ directory ... OK
* checking DESCRIPTION meta-information ... OK
* checking top-level files ... OK
* checking for left-over files ... OK
* checking index information ... OK
* checking package subdirectories ... OK
* checking code files for non-ASCII characters ... OK
* checking R files for syntax errors ... OK
* checking whether the package can be loaded ... OK
* checking whether the package can be loaded with stated dependencies ... OK
* checking whether the package can be unloaded cleanly ... OK
* checking whether the namespace can be loaded with stated dependencies ... OK
* checking whether the namespace can be unloaded cleanly ... OK
* checking whether startup messages can be suppressed ... OK
* checking dependencies in R code ... OK
* checking S3 generic/method consistency ... OK
* checking replacement functions ... OK
* checking foreign function calls ... OK
* checking R code for possible problems ... NOTE
aggregate_results: no visible binding for global variable ‘measure’
aggregate_results: no visible binding for global variable ‘target’
aggregate_results: no visible binding for global variable ‘value’
aggregate_results: no visible binding for global variable ‘sd’
aggregate_results: no visible binding for global variable ‘view’
aggregate_results: no visible binding for global variable ‘.PT’
aggregate_results: no visible binding for global variable ‘Importance’
aggregate_results_subset: no visible binding for global variable ‘view’
aggregate_results_subset: no visible binding for global variable ‘.PT’
aggregate_results_subset: no visible binding for global variable
  ‘Importance’
bagged_mars_model: no visible binding for global variable ‘index’
bagged_mars_model: no visible binding for global variable ‘prediction’
collect_results : <anonymous>: no visible binding for global variable
  ‘intra.RMSE’
collect_results : <anonymous>: no visible binding for global variable
  ‘multi.RMSE’
collect_results : <anonymous>: no visible binding for global variable
  ‘multi.R2’
collect_results : <anonymous>: no visible binding for global variable
  ‘intra.R2’
collect_results: no visible binding for global variable ‘target’
collect_results : <anonymous>: no visible binding for global variable
  ‘target’
collect_results : <anonymous>: no visible binding for global variable
  ‘view’
collect_results : <anonymous> : <anonymous>: no visible binding for
  global variable ‘value’
collect_results : <anonymous> : <anonymous>: no visible binding for
  global variable ‘Predictor’
collect_results : <anonymous> : <anonymous>: no visible binding for
  global variable ‘Importance’
extract_signature: no visible binding for global variable ‘measure’
extract_signature: no visible binding for global variable ‘target’
extract_signature: no visible binding for global variable ‘ts’
extract_signature: no visible binding for global variable ‘view’
extract_signature: no visible binding for global variable ‘value’
extract_signature : <anonymous>: no visible binding for global variable
  ‘Importance’
extract_signature : <anonymous>: no visible binding for global variable
  ‘Target’
extract_signature : <anonymous>: no visible binding for global variable
  ‘ts’
extract_signature : <anonymous>: no visible binding for global variable
  ‘Predictor’
gradient_boosting_model: no visible binding for global variable ‘index’
linear_model: no visible binding for global variable ‘index’
mars_model: no visible binding for global variable ‘index’
mlp_model: no visible binding for global variable ‘index’
plot_contrast_heatmap: no visible binding for global variable ‘view’
plot_contrast_heatmap: no visible binding for global variable ‘measure’
plot_contrast_heatmap: no visible binding for global variable ‘target’
plot_contrast_heatmap: no visible binding for global variable ‘Target’
plot_contrast_heatmap: no visible binding for global variable
  ‘nsamples’
plot_contrast_heatmap: no visible binding for global variable
  ‘Predictor’
plot_contrast_heatmap: no visible binding for global variable
  ‘Importance’
plot_contrast_results: no visible binding for global variable ‘view’
plot_contrast_results : <anonymous>: no visible binding for global
  variable ‘view’
plot_contrast_results : <anonymous>: no visible binding for global
  variable ‘Predictor’
plot_contrast_results : <anonymous>: no visible binding for global
  variable ‘Target’
plot_contrast_results: no visible binding for global variable ‘measure’
plot_contrast_results: no visible binding for global variable ‘target’
plot_contrast_results : <anonymous>: no visible binding for global
  variable ‘nsamples’
plot_contrast_results : <anonymous>: no visible binding for global
  variable ‘Importance’
plot_improvement_stats: no visible binding for global variable ‘target’
plot_improvement_stats: no visible binding for global variable ‘sd’
plot_interaction_communities: no visible binding for global variable
  ‘nsamples’
plot_interaction_communities: no visible binding for global variable
  ‘Predictor’
plot_interaction_heatmap: no visible binding for global variable
  ‘measure’
plot_interaction_heatmap: no visible binding for global variable
  ‘target’
plot_interaction_heatmap: no visible binding for global variable
  ‘Target’
plot_interaction_heatmap: no visible binding for global variable
  ‘Importance’
plot_interaction_heatmap: no visible binding for global variable
  ‘Predictor’
plot_interaction_heatmap: no visible binding for global variable
  ‘total’
plot_view_contributions: no visible binding for global variable
  ‘measure’
plot_view_contributions: no visible binding for global variable
  ‘target’
plot_view_contributions: no visible binding for global variable
  ‘fraction’
plot_view_contributions: no visible binding for global variable ‘view’
run_misty : <anonymous>: no visible binding for global variable ‘p’
run_misty : <anonymous>: no visible binding for global variable
  ‘intra.RMSE’
run_misty : <anonymous>: no visible binding for global variable
  ‘multi.RMSE’
run_misty : <anonymous>: no visible binding for global variable
  ‘intra.R2’
run_misty : <anonymous>: no visible binding for global variable
  ‘multi.R2’
svm_model: no visible binding for global variable ‘index’
Undefined global functions or variables:
  .PT Importance Predictor Target fraction index intra.R2 intra.RMSE
  measure multi.R2 multi.RMSE nsamples p prediction sd target total ts
  value view
Consider adding
  importFrom("stats", "sd", "ts")
to your NAMESPACE file.
* checking Rd files ... NOTE
checkRd: (-1) collect_results.Rd:32: Lost braces; missing escapes or markup?
    32 |             for all performance measures for each {target} over all samples.}
       |                                                   ^
* checking Rd metadata ... OK
* checking Rd cross-references ... OK
* checking for missing documentation entries ... OK
* checking for code/documentation mismatches ... OK
* checking Rd \usage sections ... OK
* checking Rd contents ... OK
* checking for unstated dependencies in examples ... OK
* checking contents of ‘data’ directory ... OK
* checking data for non-ASCII characters ... OK
* checking data for ASCII and uncompressed saves ... OK
* checking files in ‘vignettes’ ... OK
* checking examples ... OK
Examples with CPU (user + system) or elapsed time > 5s
                          user system elapsed
collect_results        157.304 29.974 188.322
reexports               54.117 13.126  67.625
run_misty               52.066 11.008  63.356
remove_views            29.487 10.727  40.533
add_paraview            26.525  5.738  32.467
add_juxtaview            6.867  0.634   7.535
plot_improvement_stats   6.841  0.354   6.990
plot_contrast_results    4.907  0.238   5.040
create_view              5.117  0.019   5.142
* checking for unstated dependencies in ‘tests’ ... OK
* checking tests ...
  Running ‘testthat.R’
 OK
* checking for unstated dependencies in vignettes ... OK
* checking package vignettes ... OK
* checking running R code from vignettes ... SKIPPED
* checking re-building of vignette outputs ... SKIPPED
* checking PDF version of manual ... OK
* DONE

Status: 2 NOTEs
See
  ‘/Users/biocbuild/bbs-3.22-bioc/meat/mistyR.Rcheck/00check.log’
for details.


Installation output

mistyR.Rcheck/00install.out

##############################################################################
##############################################################################
###
### Running command:
###
###   /Library/Frameworks/R.framework/Resources/bin/R CMD INSTALL mistyR
###
##############################################################################
##############################################################################


* installing to library ‘/Library/Frameworks/R.framework/Versions/4.5-x86_64/Resources/library’
* installing *source* package ‘mistyR’ ...
** this is package ‘mistyR’ version ‘1.18.0’
** using staged installation
** R
** data
** inst
** byte-compile and prepare package for lazy loading
** help
*** installing help indices
** building package indices
** installing vignettes
** testing if installed package can be loaded from temporary location
** testing if installed package can be loaded from final location
** testing if installed package keeps a record of temporary installation path
* DONE (mistyR)

Tests output

mistyR.Rcheck/tests/testthat.Rout


R version 4.5.1 Patched (2025-09-10 r88807) -- "Great Square Root"
Copyright (C) 2025 The R Foundation for Statistical Computing
Platform: x86_64-apple-darwin20

R is free software and comes with ABSOLUTELY NO WARRANTY.
You are welcome to redistribute it under certain conditions.
Type 'license()' or 'licence()' for distribution details.

R is a collaborative project with many contributors.
Type 'contributors()' for more information and
'citation()' on how to cite R or R packages in publications.

Type 'demo()' for some demos, 'help()' for on-line help, or
'help.start()' for an HTML browser interface to help.
Type 'q()' to quit R.

> library(testthat)
> library(mistyR)
mistyR is able to run computationally intensive functions
  in parallel. Please consider specifying a future::plan(). For example by running
  future::plan(future::multisession) before calling mistyR functions.
> 
> test_check("mistyR")

Generating paraview

Training models

Training models

Training models

Training models

Training models

Training models

Collecting improvements

Collecting contributions

Collecting importances

Aggregating

Collecting improvements

Collecting contributions

Collecting importances

Aggregating

Training models

Training models

Training models

Training models

Collecting improvements

Collecting contributions

Collecting importances

Aggregating

Training models

Collecting improvements

Collecting contributions

Collecting importances

Aggregating

Training models

Collecting improvements

Collecting contributions

Collecting importances

Aggregating

Training models

Collecting improvements

Collecting contributions

Collecting importances

Aggregating

Training models

Collecting improvements

Collecting contributions

Collecting importances

Aggregating

Training models

Collecting improvements

Collecting contributions

Collecting importances

Aggregating

Training models

Collecting improvements

Collecting contributions

Collecting importances

Aggregating

Generating paraview

Training models

Generating paraview

Training models

Training models

Training models

Training models

Training models

Training models

Training models

Training models

Training models

Training models

Training models

Training models

Training models

Training models

Training models

Training models

Training models

Training models

Training models

Training models

Training models

Training models

Training models

Training models

Training models

Training models

Training models

Training models

Training models

Training models

Training models

Training models

Training models

Training models

Collecting improvements

Collecting contributions

Collecting importances

Aggregating

Training models

Collecting improvements

Collecting contributions

Collecting importances

Aggregating

Training models

Collecting improvements

Collecting contributions

Collecting importances

Aggregating

Training models

Collecting improvements

Collecting contributions

Collecting importances

Aggregating

Training models

Collecting improvements

Collecting contributions

Collecting importances

Aggregating

Training models

Collecting improvements

Collecting contributions

Collecting importances

Aggregating

Training models

Collecting improvements

Collecting contributions

Collecting importances

Aggregating

Generating paraview

Training models

Training models

Training models

Training models

Training models

Training models

Training models

Training models

Training models

Training models

Training models

Training models

Training models

Training models

Training models

Training models

Training models

Training models

Training models

Training models

Training models

Generating paraview

Training models

Collecting improvements

Collecting contributions

Collecting importances

Aggregating

Generating paraview

Training models

Collecting improvements

Collecting contributions

Collecting importances

Aggregating

Generating paraview

Generating paraview

Training models

Generating paraview

Training models

Generating paraview

Training models

Collecting improvements

Collecting contributions

Collecting importances

Aggregating
Aggregating subset

Generating paraview

Training models

Generating paraview

Training models

Generating paraview

Training models

Collecting improvements

Collecting contributions

Collecting importances

Aggregating

Computing triangulation

Generating juxtaview

Generating paraview

Generating paraview using 20 nearest neighbors per unit

Approximating RBF matrix using the Nystrom method

Computing triangulation

Generating juxtaview

Generating paraview

Computing triangulation

Generating juxtaview

Generating paraview

Computing triangulation

Generating paraview

Generating paraview

Generating paraview using 2 nearest neighbors per unit

Generating paraview

Generating paraview
[ FAIL 0 | WARN 4 | SKIP 0 | PASS 173 ]

[ FAIL 0 | WARN 4 | SKIP 0 | PASS 173 ]
> 
> proc.time()
   user  system elapsed 
378.260   5.045 383.309 

Example timings

mistyR.Rcheck/mistyR-Ex.timings

nameusersystemelapsed
add_juxtaview6.8670.6347.535
add_paraview26.525 5.73832.467
add_views0.0110.0070.018
clear_cache0.0020.0000.002
collect_results157.304 29.974188.322
create_initial_view0.5220.0150.539
create_view5.1170.0195.142
extract_signature3.1360.2203.255
filter_views1.2320.0151.254
plot_contrast_heatmap4.1710.1904.261
plot_contrast_results4.9070.2385.040
plot_improvement_stats6.8410.3546.990
plot_interaction_communities3.2360.1853.321
plot_interaction_heatmap3.5590.1743.631
plot_view_contributions3.5280.1763.601
reexports54.11713.12667.625
remove_views29.48710.72740.533
rename_view0.0120.0010.013
run_misty52.06611.00863.356
select_markers0.4330.0080.442