Back to Build/check report for BioC 3.23:   simplified   long
ABCDEFGHIJKL[M]NOPQRSTUVWXYZ

This page was generated on 2025-10-31 08:34 -0400 (Fri, 31 Oct 2025).

HostnameOSArch (*)R versionInstalled pkgs
nebbiolo1Linux (Ubuntu 24.04.3 LTS)x86_64R Under development (unstable) (2025-10-20 r88955) -- "Unsuffered Consequences" 4428
Click on any hostname to see more info about the system (e.g. compilers)      (*) as reported by 'uname -p', except on Windows and Mac OS X

Package 1298/2321HostnameOS / ArchINSTALLBUILDCHECKBUILD BIN
miRNAmeConverter 1.39.0  (landing page)
Stefan J. Haunsberger
Snapshot Date: 2025-10-30 13:40 -0400 (Thu, 30 Oct 2025)
git_url: https://git.bioconductor.org/packages/miRNAmeConverter
git_branch: devel
git_last_commit: 6f9e554
git_last_commit_date: 2025-10-29 10:30:37 -0400 (Wed, 29 Oct 2025)
nebbiolo1Linux (Ubuntu 24.04.3 LTS) / x86_64  ERROR    OK    ERROR  


INSTALL results for miRNAmeConverter on nebbiolo1

To the developers/maintainers of the miRNAmeConverter package:
- Allow up to 24 hours (and sometimes 48 hours) for your latest push to git@git.bioconductor.org:packages/miRNAmeConverter.git to reflect on this report. See Troubleshooting Build Report for more information.
- Use the following Renviron settings to reproduce errors and warnings.
- If 'R CMD check' started to fail recently on the Linux builder(s) over a missing dependency, add the missing dependency to 'Suggests:' in your DESCRIPTION file. See Renviron.bioc for more information.

raw results


Summary

Package: miRNAmeConverter
Version: 1.39.0
Command: /home/biocbuild/bbs-3.23-bioc/R/bin/R CMD INSTALL miRNAmeConverter
StartedAt: 2025-10-30 15:58:38 -0400 (Thu, 30 Oct 2025)
EndedAt: 2025-10-30 15:58:38 -0400 (Thu, 30 Oct 2025)
EllapsedTime: 0.4 seconds
RetCode: 1
Status:   ERROR  

Command output

##############################################################################
##############################################################################
###
### Running command:
###
###   /home/biocbuild/bbs-3.23-bioc/R/bin/R CMD INSTALL miRNAmeConverter
###
##############################################################################
##############################################################################


* installing to library ‘/home/biocbuild/bbs-3.23-bioc/R/site-library’
ERROR: dependency ‘miRBaseVersions.db’ is not available for package ‘miRNAmeConverter’
Perhaps try a variation of:
install.packages('miRBaseVersions.db')
* removing ‘/home/biocbuild/bbs-3.23-bioc/R/site-library/miRNAmeConverter’