| Back to Multiple platform build/check report for BioC 3.22: simplified long |
|
This page was generated on 2025-10-28 12:04 -0400 (Tue, 28 Oct 2025).
| Hostname | OS | Arch (*) | R version | Installed pkgs |
|---|---|---|---|---|
| nebbiolo2 | Linux (Ubuntu 24.04.3 LTS) | x86_64 | 4.5.1 Patched (2025-08-23 r88802) -- "Great Square Root" | 4901 |
| lconway | macOS 12.7.6 Monterey | x86_64 | 4.5.1 Patched (2025-09-10 r88807) -- "Great Square Root" | 4691 |
| kjohnson3 | macOS 13.7.7 Ventura | arm64 | 4.5.1 Patched (2025-09-10 r88807) -- "Great Square Root" | 4637 |
| Click on any hostname to see more info about the system (e.g. compilers) (*) as reported by 'uname -p', except on Windows and Mac OS X | ||||
| Package 1237/2361 | Hostname | OS / Arch | INSTALL | BUILD | CHECK | BUILD BIN | ||||||||
| metabCombiner 1.19.0 (landing page) Hani Habra
| nebbiolo2 | Linux (Ubuntu 24.04.3 LTS) / x86_64 | OK | OK | OK | |||||||||
| lconway | macOS 12.7.6 Monterey / x86_64 | OK | OK | OK | OK | |||||||||
| kjohnson3 | macOS 13.7.7 Ventura / arm64 | OK | OK | OK | OK | |||||||||
|
To the developers/maintainers of the metabCombiner package: - Allow up to 24 hours (and sometimes 48 hours) for your latest push to git@git.bioconductor.org:packages/metabCombiner.git to reflect on this report. See Troubleshooting Build Report for more information. - Use the following Renviron settings to reproduce errors and warnings. - If 'R CMD check' started to fail recently on the Linux builder(s) over a missing dependency, add the missing dependency to 'Suggests:' in your DESCRIPTION file. See Renviron.bioc for more information. |
| Package: metabCombiner |
| Version: 1.19.0 |
| Command: /Library/Frameworks/R.framework/Resources/bin/R CMD check --install=check:metabCombiner.install-out.txt --library=/Library/Frameworks/R.framework/Resources/library --no-vignettes --timings metabCombiner_1.19.0.tar.gz |
| StartedAt: 2025-10-27 22:48:29 -0400 (Mon, 27 Oct 2025) |
| EndedAt: 2025-10-27 22:51:12 -0400 (Mon, 27 Oct 2025) |
| EllapsedTime: 163.3 seconds |
| RetCode: 0 |
| Status: OK |
| CheckDir: metabCombiner.Rcheck |
| Warnings: 0 |
##############################################################################
##############################################################################
###
### Running command:
###
### /Library/Frameworks/R.framework/Resources/bin/R CMD check --install=check:metabCombiner.install-out.txt --library=/Library/Frameworks/R.framework/Resources/library --no-vignettes --timings metabCombiner_1.19.0.tar.gz
###
##############################################################################
##############################################################################
* using log directory ‘/Users/biocbuild/bbs-3.22-bioc/meat/metabCombiner.Rcheck’
* using R version 4.5.1 Patched (2025-09-10 r88807)
* using platform: x86_64-apple-darwin20
* R was compiled by
Apple clang version 14.0.0 (clang-1400.0.29.202)
GNU Fortran (GCC) 14.2.0
* running under: macOS Monterey 12.7.6
* using session charset: UTF-8
* using option ‘--no-vignettes’
* checking for file ‘metabCombiner/DESCRIPTION’ ... OK
* this is package ‘metabCombiner’ version ‘1.19.0’
* package encoding: UTF-8
* checking package namespace information ... OK
* checking package dependencies ... OK
* checking if this is a source package ... OK
* checking if there is a namespace ... OK
* checking for hidden files and directories ... OK
* checking for portable file names ... OK
* checking for sufficient/correct file permissions ... OK
* checking whether package ‘metabCombiner’ can be installed ... OK
* used C compiler: ‘Apple clang version 14.0.0 (clang-1400.0.29.202)’
* used SDK: ‘MacOSX11.3.1.sdk’
* checking installed package size ... OK
* checking package directory ... OK
* checking ‘build’ directory ... OK
* checking DESCRIPTION meta-information ... OK
* checking top-level files ... OK
* checking for left-over files ... OK
* checking index information ... OK
* checking package subdirectories ... OK
* checking code files for non-ASCII characters ... OK
* checking R files for syntax errors ... OK
* checking whether the package can be loaded ... OK
* checking whether the package can be loaded with stated dependencies ... OK
* checking whether the package can be unloaded cleanly ... OK
* checking whether the namespace can be loaded with stated dependencies ... OK
* checking whether the namespace can be unloaded cleanly ... OK
* checking whether startup messages can be suppressed ... OK
* checking dependencies in R code ... OK
* checking S3 generic/method consistency ... OK
* checking replacement functions ... OK
* checking foreign function calls ... OK
* checking R code for possible problems ... OK
* checking Rd files ... NOTE
checkRd: (-1) combineData.Rd:22: Lost braces
22 | (quasi)merge of the /code{/link{combinedTable}} and /code{/link{featData}}
| ^
checkRd: (-1) combineData.Rd:22: Lost braces
22 | (quasi)merge of the /code{/link{combinedTable}} and /code{/link{featData}}
| ^
checkRd: (-1) combineData.Rd:22: Lost braces
22 | (quasi)merge of the /code{/link{combinedTable}} and /code{/link{featData}}
| ^
checkRd: (-1) combineData.Rd:22: Lost braces
22 | (quasi)merge of the /code{/link{combinedTable}} and /code{/link{featData}}
| ^
* checking Rd metadata ... OK
* checking Rd cross-references ... OK
* checking for missing documentation entries ... OK
* checking for code/documentation mismatches ... OK
* checking Rd \usage sections ... OK
* checking Rd contents ... OK
* checking for unstated dependencies in examples ... OK
* checking contents of ‘data’ directory ... OK
* checking data for non-ASCII characters ... OK
* checking data for ASCII and uncompressed saves ... OK
* checking line endings in C/C++/Fortran sources/headers ... OK
* checking compiled code ... NOTE
Note: information on .o files is not available
* checking files in ‘vignettes’ ... OK
* checking examples ... OK
* checking for unstated dependencies in ‘tests’ ... OK
* checking tests ...
Running ‘testthat.R’
OK
* checking for unstated dependencies in vignettes ... OK
* checking package vignettes ... OK
* checking running R code from vignettes ... SKIPPED
* checking re-building of vignette outputs ... SKIPPED
* checking PDF version of manual ... OK
* DONE
Status: 2 NOTEs
See
‘/Users/biocbuild/bbs-3.22-bioc/meat/metabCombiner.Rcheck/00check.log’
for details.
metabCombiner.Rcheck/00install.out
############################################################################## ############################################################################## ### ### Running command: ### ### /Library/Frameworks/R.framework/Resources/bin/R CMD INSTALL metabCombiner ### ############################################################################## ############################################################################## * installing to library ‘/Library/Frameworks/R.framework/Versions/4.5-x86_64/Resources/library’ * installing *source* package ‘metabCombiner’ ... ** this is package ‘metabCombiner’ version ‘1.19.0’ ** using staged installation ** libs using C compiler: ‘Apple clang version 14.0.0 (clang-1400.0.29.202)’ using SDK: ‘MacOSX11.3.1.sdk’ clang -arch x86_64 -I"/Library/Frameworks/R.framework/Resources/include" -DNDEBUG -I/opt/R/x86_64/include -fPIC -falign-functions=64 -Wall -g -O2 -c binByMZ.c -o binByMZ.o clang -arch x86_64 -I"/Library/Frameworks/R.framework/Resources/include" -DNDEBUG -I/opt/R/x86_64/include -fPIC -falign-functions=64 -Wall -g -O2 -c duplicates.c -o duplicates.o clang -arch x86_64 -I"/Library/Frameworks/R.framework/Resources/include" -DNDEBUG -I/opt/R/x86_64/include -fPIC -falign-functions=64 -Wall -g -O2 -c labelRows.c -o labelRows.o clang -arch x86_64 -I"/Library/Frameworks/R.framework/Resources/include" -DNDEBUG -I/opt/R/x86_64/include -fPIC -falign-functions=64 -Wall -g -O2 -c metabCombiner_init.c -o metabCombiner_init.o clang -arch x86_64 -I"/Library/Frameworks/R.framework/Resources/include" -DNDEBUG -I/opt/R/x86_64/include -fPIC -falign-functions=64 -Wall -g -O2 -c resolveRows.c -o resolveRows.o clang -arch x86_64 -I"/Library/Frameworks/R.framework/Resources/include" -DNDEBUG -I/opt/R/x86_64/include -fPIC -falign-functions=64 -Wall -g -O2 -c selectAnchors.c -o selectAnchors.o clang -arch x86_64 -I"/Library/Frameworks/R.framework/Resources/include" -DNDEBUG -I/opt/R/x86_64/include -fPIC -falign-functions=64 -Wall -g -O2 -c write2file.c -o write2file.o clang -arch x86_64 -dynamiclib -Wl,-headerpad_max_install_names -undefined dynamic_lookup -L/Library/Frameworks/R.framework/Resources/lib -L/opt/R/x86_64/lib -o metabCombiner.so binByMZ.o duplicates.o labelRows.o metabCombiner_init.o resolveRows.o selectAnchors.o write2file.o -F/Library/Frameworks/R.framework/.. -framework R installing to /Library/Frameworks/R.framework/Versions/4.5-x86_64/Resources/library/00LOCK-metabCombiner/00new/metabCombiner/libs ** R ** data ** demo ** inst ** byte-compile and prepare package for lazy loading ** help *** installing help indices ** building package indices ** installing vignettes ** testing if installed package can be loaded from temporary location ** checking absolute paths in shared objects and dynamic libraries ** testing if installed package can be loaded from final location ** testing if installed package keeps a record of temporary installation path * DONE (metabCombiner)
metabCombiner.Rcheck/tests/testthat.Rout
R version 4.5.1 Patched (2025-09-10 r88807) -- "Great Square Root"
Copyright (C) 2025 The R Foundation for Statistical Computing
Platform: x86_64-apple-darwin20
R is free software and comes with ABSOLUTELY NO WARRANTY.
You are welcome to redistribute it under certain conditions.
Type 'license()' or 'licence()' for distribution details.
R is a collaborative project with many contributors.
Type 'contributors()' for more information and
'citation()' on how to cite R or R packages in publications.
Type 'demo()' for some demos, 'help()' for on-line help, or
'help.start()' for an HTML browser interface to help.
Type 'q()' to quit R.
> library(testthat)
> library(metabCombiner)
>
> test_check("metabCombiner")
[ FAIL 0 | WARN 9 | SKIP 0 | PASS 35 ]
[ FAIL 0 | WARN 9 | SKIP 0 | PASS 35 ]
>
> proc.time()
user system elapsed
15.614 0.669 16.392
metabCombiner.Rcheck/metabCombiner-Ex.timings
| name | user | system | elapsed | |
| adductdata | 0.230 | 0.014 | 0.247 | |
| batchCombine | 0 | 0 | 0 | |
| calcScores | 1.372 | 0.046 | 1.429 | |
| calcScoresParam | 0.000 | 0.001 | 0.000 | |
| combineData | 0.176 | 0.004 | 0.181 | |
| combinedTable | 0.151 | 0.004 | 0.155 | |
| datasets | 0.168 | 0.004 | 0.173 | |
| evaluateParams | 3.561 | 0.092 | 3.671 | |
| featdata | 0.184 | 0.004 | 0.189 | |
| filtered | 0.089 | 0.003 | 0.095 | |
| fit_gam | 2.536 | 0.051 | 2.604 | |
| fit_loess | 1.486 | 0.014 | 1.511 | |
| fitgamParam | 0 | 0 | 0 | |
| fitloessParam | 0.001 | 0.000 | 0.001 | |
| getAnchors | 0.459 | 0.011 | 0.472 | |
| getCoefficients | 1.111 | 0.044 | 1.160 | |
| getData | 0.072 | 0.003 | 0.075 | |
| getExtra | 0.091 | 0.005 | 0.096 | |
| getModel | 0.604 | 0.012 | 0.618 | |
| getSamples | 0.333 | 0.015 | 0.349 | |
| getStats | 0.886 | 0.035 | 0.924 | |
| iddata | 0.170 | 0.005 | 0.174 | |
| labelRows | 1.796 | 0.061 | 1.867 | |
| labelRowsParam | 0.001 | 0.001 | 0.000 | |
| metabCombine | 0 | 0 | 0 | |
| metabCombiner | 0.369 | 0.010 | 0.380 | |
| metabData | 0.535 | 0.025 | 0.564 | |
| mzFit | 0 | 0 | 0 | |
| mzfitParam | 0.000 | 0.000 | 0.001 | |
| nonmatched | 0.157 | 0.004 | 0.161 | |
| opts.duplicate | 0.164 | 0.011 | 0.175 | |
| plot_fit | 0.568 | 0.012 | 0.585 | |
| rtdata | 0.166 | 0.004 | 0.171 | |
| selectAnchors | 0.664 | 0.013 | 0.684 | |
| selectAnchorsParam | 0 | 0 | 0 | |
| updateTables | 1.716 | 0.058 | 1.786 | |
| write2file | 1.741 | 0.055 | 1.809 | |