| Back to Multiple platform build/check report for BioC 3.22: simplified long |
|
This page was generated on 2025-10-21 12:07 -0400 (Tue, 21 Oct 2025).
| Hostname | OS | Arch (*) | R version | Installed pkgs |
|---|---|---|---|---|
| nebbiolo2 | Linux (Ubuntu 24.04.3 LTS) | x86_64 | 4.5.1 Patched (2025-08-23 r88802) -- "Great Square Root" | 4887 |
| lconway | macOS 12.7.6 Monterey | x86_64 | 4.5.1 Patched (2025-09-10 r88807) -- "Great Square Root" | 4677 |
| kjohnson3 | macOS 13.7.7 Ventura | arm64 | 4.5.1 Patched (2025-09-10 r88807) -- "Great Square Root" | 4622 |
| taishan | Linux (openEuler 24.03 LTS) | aarch64 | 4.5.0 (2025-04-11) -- "How About a Twenty-Six" | 4642 |
| Click on any hostname to see more info about the system (e.g. compilers) (*) as reported by 'uname -p', except on Windows and Mac OS X | ||||
| Package 1037/2353 | Hostname | OS / Arch | INSTALL | BUILD | CHECK | BUILD BIN | ||||||||
| igvR 1.29.0 (landing page) Arkadiusz Gladki
| nebbiolo2 | Linux (Ubuntu 24.04.3 LTS) / x86_64 | OK | OK | OK | |||||||||
| lconway | macOS 12.7.6 Monterey / x86_64 | OK | OK | OK | OK | |||||||||
| kjohnson3 | macOS 13.7.7 Ventura / arm64 | OK | OK | OK | OK | |||||||||
| taishan | Linux (openEuler 24.03 LTS) / aarch64 | OK | OK | OK | ||||||||||
|
To the developers/maintainers of the igvR package: - Allow up to 24 hours (and sometimes 48 hours) for your latest push to git@git.bioconductor.org:packages/igvR.git to reflect on this report. See Troubleshooting Build Report for more information. - Use the following Renviron settings to reproduce errors and warnings. - If 'R CMD check' started to fail recently on the Linux builder(s) over a missing dependency, add the missing dependency to 'Suggests:' in your DESCRIPTION file. See Renviron.bioc for more information. - See Martin Grigorov's blog post for how to debug Linux ARM64 related issues on a x86_64 host. |
| Package: igvR |
| Version: 1.29.0 |
| Command: /home/biocbuild/R/R/bin/R CMD check --install=check:igvR.install-out.txt --library=/home/biocbuild/R/R/site-library --no-vignettes --timings igvR_1.29.0.tar.gz |
| StartedAt: 2025-10-17 10:12:39 -0000 (Fri, 17 Oct 2025) |
| EndedAt: 2025-10-17 10:18:15 -0000 (Fri, 17 Oct 2025) |
| EllapsedTime: 336.3 seconds |
| RetCode: 0 |
| Status: OK |
| CheckDir: igvR.Rcheck |
| Warnings: 0 |
##############################################################################
##############################################################################
###
### Running command:
###
### /home/biocbuild/R/R/bin/R CMD check --install=check:igvR.install-out.txt --library=/home/biocbuild/R/R/site-library --no-vignettes --timings igvR_1.29.0.tar.gz
###
##############################################################################
##############################################################################
* using log directory ‘/home/biocbuild/bbs-3.22-bioc/meat/igvR.Rcheck’
* using R version 4.5.0 (2025-04-11)
* using platform: aarch64-unknown-linux-gnu
* R was compiled by
aarch64-unknown-linux-gnu-gcc (GCC) 14.2.0
GNU Fortran (GCC) 14.2.0
* running under: openEuler 24.03 (LTS)
* using session charset: UTF-8
* using option ‘--no-vignettes’
* checking for file ‘igvR/DESCRIPTION’ ... OK
* checking extension type ... Package
* this is package ‘igvR’ version ‘1.29.0’
* package encoding: UTF-8
* checking package namespace information ... OK
* checking package dependencies ... OK
* checking if this is a source package ... OK
* checking if there is a namespace ... OK
* checking for hidden files and directories ... OK
* checking for portable file names ... OK
* checking for sufficient/correct file permissions ... OK
* checking whether package ‘igvR’ can be installed ... OK
* checking installed package size ... INFO
installed size is 21.9Mb
sub-directories of 1Mb or more:
browserCode 14.9Mb
extdata 6.3Mb
* checking package directory ... OK
* checking ‘build’ directory ... OK
* checking DESCRIPTION meta-information ... NOTE
License stub is invalid DCF.
* checking top-level files ... OK
* checking for left-over files ... OK
* checking index information ... OK
* checking package subdirectories ... OK
* checking code files for non-ASCII characters ... OK
* checking R files for syntax errors ... OK
* checking whether the package can be loaded ... OK
* checking whether the package can be loaded with stated dependencies ... OK
* checking whether the package can be unloaded cleanly ... OK
* checking whether the namespace can be loaded with stated dependencies ... OK
* checking whether the namespace can be unloaded cleanly ... OK
* checking loading without being on the library search path ... OK
* checking whether startup messages can be suppressed ... OK
* checking dependencies in R code ... OK
* checking S3 generic/method consistency ... OK
* checking replacement functions ... OK
* checking foreign function calls ... OK
* checking R code for possible problems ... NOTE
.writeMotifLogoImagesUpdateTrackNames: no visible binding for global
variable ‘MotifDb’
.writeMotifLogoImagesUpdateTrackNames: no visible global function
definition for ‘seqLogo’
Undefined global functions or variables:
MotifDb seqLogo
* checking Rd files ... OK
* checking Rd metadata ... OK
* checking Rd cross-references ... OK
* checking for missing documentation entries ... OK
* checking for code/documentation mismatches ... OK
* checking Rd \usage sections ... OK
* checking Rd contents ... OK
* checking for unstated dependencies in examples ... OK
* checking include directives in Makefiles ... OK
* checking files in ‘vignettes’ ... OK
* checking examples ... OK
* checking for unstated dependencies in vignettes ... OK
* checking package vignettes ... OK
* checking running R code from vignettes ... SKIPPED
* checking re-building of vignette outputs ... SKIPPED
* checking PDF version of manual ... OK
* DONE
Status: 2 NOTEs
See
‘/home/biocbuild/bbs-3.22-bioc/meat/igvR.Rcheck/00check.log’
for details.
igvR.Rcheck/00install.out
############################################################################## ############################################################################## ### ### Running command: ### ### /home/biocbuild/R/R/bin/R CMD INSTALL igvR ### ############################################################################## ############################################################################## * installing to library ‘/home/biocbuild/R/R-4.5.0/site-library’ * installing *source* package ‘igvR’ ... ** this is package ‘igvR’ version ‘1.29.0’ ** using staged installation ** R ** inst ** byte-compile and prepare package for lazy loading ** help *** installing help indices ** building package indices ** installing vignettes ** testing if installed package can be loaded from temporary location ** testing if installed package can be loaded from final location ** testing if installed package keeps a record of temporary installation path * DONE (igvR)
igvR.Rcheck/igvR-Ex.timings
| name | user | system | elapsed | |
| BedpeInteractionsTrack-class | 0.016 | 0.000 | 0.017 | |
| DataFrameAnnotationTrack-class | 0.018 | 0.000 | 0.018 | |
| DataFrameQuantitativeTrack-class | 0.025 | 0.004 | 0.030 | |
| GFF3Track-class | 0.013 | 0.004 | 0.019 | |
| GRangesAnnotationTrack-class | 0.214 | 0.000 | 0.214 | |
| GRangesQuantitativeTrack-class | 0.024 | 0.000 | 0.023 | |
| GWASTrack-class | 0.120 | 0.008 | 0.131 | |
| GWASUrlTrack-class | 0.006 | 0.000 | 0.006 | |
| GenomicAlignmentTrack-class | 0.214 | 0.004 | 0.224 | |
| UCSCBedAnnotationTrack-class | 0.359 | 0.040 | 0.400 | |
| UCSCBedGraphQuantitativeTrack-class | 1.039 | 0.012 | 1.054 | |
| VariantTrack-class | 0.677 | 0.000 | 0.679 | |
| displayTrack | 0.001 | 0.000 | 0.001 | |
| enableMotifLogoPopups | 0 | 0 | 0 | |
| getGenomicRegion | 0 | 0 | 0 | |
| getSupportedGenomes | 0.000 | 0.000 | 0.001 | |
| getTrackNames | 0 | 0 | 0 | |
| igvR-class | 0 | 0 | 0 | |
| parseAndValidateGenomeSpec | 0.055 | 0.000 | 1.752 | |
| ping | 0 | 0 | 0 | |
| removeTracksByName | 0.000 | 0.001 | 0.001 | |
| setCustomGenome | 0.000 | 0.001 | 0.000 | |
| setGenome | 0.000 | 0.001 | 0.000 | |
| showGenomicRegion | 0 | 0 | 0 | |
| trackSize-DataFrameAnnotationTrack-method | 0.006 | 0.000 | 0.005 | |
| trackSize-UCSCBedAnnotationTrack-method | 0.151 | 0.004 | 0.155 | |
| url.exists | 0 | 0 | 0 | |