Back to Multiple platform build/check report for BioC 3.22:   simplified   long
ABCDEFGH[I]JKLMNOPQRSTUVWXYZ

This page was generated on 2025-10-14 12:04 -0400 (Tue, 14 Oct 2025).

HostnameOSArch (*)R versionInstalled pkgs
nebbiolo2Linux (Ubuntu 24.04.3 LTS)x86_644.5.1 Patched (2025-08-23 r88802) -- "Great Square Root" 4864
lconwaymacOS 12.7.1 Montereyx86_644.5.1 Patched (2025-09-10 r88807) -- "Great Square Root" 4652
kjohnson3macOS 13.7.7 Venturaarm644.5.1 Patched (2025-09-10 r88807) -- "Great Square Root" 4597
taishanLinux (openEuler 24.03 LTS)aarch644.5.0 (2025-04-11) -- "How About a Twenty-Six" 4610
Click on any hostname to see more info about the system (e.g. compilers)      (*) as reported by 'uname -p', except on Windows and Mac OS X

Package 1050/2346HostnameOS / ArchINSTALLBUILDCHECKBUILD BIN
iNETgrate 1.7.0  (landing page)
Habil Zare
Snapshot Date: 2025-10-13 13:45 -0400 (Mon, 13 Oct 2025)
git_url: https://git.bioconductor.org/packages/iNETgrate
git_branch: devel
git_last_commit: 9b0b9a7
git_last_commit_date: 2025-04-15 13:16:57 -0400 (Tue, 15 Apr 2025)
nebbiolo2Linux (Ubuntu 24.04.3 LTS) / x86_64  OK    OK    OK  NO, package depends on 'Pigengene' which is not available
lconwaymacOS 12.7.1 Monterey / x86_64  OK    OK    OK    OK  NO, package depends on 'Pigengene' which is not available
kjohnson3macOS 13.7.7 Ventura / arm64  OK    OK    OK    OK  NO, package depends on 'Pigengene' which is not available
taishanLinux (openEuler 24.03 LTS) / aarch64  OK    OK    OK  


CHECK results for iNETgrate on lconway

To the developers/maintainers of the iNETgrate package:
- Allow up to 24 hours (and sometimes 48 hours) for your latest push to git@git.bioconductor.org:packages/iNETgrate.git to reflect on this report. See Troubleshooting Build Report for more information.
- Use the following Renviron settings to reproduce errors and warnings.
- If 'R CMD check' started to fail recently on the Linux builder(s) over a missing dependency, add the missing dependency to 'Suggests:' in your DESCRIPTION file. See Renviron.bioc for more information.

raw results


Summary

Package: iNETgrate
Version: 1.7.0
Command: /Library/Frameworks/R.framework/Resources/bin/R CMD check --install=check:iNETgrate.install-out.txt --library=/Library/Frameworks/R.framework/Resources/library --no-vignettes --timings iNETgrate_1.7.0.tar.gz
StartedAt: 2025-10-13 22:53:22 -0400 (Mon, 13 Oct 2025)
EndedAt: 2025-10-13 23:09:56 -0400 (Mon, 13 Oct 2025)
EllapsedTime: 994.1 seconds
RetCode: 0
Status:   OK  
CheckDir: iNETgrate.Rcheck
Warnings: 0

Command output

##############################################################################
##############################################################################
###
### Running command:
###
###   /Library/Frameworks/R.framework/Resources/bin/R CMD check --install=check:iNETgrate.install-out.txt --library=/Library/Frameworks/R.framework/Resources/library --no-vignettes --timings iNETgrate_1.7.0.tar.gz
###
##############################################################################
##############################################################################


* using log directory ‘/Users/biocbuild/bbs-3.22-bioc/meat/iNETgrate.Rcheck’
* using R version 4.5.1 Patched (2025-09-10 r88807)
* using platform: x86_64-apple-darwin20
* R was compiled by
    Apple clang version 14.0.0 (clang-1400.0.29.202)
    GNU Fortran (GCC) 14.2.0
* running under: macOS Monterey 12.7.6
* using session charset: UTF-8
* using option ‘--no-vignettes’
* checking for file ‘iNETgrate/DESCRIPTION’ ... OK
* checking extension type ... Package
* this is package ‘iNETgrate’ version ‘1.7.0’
* checking package namespace information ... OK
* checking package dependencies ... OK
* checking if this is a source package ... OK
* checking if there is a namespace ... OK
* checking for hidden files and directories ... OK
* checking for portable file names ... OK
* checking for sufficient/correct file permissions ... OK
* checking whether package ‘iNETgrate’ can be installed ... OK
* checking installed package size ... OK
* checking package directory ... OK
* checking ‘build’ directory ... OK
* checking DESCRIPTION meta-information ... OK
* checking top-level files ... OK
* checking for left-over files ... OK
* checking index information ... OK
* checking package subdirectories ... OK
* checking code files for non-ASCII characters ... OK
* checking R files for syntax errors ... OK
* checking whether the package can be loaded ... OK
* checking whether the package can be loaded with stated dependencies ... OK
* checking whether the package can be unloaded cleanly ... OK
* checking whether the namespace can be loaded with stated dependencies ... OK
* checking whether the namespace can be unloaded cleanly ... OK
* checking dependencies in R code ... OK
* checking S3 generic/method consistency ... OK
* checking replacement functions ... OK
* checking foreign function calls ... OK
* checking R code for possible problems ... OK
* checking Rd files ... OK
* checking Rd metadata ... OK
* checking Rd cross-references ... OK
* checking for missing documentation entries ... OK
* checking for code/documentation mismatches ... OK
* checking Rd \usage sections ... OK
* checking Rd contents ... OK
* checking for unstated dependencies in examples ... OK
* checking contents of ‘data’ directory ... OK
* checking data for non-ASCII characters ... OK
* checking data for ASCII and uncompressed saves ... OK
* checking sizes of PDF files under ‘inst/doc’ ... OK
* checking files in ‘vignettes’ ... OK
* checking examples ... OK
Examples with CPU (user + system) or elapsed time > 5s
                    user system elapsed
iNETgrate        141.941  3.729 148.963
computEigengenes  71.883  0.462  72.774
toyEigengenes     68.421  0.499  69.403
toyComputEloci    63.938  2.736  67.442
analyzeSurvival   52.276  0.771  53.480
makeNetwork       44.530  0.268  45.276
computEigenloci   20.020  1.120  21.617
cleanAllData      14.906  0.779  15.831
* checking for unstated dependencies in vignettes ... OK
* checking package vignettes ... OK
* checking running R code from vignettes ... SKIPPED
* checking re-building of vignette outputs ... SKIPPED
* checking PDF version of manual ... OK
* DONE

Status: OK


Installation output

iNETgrate.Rcheck/00install.out

##############################################################################
##############################################################################
###
### Running command:
###
###   /Library/Frameworks/R.framework/Resources/bin/R CMD INSTALL iNETgrate
###
##############################################################################
##############################################################################


* installing to library ‘/Library/Frameworks/R.framework/Versions/4.5-x86_64/Resources/library’
* installing *source* package ‘iNETgrate’ ...
** this is package ‘iNETgrate’ version ‘1.7.0’
** using staged installation
** R
** data
** inst
** byte-compile and prepare package for lazy loading
** help
*** installing help indices
** building package indices
** installing vignettes
** testing if installed package can be loaded from temporary location
** testing if installed package can be loaded from final location
** testing if installed package keeps a record of temporary installation path
* DONE (iNETgrate)

Tests output


Example timings

iNETgrate.Rcheck/iNETgrate-Ex.timings

nameusersystemelapsed
accelFailAnalysis4.0740.5044.637
analyzeSurvival52.276 0.77153.480
bestInetgrator0.2460.1500.537
cleanAllData14.906 0.77915.831
computEigengenes71.883 0.46272.774
computEigenloci20.020 1.12021.617
computeInetgrator0.2490.1070.387
computeUnion2.2010.0642.279
coxAnalysis2.0880.0272.128
createLocusGene0.1250.0130.142
distanceToTss3.6610.1393.826
downloaData0.0010.0000.001
electGenes2.3880.0802.486
filterLowCor0.3600.0270.392
findAliveCutoff0.1130.0150.130
findCore1.9600.0282.000
findTcgaDuplicates0.1730.0120.186
iNETgrate-package0.2280.0990.355
iNETgrate141.941 3.729148.963
inferEigengenes0.2500.1380.488
makeNetwork44.530 0.26845.276
plotKM0.2110.0730.323
plotLociNum0.2150.0220.241
plotLociTss0.0220.0060.028
prepareSurvival0.1310.0110.144
preprocessDnam1.1030.0571.175
sample2pat0.1590.0080.168
sampleData0.8241.1892.041
toyCleanedAml0.1060.0090.117
toyComputEloci63.938 2.73667.442
toyEigengenes68.421 0.49969.403
toyRawAml0.1260.0100.137