Back to Build/check report for BioC 3.23:   simplified   long
ABCDEF[G]HIJKLMNOPQRSTUVWXYZ

This page was generated on 2025-10-31 08:34 -0400 (Fri, 31 Oct 2025).

HostnameOSArch (*)R versionInstalled pkgs
nebbiolo1Linux (Ubuntu 24.04.3 LTS)x86_64R Under development (unstable) (2025-10-20 r88955) -- "Unsuffered Consequences" 4428
Click on any hostname to see more info about the system (e.g. compilers)      (*) as reported by 'uname -p', except on Windows and Mac OS X

All results for package graph


To the developers/maintainers of the graph package:
- Allow up to 24 hours (and sometimes 48 hours) for your latest push to git@git.bioconductor.org:packages/graph.git to reflect on this report. See Troubleshooting Build Report for more information.
- Use the following Renviron settings to reproduce errors and warnings.
- If 'R CMD check' started to fail recently on the Linux builder(s) over a missing dependency, add the missing dependency to 'Suggests:' in your DESCRIPTION file. See Renviron.bioc for more information.

raw results

Package 911/2321HostnameOS / ArchINSTALLBUILDCHECKBUILD BIN
graph 1.89.0  (landing page)
Bioconductor Package Maintainer
Snapshot Date: 2025-10-30 13:40 -0400 (Thu, 30 Oct 2025)
git_url: https://git.bioconductor.org/packages/graph
git_branch: devel
git_last_commit: dbe17f7
git_last_commit_date: 2025-10-29 09:42:14 -0400 (Wed, 29 Oct 2025)
nebbiolo1Linux (Ubuntu 24.04.3 LTS) / x86_64  OK    OK    OK  YES



Results for Bioconductor software packages that depend directly on package graph

QUICK STATSOS / ArchINSTALLBUILDCHECKBUILD BIN
nebbiolo1Linux (Ubuntu 24.04.3 LTS) / x86_64
01164
02847
061526
Package 1/75HostnameOS / ArchINSTALLBUILDCHECKBUILD BIN
AnnotationHubData 1.41.0  (landing page)
Bioconductor Package Maintainer
git_last_commit: 932837e
git_last_commit_date: 2025-10-29 10:27:35 -0400
nebbiolo1Linux (Ubuntu 24.04.3 LTS) / x86_64  ERROR    ERROR  skipped
Package 2/75HostnameOS / ArchINSTALLBUILDCHECKBUILD BIN
apComplex 2.77.0  (landing page)
Denise Scholtens
git_last_commit: c10f18a
git_last_commit_date: 2025-10-29 09:55:56 -0400
nebbiolo1Linux (Ubuntu 24.04.3 LTS) / x86_64  ERROR    ERROR  skipped
Package 3/75HostnameOS / ArchINSTALLBUILDCHECKBUILD BIN
BgeeDB 2.37.0  (landing page)
Julien Wollbrett , Julien Roux , Andrea Komljenovic , Frederic Bastian
git_last_commit: ac04c8e
git_last_commit_date: 2025-10-29 10:31:46 -0400
nebbiolo1Linux (Ubuntu 24.04.3 LTS) / x86_64  OK    OK    OK  NO, package depends on 'topGO' which is not available
Package 4/75HostnameOS / ArchINSTALLBUILDCHECKBUILD BIN
BiocCheck 1.47.0  (landing page)
Marcel Ramos
git_last_commit: 09886ed
git_last_commit_date: 2025-10-29 19:20:08 -0400
nebbiolo1Linux (Ubuntu 24.04.3 LTS) / x86_64  OK    OK    ERROR  
Package 5/75HostnameOS / ArchINSTALLBUILDCHECKBUILD BIN
BiocFHIR 1.13.0  (landing page)
Vincent Carey
git_last_commit: 4c84357
git_last_commit_date: 2025-10-29 11:19:42 -0400
nebbiolo1Linux (Ubuntu 24.04.3 LTS) / x86_64  OK    OK    OK  YES
Package 6/75HostnameOS / ArchINSTALLBUILDCHECKBUILD BIN
biocGraph 1.73.0  (landing page)
Florian Hahne
git_last_commit: 68d8be3
git_last_commit_date: 2025-10-29 09:59:36 -0400
nebbiolo1Linux (Ubuntu 24.04.3 LTS) / x86_64  OK    ERROR  skipped
Package 7/75HostnameOS / ArchINSTALLBUILDCHECKBUILD BIN
BiocPkgTools 1.29.0  (landing page)
Sean Davis
git_last_commit: a2f816c
git_last_commit_date: 2025-10-29 10:47:30 -0400
nebbiolo1Linux (Ubuntu 24.04.3 LTS) / x86_64  OK    ERROR  skipped
Package 8/75HostnameOS / ArchINSTALLBUILDCHECKBUILD BIN
biocViews 1.79.0  (landing page)
Bioconductor Package Maintainer
git_last_commit: c737240
git_last_commit_date: 2025-10-29 09:57:00 -0400
nebbiolo1Linux (Ubuntu 24.04.3 LTS) / x86_64  OK    OK    OK  YES
Package 9/75HostnameOS / ArchINSTALLBUILDCHECKBUILD BIN
BioMVCClass 1.79.0  (landing page)
Elizabeth Whalen
git_last_commit: 901e3c4
git_last_commit_date: 2025-10-29 09:58:24 -0400
nebbiolo1Linux (Ubuntu 24.04.3 LTS) / x86_64  OK    OK    OK  YES
Package 10/75HostnameOS / ArchINSTALLBUILDCHECKBUILD BIN
BioNet 1.71.0  (landing page)
Marcus Dittrich
git_last_commit: 9742714
git_last_commit_date: 2025-10-29 10:05:29 -0400
nebbiolo1Linux (Ubuntu 24.04.3 LTS) / x86_64  OK    ERROR  skipped
Package 11/75HostnameOS / ArchINSTALLBUILDCHECKBUILD BIN
BLMA 1.35.0  (landing page)
Van-Dung Pham
git_last_commit: 2a54068
git_last_commit_date: 2025-10-29 10:38:21 -0400
nebbiolo1Linux (Ubuntu 24.04.3 LTS) / x86_64  ERROR    ERROR  skipped
Package 12/75HostnameOS / ArchINSTALLBUILDCHECKBUILD BIN
bnem 1.19.0  (landing page)
Martin Pirkl
git_last_commit: c656bcb
git_last_commit_date: 2025-10-29 11:04:57 -0400
nebbiolo1Linux (Ubuntu 24.04.3 LTS) / x86_64  OK    OK    OK  NO, package depends on 'epiNEM' which is not available
Package 13/75HostnameOS / ArchINSTALLBUILDCHECKBUILD BIN
CAMERA 1.67.0  (landing page)
Steffen Neumann
git_last_commit: 340928f
git_last_commit_date: 2025-10-29 10:02:23 -0400
nebbiolo1Linux (Ubuntu 24.04.3 LTS) / x86_64  OK    OK    WARNINGS  NO, package depends on 'xcms' which is not available
Package 14/75HostnameOS / ArchINSTALLBUILDCHECKBUILD BIN
Category 2.77.0  (landing page)
Bioconductor Package Maintainer
git_last_commit: 6850286
git_last_commit_date: 2025-10-29 09:56:37 -0400
nebbiolo1Linux (Ubuntu 24.04.3 LTS) / x86_64  OK    ERROR  skipped
Package 15/75HostnameOS / ArchINSTALLBUILDCHECKBUILD BIN
categoryCompare 1.55.0  (landing page)
Robert M. Flight
git_last_commit: 22bf171
git_last_commit_date: 2025-10-29 10:11:00 -0400
nebbiolo1Linux (Ubuntu 24.04.3 LTS) / x86_64  OK    ERROR  skipped
Package 16/75HostnameOS / ArchINSTALLBUILDCHECKBUILD BIN
CellNOptR 1.57.0  (landing page)
Attila Gabor
git_last_commit: 1b9d01e
git_last_commit_date: 2025-10-29 10:09:33 -0400
nebbiolo1Linux (Ubuntu 24.04.3 LTS) / x86_64  OK    OK    OK  YES
Package 17/75HostnameOS / ArchINSTALLBUILDCHECKBUILD BIN
chimeraviz 1.37.0  (landing page)
Stian Lågstad
git_last_commit: 3490116
git_last_commit_date: 2025-10-29 10:35:50 -0400
nebbiolo1Linux (Ubuntu 24.04.3 LTS) / x86_64  ERROR    ERROR  skipped
Package 18/75HostnameOS / ArchINSTALLBUILDCHECKBUILD BIN
ChIPpeakAnno 3.45.0  (landing page)
Jianhong Ou
git_last_commit: 2e00e23
git_last_commit_date: 2025-10-29 10:03:18 -0400
nebbiolo1Linux (Ubuntu 24.04.3 LTS) / x86_64  ERROR    ERROR  skipped
Package 19/75HostnameOS / ArchINSTALLBUILDCHECKBUILD BIN
CHRONOS 1.39.0  (landing page)
Panos Balomenos
git_last_commit: 5dec64b
git_last_commit_date: 2025-10-29 10:32:09 -0400
nebbiolo1Linux (Ubuntu 24.04.3 LTS) / x86_64  OK    OK    OK  NO, package depends on 'biomaRt' which is not available
Package 20/75HostnameOS / ArchINSTALLBUILDCHECKBUILD BIN
clipper 1.51.0  (landing page)
Paolo Martini
git_last_commit: 09e9ef4
git_last_commit_date: 2025-10-29 10:13:24 -0400
nebbiolo1Linux (Ubuntu 24.04.3 LTS) / x86_64  OK    ERROR  skipped
Package 21/75HostnameOS / ArchINSTALLBUILDCHECKBUILD BIN
CNORfeeder 1.51.0  (landing page)
Attila Gabor
git_last_commit: ec6ad0e
git_last_commit_date: 2025-10-29 10:14:15 -0400
nebbiolo1Linux (Ubuntu 24.04.3 LTS) / x86_64  OK    OK    WARNINGS  YES
Package 22/75HostnameOS / ArchINSTALLBUILDCHECKBUILD BIN
consICA 2.9.0  (landing page)
Petr V. Nazarov
git_last_commit: 093c307
git_last_commit_date: 2025-10-29 11:18:38 -0400
nebbiolo1Linux (Ubuntu 24.04.3 LTS) / x86_64  OK    OK    OK  NO, package depends on 'SummarizedExperiment' which is not available
Package 23/75HostnameOS / ArchINSTALLBUILDCHECKBUILD BIN
CytoML 2.23.0  (landing page)
Mike Jiang
git_last_commit: 8f95dab
git_last_commit_date: 2025-10-29 10:33:02 -0400
nebbiolo1Linux (Ubuntu 24.04.3 LTS) / x86_64  OK    OK    WARNINGS  NO, package depends on 'flowWorkspace' which is not available
Package 24/75HostnameOS / ArchINSTALLBUILDCHECKBUILD BIN
DEGraph 1.63.0  (landing page)
Laurent Jacob
git_last_commit: 71c129b
git_last_commit_date: 2025-10-29 10:06:12 -0400
nebbiolo1Linux (Ubuntu 24.04.3 LTS) / x86_64  OK    OK    OK  NO, package depends on 'KEGGgraph' which is not available
Package 25/75HostnameOS / ArchINSTALLBUILDCHECKBUILD BIN
DEsubs 1.37.0  (landing page)
Aristidis G. Vrahatis , Panos Balomenos
git_last_commit: 795ef9b
git_last_commit_date: 2025-10-29 10:34:42 -0400
nebbiolo1Linux (Ubuntu 24.04.3 LTS) / x86_64  OK    OK    WARNINGS  NO, package depends on 'DESeq2' which is not available
Package 26/75HostnameOS / ArchINSTALLBUILDCHECKBUILD BIN
EnrichDO 1.5.0  (landing page)
Hongyu Fu
git_last_commit: cb44ad0
git_last_commit_date: 2025-10-29 11:31:56 -0400
nebbiolo1Linux (Ubuntu 24.04.3 LTS) / x86_64  OK    OK    OK  YES
Package 27/75HostnameOS / ArchINSTALLBUILDCHECKBUILD BIN
EnrichmentBrowser 2.41.0  (landing page)
Ludwig Geistlinger
git_last_commit: eb4505a
git_last_commit_date: 2025-10-29 10:21:30 -0400
nebbiolo1Linux (Ubuntu 24.04.3 LTS) / x86_64  OK    ERROR  skipped
Package 28/75HostnameOS / ArchINSTALLBUILDCHECKBUILD BIN
epiNEM 1.35.0  (landing page)
Martin Pirkl
git_last_commit: d7bc809
git_last_commit_date: 2025-10-29 10:37:16 -0400
nebbiolo1Linux (Ubuntu 24.04.3 LTS) / x86_64  OK    OK    ERROR  
Package 29/75HostnameOS / ArchINSTALLBUILDCHECKBUILD BIN
EventPointer 3.19.0  (landing page)
Juan A. Ferrer-Bonsoms
git_last_commit: ab73f34
git_last_commit_date: 2025-10-29 10:37:08 -0400
nebbiolo1Linux (Ubuntu 24.04.3 LTS) / x86_64  ERROR    ERROR  skipped
Package 30/75HostnameOS / ArchINSTALLBUILDCHECKBUILD BIN
fgga 1.19.0  (landing page)
Flavio Spetale
git_last_commit: dbdfaea
git_last_commit_date: 2025-10-29 11:09:03 -0400
nebbiolo1Linux (Ubuntu 24.04.3 LTS) / x86_64  OK    OK    OK  YES
Package 31/75HostnameOS / ArchINSTALLBUILDCHECKBUILD BIN
flowClust 3.49.0  (landing page)
Greg Finak , Mike Jiang
git_last_commit: 24bd31c
git_last_commit_date: 2025-10-29 10:00:22 -0400
nebbiolo1Linux (Ubuntu 24.04.3 LTS) / x86_64  OK    OK    WARNINGS  YES
Package 32/75HostnameOS / ArchINSTALLBUILDCHECKBUILD BIN
flowMerge 2.59.0  (landing page)
Greg Finak
git_last_commit: 07705b4
git_last_commit_date: 2025-10-29 10:03:02 -0400
nebbiolo1Linux (Ubuntu 24.04.3 LTS) / x86_64  OK    OK    WARNINGS  YES
Package 33/75HostnameOS / ArchINSTALLBUILDCHECKBUILD BIN
flowWorkspace 4.23.0  (landing page)
Greg Finak , Mike Jiang
git_last_commit: 824996d
git_last_commit_date: 2025-10-29 10:07:43 -0400
nebbiolo1Linux (Ubuntu 24.04.3 LTS) / x86_64  OK    OK    WARNINGS  NO, package depends on 'DelayedArray' which is not available
Package 34/75HostnameOS / ArchINSTALLBUILDCHECKBUILD BIN
gage 2.61.0  (landing page)
Weijun Luo
git_last_commit: e6e1013
git_last_commit_date: 2025-10-29 10:05:53 -0400
nebbiolo1Linux (Ubuntu 24.04.3 LTS) / x86_64  OK    ERROR  skipped
Package 35/75HostnameOS / ArchINSTALLBUILDCHECKBUILD BIN
GeneNetworkBuilder 1.53.0  (landing page)
Jianhong Ou
git_last_commit: 98b73cc
git_last_commit_date: 2025-10-29 10:11:49 -0400
nebbiolo1Linux (Ubuntu 24.04.3 LTS) / x86_64  OK    OK    OK  YES
Package 36/75HostnameOS / ArchINSTALLBUILDCHECKBUILD BIN
GenomicInteractionNodes 1.15.0  (landing page)
Jianhong Ou
git_last_commit: 8ee0b28
git_last_commit_date: 2025-10-29 11:16:22 -0400
nebbiolo1Linux (Ubuntu 24.04.3 LTS) / x86_64  OK    OK    OK  NO, package depends on 'AnnotationDbi' which is not available
Package 37/75HostnameOS / ArchINSTALLBUILDCHECKBUILD BIN
GOstats 2.77.0  (landing page)
Bioconductor Package Maintainer
git_last_commit: d09aa16
git_last_commit_date: 2025-10-29 09:55:01 -0400
nebbiolo1Linux (Ubuntu 24.04.3 LTS) / x86_64  OK    ERROR  skipped
Package 38/75HostnameOS / ArchINSTALLBUILDCHECKBUILD BIN
GraphAT 1.83.0  (landing page)
Thomas LaFramboise
git_last_commit: 581549b
git_last_commit_date: 2025-10-29 09:55:09 -0400
nebbiolo1Linux (Ubuntu 24.04.3 LTS) / x86_64  OK    OK    OK  YES
Package 39/75HostnameOS / ArchINSTALLBUILDCHECKBUILD BIN
graphite 1.57.0  (landing page)
Gabriele Sales
git_last_commit: 0b372f1
git_last_commit_date: 2025-10-29 10:08:39 -0400
nebbiolo1Linux (Ubuntu 24.04.3 LTS) / x86_64  OK    ERROR  skipped
Package 40/75HostnameOS / ArchINSTALLBUILDCHECKBUILD BIN
GSEABase 1.73.0  (landing page)
Bioconductor Package Maintainer
git_last_commit: 40d4be6
git_last_commit_date: 2025-10-29 09:59:33 -0400
nebbiolo1Linux (Ubuntu 24.04.3 LTS) / x86_64  OK    ERROR  skipped
Package 41/75HostnameOS / ArchINSTALLBUILDCHECKBUILD BIN
hyperdraw 1.63.0  (landing page)
Paul Murrell
git_last_commit: 5f06f53
git_last_commit_date: 2025-10-29 10:04:13 -0400
nebbiolo1Linux (Ubuntu 24.04.3 LTS) / x86_64  OK    OK    OK  YES
Package 42/75HostnameOS / ArchINSTALLBUILDCHECKBUILD BIN
hypergraph 1.83.0  (landing page)
Bioconductor Package Maintainer
git_last_commit: febfb63
git_last_commit_date: 2025-10-29 09:56:34 -0400
nebbiolo1Linux (Ubuntu 24.04.3 LTS) / x86_64  OK    OK    OK  YES
Package 43/75HostnameOS / ArchINSTALLBUILDCHECKBUILD BIN
KEGGgraph 1.71.0  (landing page)
Jitao David Zhang
git_last_commit: 09a8170
git_last_commit_date: 2025-10-29 10:02:08 -0400
nebbiolo1Linux (Ubuntu 24.04.3 LTS) / x86_64  OK    ERROR  skipped
Package 44/75HostnameOS / ArchINSTALLBUILDCHECKBUILD BIN
keggorthology 2.63.0  (landing page)
VJ Carey
git_last_commit: 83d2b0c
git_last_commit_date: 2025-10-29 09:59:39 -0400
nebbiolo1Linux (Ubuntu 24.04.3 LTS) / x86_64  ERROR    ERROR  skipped
Package 45/75HostnameOS / ArchINSTALLBUILDCHECKBUILD BIN
MineICA 1.51.0  (landing page)
Anne Biton
git_last_commit: b926f54
git_last_commit_date: 2025-10-29 10:13:40 -0400
nebbiolo1Linux (Ubuntu 24.04.3 LTS) / x86_64  ERROR    ERROR  skipped
Package 46/75HostnameOS / ArchINSTALLBUILDCHECKBUILD BIN
mirIntegrator 1.41.0  (landing page)
Diana Diaz
git_last_commit: 85fa48a
git_last_commit_date: 2025-10-29 10:26:26 -0400
nebbiolo1Linux (Ubuntu 24.04.3 LTS) / x86_64  OK    OK    OK  NO, package depends on 'ROntoTools' which is not available
Package 47/75HostnameOS / ArchINSTALLBUILDCHECKBUILD BIN
MIRit 1.7.0  (landing page)
Jacopo Ronchi
git_last_commit: 624060e
git_last_commit_date: 2025-10-29 11:27:39 -0400
nebbiolo1Linux (Ubuntu 24.04.3 LTS) / x86_64  OK    OK    ERROR  
Package 48/75HostnameOS / ArchINSTALLBUILDCHECKBUILD BIN
mnem 1.27.0  (landing page)
Martin Pirkl
git_last_commit: 0fd323e
git_last_commit_date: 2025-10-29 10:52:33 -0400
nebbiolo1Linux (Ubuntu 24.04.3 LTS) / x86_64  OK    OK    OK  YES
Package 49/75HostnameOS / ArchINSTALLBUILDCHECKBUILD BIN
MOSClip 1.5.0  (landing page)
Paolo Martini
git_last_commit: feb3c8b
git_last_commit_date: 2025-10-29 11:32:56 -0400
nebbiolo1Linux (Ubuntu 24.04.3 LTS) / x86_64  OK    OK    OK  NO, package depends on 'MultiAssayExperiment' which is not available
Package 50/75HostnameOS / ArchINSTALLBUILDCHECKBUILD BIN
NCIgraph 1.59.0  (landing page)
Laurent Jacob
git_last_commit: 5a91ea4
git_last_commit_date: 2025-10-29 10:07:17 -0400
nebbiolo1Linux (Ubuntu 24.04.3 LTS) / x86_64  OK    OK    OK  NO, package depends on 'KEGGgraph' which is not available
Package 51/75HostnameOS / ArchINSTALLBUILDCHECKBUILD BIN
netresponse 1.71.0  (landing page)
Leo Lahti
git_last_commit: 8295054
git_last_commit_date: 2025-10-29 10:05:48 -0400
nebbiolo1Linux (Ubuntu 24.04.3 LTS) / x86_64  OK    OK    OK  YES
Package 52/75HostnameOS / ArchINSTALLBUILDCHECKBUILD BIN
OncoSimulR 4.13.0  (landing page)
Ramon Diaz-Uriarte
git_last_commit: d241471
git_last_commit_date: 2025-10-29 10:20:29 -0400
nebbiolo1Linux (Ubuntu 24.04.3 LTS) / x86_64  OK    OK    OK  YES
Package 53/75HostnameOS / ArchINSTALLBUILDCHECKBUILD BIN
ontoProc 2.5.0  (landing page)
Vincent Carey
git_last_commit: a09f239
git_last_commit_date: 2025-10-29 19:20:08 -0400
nebbiolo1Linux (Ubuntu 24.04.3 LTS) / x86_64  OK    OK    ERROR  
Package 54/75HostnameOS / ArchINSTALLBUILDCHECKBUILD BIN
openCyto 2.23.0  (landing page)
Mike Jiang
git_last_commit: 11bf474
git_last_commit_date: 2025-10-29 10:16:53 -0400
nebbiolo1Linux (Ubuntu 24.04.3 LTS) / x86_64  OK    OK    WARNINGS  NO, package depends on 'flowWorkspace' which is not available
Package 55/75HostnameOS / ArchINSTALLBUILDCHECKBUILD BIN
oposSOM 2.29.0  (landing page)
Henry Loeffler-Wirth
git_last_commit: 5c4952e
git_last_commit_date: 2025-10-29 10:20:10 -0400
nebbiolo1Linux (Ubuntu 24.04.3 LTS) / x86_64  OK    OK    WARNINGS  NO, package depends on 'biomaRt' which is not available
Package 56/75HostnameOS / ArchINSTALLBUILDCHECKBUILD BIN
OrganismDbi 1.53.0  (landing page)
Bioconductor Package Maintainer
git_last_commit: bc1c6fc
git_last_commit_date: 2025-10-29 10:12:00 -0400
nebbiolo1Linux (Ubuntu 24.04.3 LTS) / x86_64  ERROR    ERROR  skipped
Package 57/75HostnameOS / ArchINSTALLBUILDCHECKBUILD BIN
pathRender 1.79.0  (landing page)
Vince Carey
git_last_commit: d982243
git_last_commit_date: 2025-10-29 09:57:23 -0400
nebbiolo1Linux (Ubuntu 24.04.3 LTS) / x86_64  ERROR    ERROR  skipped
Package 58/75HostnameOS / ArchINSTALLBUILDCHECKBUILD BIN
pathview 1.51.0  (landing page)
Weijun Luo
git_last_commit: b31fe1e
git_last_commit_date: 2025-10-29 10:14:01 -0400
nebbiolo1Linux (Ubuntu 24.04.3 LTS) / x86_64  OK    OK    ERROR  
Package 59/75HostnameOS / ArchINSTALLBUILDCHECKBUILD BIN
Pigengene 1.37.0  (landing page)
Habil Zare
git_last_commit: b4e2edc
git_last_commit_date: 2025-10-29 10:32:29 -0400
nebbiolo1Linux (Ubuntu 24.04.3 LTS) / x86_64  ERROR    ERROR  skipped
Package 60/75HostnameOS / ArchINSTALLBUILDCHECKBUILD BIN
qpgraph 2.45.0  (landing page)
Robert Castelo
git_last_commit: eff82ca
git_last_commit_date: 2025-10-29 10:02:10 -0400
nebbiolo1Linux (Ubuntu 24.04.3 LTS) / x86_64  OK    ERROR  skipped
Package 61/75HostnameOS / ArchINSTALLBUILDCHECKBUILD BIN
RbcBook1 1.79.0  (landing page)
Vince Carey
git_last_commit: f5a4884
git_last_commit_date: 2025-10-29 09:58:35 -0400
nebbiolo1Linux (Ubuntu 24.04.3 LTS) / x86_64  OK    OK    WARNINGS  YES
Package 62/75HostnameOS / ArchINSTALLBUILDCHECKBUILD BIN
RBGL 1.87.0  (landing page)
Bioconductor Package Maintainer
git_last_commit: 9b0a331
git_last_commit_date: 2025-10-29 09:54:01 -0400
nebbiolo1Linux (Ubuntu 24.04.3 LTS) / x86_64  OK    OK    WARNINGS  YES
Package 63/75HostnameOS / ArchINSTALLBUILDCHECKBUILD BIN
RCy3 2.31.0  (landing page)
Alex Pico
git_last_commit: f7dcce5
git_last_commit_date: 2025-10-29 10:28:27 -0400
nebbiolo1Linux (Ubuntu 24.04.3 LTS) / x86_64  OK    OK    OK  YES
Package 64/75HostnameOS / ArchINSTALLBUILDCHECKBUILD BIN
RCyjs 2.33.0  (landing page)
Paul Shannon
git_last_commit: 85acbb7
git_last_commit_date: 2025-10-29 10:25:28 -0400
nebbiolo1Linux (Ubuntu 24.04.3 LTS) / x86_64  OK    OK    WARNINGS  YES
Package 65/75HostnameOS / ArchINSTALLBUILDCHECKBUILD BIN
RGraph2js 1.39.0  (landing page)
Stephane Cano
git_last_commit: 4327aeb
git_last_commit_date: 2025-10-29 10:29:41 -0400
nebbiolo1Linux (Ubuntu 24.04.3 LTS) / x86_64  OK    OK    OK  YES
Package 66/75HostnameOS / ArchINSTALLBUILDCHECKBUILD BIN
Rgraphviz 2.55.0  (landing page)
Kasper Daniel Hansen
git_last_commit: 508dbe9
git_last_commit_date: 2025-10-29 09:42:22 -0400
nebbiolo1Linux (Ubuntu 24.04.3 LTS) / x86_64  OK    OK    WARNINGS  YES
Package 67/75HostnameOS / ArchINSTALLBUILDCHECKBUILD BIN
ROntoTools 2.39.0  (landing page)
Sorin Draghici
git_last_commit: 5a6e829
git_last_commit_date: 2025-10-29 10:14:20 -0400
nebbiolo1Linux (Ubuntu 24.04.3 LTS) / x86_64  OK    OK    WARNINGS  NO, package depends on 'KEGGREST' which is not available
Package 68/75HostnameOS / ArchINSTALLBUILDCHECKBUILD BIN
rsbml 2.69.0  (landing page)
Michael Lawrence
git_last_commit: 7c17b73
git_last_commit_date: 2025-10-29 09:59:55 -0400
nebbiolo1Linux (Ubuntu 24.04.3 LTS) / x86_64  OK    OK    WARNINGS  YES
Package 69/75HostnameOS / ArchINSTALLBUILDCHECKBUILD BIN
scGraphVerse 1.1.0  (landing page)
Francesco Cecere
git_last_commit: 1e63abe
git_last_commit_date: 2025-10-29 11:38:49 -0400
nebbiolo1Linux (Ubuntu 24.04.3 LTS) / x86_64  OK    OK    ERROR  
Package 70/75HostnameOS / ArchINSTALLBUILDCHECKBUILD BIN
SGCP 1.11.0  (landing page)
Niloofar AghaieAbiane
git_last_commit: d3ffc3a
git_last_commit_date: 2025-10-29 11:20:24 -0400
nebbiolo1Linux (Ubuntu 24.04.3 LTS) / x86_64  OK    ERROR  skipped
Package 71/75HostnameOS / ArchINSTALLBUILDCHECKBUILD BIN
SplicingGraphs 1.51.0  (landing page)
H. Pagès
git_last_commit: 56d6382
git_last_commit_date: 2025-10-29 10:14:47 -0400
nebbiolo1Linux (Ubuntu 24.04.3 LTS) / x86_64  OK    ERROR  skipped
Package 72/75HostnameOS / ArchINSTALLBUILDCHECKBUILD BIN
SRAdb 1.73.0  (landing page)
Jack Zhu
git_last_commit: 0d39542
git_last_commit_date: 2025-10-29 10:04:50 -0400
nebbiolo1Linux (Ubuntu 24.04.3 LTS) / x86_64  OK    OK    OK  YES
Package 73/75HostnameOS / ArchINSTALLBUILDCHECKBUILD BIN
topGO 2.63.0  (landing page)
Federico Marini
git_last_commit: 35ec429
git_last_commit_date: 2025-10-29 09:59:04 -0400
nebbiolo1Linux (Ubuntu 24.04.3 LTS) / x86_64  OK    ERROR  skipped
Package 74/75HostnameOS / ArchINSTALLBUILDCHECKBUILD BIN
VariantFiltering 1.47.0  (landing page)
Robert Castelo
git_last_commit: 270d88d
git_last_commit_date: 2025-10-29 10:19:08 -0400
nebbiolo1Linux (Ubuntu 24.04.3 LTS) / x86_64  OK    ERROR  skipped
Package 75/75HostnameOS / ArchINSTALLBUILDCHECKBUILD BIN
vtpnet 0.51.0  (landing page)
VJ Carey
git_last_commit: 547ac9d
git_last_commit_date: 2025-10-29 10:15:00 -0400
nebbiolo1Linux (Ubuntu 24.04.3 LTS) / x86_64  OK    OK    OK  NO, package depends on 'GenomicRanges' which is not available