Back to Build/check report for BioC 3.23:   simplified   long
ABCDEF[G]HIJKLMNOPQRSTUVWXYZ

This page was generated on 2025-10-31 08:34 -0400 (Fri, 31 Oct 2025).

HostnameOSArch (*)R versionInstalled pkgs
nebbiolo1Linux (Ubuntu 24.04.3 LTS)x86_64R Under development (unstable) (2025-10-20 r88955) -- "Unsuffered Consequences" 4428
Click on any hostname to see more info about the system (e.g. compilers)      (*) as reported by 'uname -p', except on Windows and Mac OS X

All results for package ggtree


To the developers/maintainers of the ggtree package:
- Allow up to 24 hours (and sometimes 48 hours) for your latest push to git@git.bioconductor.org:packages/ggtree.git to reflect on this report. See Troubleshooting Build Report for more information.
- Use the following Renviron settings to reproduce errors and warnings.
- If 'R CMD check' started to fail recently on the Linux builder(s) over a missing dependency, add the missing dependency to 'Suggests:' in your DESCRIPTION file. See Renviron.bioc for more information.

raw results

Package 871/2321HostnameOS / ArchINSTALLBUILDCHECKBUILD BIN
ggtree 4.1.1  (landing page)
Guangchuang Yu
Snapshot Date: 2025-10-30 13:40 -0400 (Thu, 30 Oct 2025)
git_url: https://git.bioconductor.org/packages/ggtree
git_branch: devel
git_last_commit: af2f26c
git_last_commit_date: 2025-10-30 10:26:19 -0400 (Thu, 30 Oct 2025)
nebbiolo1Linux (Ubuntu 24.04.3 LTS) / x86_64  OK    OK    OK  YES



Results for Bioconductor software packages that depend directly on package ggtree

QUICK STATSOS / ArchINSTALLBUILDCHECKBUILD BIN
nebbiolo1Linux (Ubuntu 24.04.3 LTS) / x86_64
0425
0425
01420
Package 1/29HostnameOS / ArchINSTALLBUILDCHECKBUILD BIN
cardelino 1.13.0  (landing page)
Davis McCarthy
git_last_commit: d0e349d
git_last_commit_date: 2025-10-29 11:19:32 -0400
nebbiolo1Linux (Ubuntu 24.04.3 LTS) / x86_64  OK    OK    OK  NO, package depends on 'GenomeInfoDb' which is not available
Package 2/29HostnameOS / ArchINSTALLBUILDCHECKBUILD BIN
cellmig 1.1.0  (landing page)
Simo Kitanovski
git_last_commit: 6f4bad2
git_last_commit_date: 2025-10-29 11:37:29 -0400
nebbiolo1Linux (Ubuntu 24.04.3 LTS) / x86_64  OK    OK    OK  YES
Package 3/29HostnameOS / ArchINSTALLBUILDCHECKBUILD BIN
cogeqc 1.15.0  (landing page)
Fabrício Almeida-Silva
git_last_commit: 0e2fb28
git_last_commit_date: 2025-10-29 11:16:40 -0400
nebbiolo1Linux (Ubuntu 24.04.3 LTS) / x86_64  OK    OK    OK  NO, package depends on 'Biostrings' which is not available
Package 4/29HostnameOS / ArchINSTALLBUILDCHECKBUILD BIN
crumblr 1.3.0  (landing page)
Gabriel Hoffman
git_last_commit: 00871a5
git_last_commit_date: 2025-10-29 11:35:21 -0400
nebbiolo1Linux (Ubuntu 24.04.3 LTS) / x86_64  OK    OK    OK  NO, package depends on 'SingleCellExperiment' which is not available
Package 5/29HostnameOS / ArchINSTALLBUILDCHECKBUILD BIN
DspikeIn 1.1.0  (landing page)
Mitra Ghotbi
git_last_commit: 18fc5b8
git_last_commit_date: 2025-10-29 11:39:12 -0400
nebbiolo1Linux (Ubuntu 24.04.3 LTS) / x86_64  OK    OK    OK  NO, package depends on 'Biostrings' which is not available
Package 6/29HostnameOS / ArchINSTALLBUILDCHECKBUILD BIN
enrichplot 1.31.0  (landing page)
Guangchuang Yu
git_last_commit: 682bc26
git_last_commit_date: 2025-10-29 10:43:16 -0400
nebbiolo1Linux (Ubuntu 24.04.3 LTS) / x86_64  OK    OK    OK  NO, package depends on 'DOSE' which is not available
Package 7/29HostnameOS / ArchINSTALLBUILDCHECKBUILD BIN
ggmsa 1.17.0  (landing page)
Guangchuang Yu
git_last_commit: aa847fd
git_last_commit_date: 2025-10-29 11:12:22 -0400
nebbiolo1Linux (Ubuntu 24.04.3 LTS) / x86_64  OK    OK    WARNINGS  NO, package depends on 'Biostrings' which is not available
Package 8/29HostnameOS / ArchINSTALLBUILDCHECKBUILD BIN
ggtreeDendro 1.13.0  (landing page)
Guangchuang Yu
git_last_commit: f945905
git_last_commit_date: 2025-10-29 11:19:16 -0400
nebbiolo1Linux (Ubuntu 24.04.3 LTS) / x86_64  OK    OK    WARNINGS  YES
Package 9/29HostnameOS / ArchINSTALLBUILDCHECKBUILD BIN
ggtreeExtra 1.21.0  (landing page)
Shuangbin Xu
git_last_commit: 0f8e990
git_last_commit_date: 2025-10-29 11:01:03 -0400
nebbiolo1Linux (Ubuntu 24.04.3 LTS) / x86_64  OK    OK    OK  YES
Package 10/29HostnameOS / ArchINSTALLBUILDCHECKBUILD BIN
ggtreeSpace 1.7.0  (landing page)
Guangchuang Yu
git_last_commit: 049d55c
git_last_commit_date: 2025-10-29 11:29:47 -0400
nebbiolo1Linux (Ubuntu 24.04.3 LTS) / x86_64  OK    OK    WARNINGS  YES
Package 11/29HostnameOS / ArchINSTALLBUILDCHECKBUILD BIN
gINTomics 1.7.0  (landing page)
Angelo Velle
git_last_commit: 4cacafe
git_last_commit_date: 2025-10-29 11:30:01 -0400
nebbiolo1Linux (Ubuntu 24.04.3 LTS) / x86_64  ERROR    ERROR  skipped
Package 12/29HostnameOS / ArchINSTALLBUILDCHECKBUILD BIN
iSEEtree 1.5.0  (landing page)
Giulio Benedetti
git_last_commit: 63da959
git_last_commit_date: 2025-10-29 11:31:13 -0400
nebbiolo1Linux (Ubuntu 24.04.3 LTS) / x86_64  OK    OK    OK  NO, package depends on 'iSEE' which is not available
Package 13/29HostnameOS / ArchINSTALLBUILDCHECKBUILD BIN
lefser 1.21.0  (landing page)
Sehyun Oh
git_last_commit: d77aa04
git_last_commit_date: 2025-10-29 11:04:25 -0400
nebbiolo1Linux (Ubuntu 24.04.3 LTS) / x86_64  OK    OK    OK  NO, package depends on 'SummarizedExperiment' which is not available
Package 14/29HostnameOS / ArchINSTALLBUILDCHECKBUILD BIN
LymphoSeq 1.39.0  (landing page)
David Coffey
git_last_commit: be99fc7
git_last_commit_date: 2025-10-29 10:31:49 -0400
nebbiolo1Linux (Ubuntu 24.04.3 LTS) / x86_64  ERROR    ERROR  skipped
Package 15/29HostnameOS / ArchINSTALLBUILDCHECKBUILD BIN
MetaboDynamics 2.1.0  (landing page)
Katja Danielzik
git_last_commit: 6c0330e
git_last_commit_date: 2025-10-29 11:34:11 -0400
nebbiolo1Linux (Ubuntu 24.04.3 LTS) / x86_64  OK    OK    OK  NO, package depends on 'KEGGREST' which is not available
Package 16/29HostnameOS / ArchINSTALLBUILDCHECKBUILD BIN
miaViz 1.19.0  (landing page)
Tuomas Borman
git_last_commit: 5a360e5
git_last_commit_date: 2025-10-29 11:07:33 -0400
nebbiolo1Linux (Ubuntu 24.04.3 LTS) / x86_64  OK    OK    OK  NO, package depends on 'mia' which is not available
Package 17/29HostnameOS / ArchINSTALLBUILDCHECKBUILD BIN
MicrobiotaProcess 1.23.0  (landing page)
Shuangbin Xu
git_last_commit: 9b6279e
git_last_commit_date: 2025-10-29 10:58:25 -0400
nebbiolo1Linux (Ubuntu 24.04.3 LTS) / x86_64  OK    OK    OK  NO, package depends on 'Biostrings' which is not available
Package 18/29HostnameOS / ArchINSTALLBUILDCHECKBUILD BIN
mitology 1.3.0  (landing page)
Stefania Pirrotta
git_last_commit: ada0939
git_last_commit_date: 2025-10-29 11:36:14 -0400
nebbiolo1Linux (Ubuntu 24.04.3 LTS) / x86_64  ERROR    ERROR  skipped
Package 19/29HostnameOS / ArchINSTALLBUILDCHECKBUILD BIN
orthogene 1.17.0  (landing page)
Brian Schilder
git_last_commit: 7e93d1a
git_last_commit_date: 2025-10-29 11:12:12 -0400
nebbiolo1Linux (Ubuntu 24.04.3 LTS) / x86_64  OK    OK    ERROR  
Package 20/29HostnameOS / ArchINSTALLBUILDCHECKBUILD BIN
philr 1.37.0  (landing page)
Justin Silverman
git_last_commit: 6f35184
git_last_commit_date: 2025-10-29 10:34:09 -0400
nebbiolo1Linux (Ubuntu 24.04.3 LTS) / x86_64  OK    OK    OK  YES
Package 21/29HostnameOS / ArchINSTALLBUILDCHECKBUILD BIN
scBubbletree 1.13.0  (landing page)
Simo Kitanovski
git_last_commit: 7ad7e1e
git_last_commit_date: 2025-10-29 11:19:00 -0400
nebbiolo1Linux (Ubuntu 24.04.3 LTS) / x86_64  OK    OK    OK  YES
Package 22/29HostnameOS / ArchINSTALLBUILDCHECKBUILD BIN
scDotPlot 1.5.0  (landing page)
Benjamin I Laufer
git_last_commit: 060123e
git_last_commit_date: 2025-10-29 11:30:47 -0400
nebbiolo1Linux (Ubuntu 24.04.3 LTS) / x86_64  OK    OK    OK  NO, package depends on 'scater' which is not available
Package 23/29HostnameOS / ArchINSTALLBUILDCHECKBUILD BIN
singleCellTK 2.21.0  (landing page)
Joshua David Campbell
git_last_commit: 4895b66
git_last_commit_date: 2025-10-29 11:29:49 -0400
nebbiolo1Linux (Ubuntu 24.04.3 LTS) / x86_64  ERROR    ERROR  skipped
Package 24/29HostnameOS / ArchINSTALLBUILDCHECKBUILD BIN
sitePath 1.27.0  (landing page)
Chengyang Ji
git_last_commit: 26cac60
git_last_commit_date: 2025-10-29 10:51:09 -0400
nebbiolo1Linux (Ubuntu 24.04.3 LTS) / x86_64  OK    OK    OK  YES
Package 25/29HostnameOS / ArchINSTALLBUILDCHECKBUILD BIN
SVP 1.3.0  (landing page)
Shuangbin Xu
git_last_commit: 2a95c79
git_last_commit_date: 2025-10-29 11:35:05 -0400
nebbiolo1Linux (Ubuntu 24.04.3 LTS) / x86_64  OK    OK    OK  NO, package depends on 'SummarizedExperiment' which is not available
Package 26/29HostnameOS / ArchINSTALLBUILDCHECKBUILD BIN
systemPipeTools 1.19.0  (landing page)
Daniela Cassol
git_last_commit: 5e1379b
git_last_commit_date: 2025-10-29 11:10:03 -0400
nebbiolo1Linux (Ubuntu 24.04.3 LTS) / x86_64  OK    OK    WARNINGS  NO, package depends on 'DESeq2' which is not available
Package 27/29HostnameOS / ArchINSTALLBUILDCHECKBUILD BIN
tanggle 1.17.0  (landing page)
Klaus Schliep
git_last_commit: a5309c6
git_last_commit_date: 2025-10-29 11:11:48 -0400
nebbiolo1Linux (Ubuntu 24.04.3 LTS) / x86_64  OK    OK    OK  YES
Package 28/29HostnameOS / ArchINSTALLBUILDCHECKBUILD BIN
treeclimbR 1.7.0  (landing page)
Charlotte Soneson
git_last_commit: 3ba408c
git_last_commit_date: 2025-10-29 11:28:31 -0400
nebbiolo1Linux (Ubuntu 24.04.3 LTS) / x86_64  OK    OK    OK  NO, package depends on 'TreeSummarizedExperiment' which is not available
Package 29/29HostnameOS / ArchINSTALLBUILDCHECKBUILD BIN
treekoR 1.19.0  (landing page)
Adam Chan
git_last_commit: 405f7ca
git_last_commit_date: 2025-10-29 11:08:22 -0400
nebbiolo1Linux (Ubuntu 24.04.3 LTS) / x86_64  OK    OK    OK  NO, package depends on 'SingleCellExperiment' which is not available