| Back to Multiple platform build/check report for BioC 3.23: simplified long |
|
This page was generated on 2025-11-21 11:38 -0500 (Fri, 21 Nov 2025).
| Hostname | OS | Arch (*) | R version | Installed pkgs |
|---|---|---|---|---|
| nebbiolo1 | Linux (Ubuntu 24.04.3 LTS) | x86_64 | R Under development (unstable) (2025-10-20 r88955) -- "Unsuffered Consequences" | 4829 |
| lconway | macOS 12.7.6 Monterey | x86_64 | R Under development (unstable) (2025-10-21 r88958) -- "Unsuffered Consequences" | 4602 |
| kjohnson3 | macOS 13.7.7 Ventura | arm64 | R Under development (unstable) (2025-11-04 r88984) -- "Unsuffered Consequences" | 4566 |
| Click on any hostname to see more info about the system (e.g. compilers) (*) as reported by 'uname -p', except on Windows and Mac OS X | ||||
| Package 871/2327 | Hostname | OS / Arch | INSTALL | BUILD | CHECK | BUILD BIN | ||||||||
| ggsc 1.9.0 (landing page) Guangchuang Yu
| nebbiolo1 | Linux (Ubuntu 24.04.3 LTS) / x86_64 | OK | OK | OK | |||||||||
| lconway | macOS 12.7.6 Monterey / x86_64 | OK | OK | OK | OK | |||||||||
| kjohnson3 | macOS 13.7.7 Ventura / arm64 | OK | OK | OK | OK | |||||||||
|
To the developers/maintainers of the ggsc package: - Allow up to 24 hours (and sometimes 48 hours) for your latest push to git@git.bioconductor.org:packages/ggsc.git to reflect on this report. See Troubleshooting Build Report for more information. - Use the following Renviron settings to reproduce errors and warnings. - If 'R CMD check' started to fail recently on the Linux builder(s) over a missing dependency, add the missing dependency to 'Suggests:' in your DESCRIPTION file. See Renviron.bioc for more information. |
| Package: ggsc |
| Version: 1.9.0 |
| Command: /Library/Frameworks/R.framework/Resources/bin/R CMD check --install=check:ggsc.install-out.txt --library=/Library/Frameworks/R.framework/Resources/library --no-vignettes --timings ggsc_1.9.0.tar.gz |
| StartedAt: 2025-11-20 21:28:21 -0500 (Thu, 20 Nov 2025) |
| EndedAt: 2025-11-20 21:34:27 -0500 (Thu, 20 Nov 2025) |
| EllapsedTime: 366.1 seconds |
| RetCode: 0 |
| Status: OK |
| CheckDir: ggsc.Rcheck |
| Warnings: 0 |
##############################################################################
##############################################################################
###
### Running command:
###
### /Library/Frameworks/R.framework/Resources/bin/R CMD check --install=check:ggsc.install-out.txt --library=/Library/Frameworks/R.framework/Resources/library --no-vignettes --timings ggsc_1.9.0.tar.gz
###
##############################################################################
##############################################################################
* using log directory ‘/Users/biocbuild/bbs-3.23-bioc/meat/ggsc.Rcheck’
* using R Under development (unstable) (2025-10-21 r88958)
* using platform: x86_64-apple-darwin20
* R was compiled by
Apple clang version 14.0.0 (clang-1400.0.29.202)
GNU Fortran (GCC) 14.2.0
* running under: macOS Ventura 13.7.8
* using session charset: UTF-8
* using option ‘--no-vignettes’
* checking for file ‘ggsc/DESCRIPTION’ ... OK
* this is package ‘ggsc’ version ‘1.9.0’
* package encoding: UTF-8
* checking package namespace information ... OK
* checking package dependencies ... OK
* checking if this is a source package ... OK
* checking if there is a namespace ... OK
* checking for hidden files and directories ... OK
* checking for portable file names ... OK
* checking for sufficient/correct file permissions ... OK
* checking whether package ‘ggsc’ can be installed ... OK
* used C++ compiler: ‘Apple clang version 14.0.3 (clang-1403.0.22.14.1)’
* used SDK: ‘MacOSX11.3.1.sdk’
* checking installed package size ... OK
* checking package directory ... OK
* checking ‘build’ directory ... OK
* checking DESCRIPTION meta-information ... OK
* checking top-level files ... OK
* checking for left-over files ... OK
* checking index information ... OK
* checking package subdirectories ... OK
* checking code files for non-ASCII characters ... OK
* checking R files for syntax errors ... OK
* checking whether the package can be loaded ... OK
* checking whether the package can be loaded with stated dependencies ... OK
* checking whether the package can be unloaded cleanly ... OK
* checking whether the namespace can be loaded with stated dependencies ... OK
* checking whether the namespace can be unloaded cleanly ... OK
* checking dependencies in R code ... OK
* checking S3 generic/method consistency ... OK
* checking replacement functions ... OK
* checking foreign function calls ... OK
* checking R code for possible problems ... OK
* checking Rd files ... OK
* checking Rd metadata ... OK
* checking Rd cross-references ... NOTE
Non-topic package-anchored link(s) in Rd file 'reexports.Rd':
‘[ggfun:attacher]{%<+%}’
See section 'Cross-references' in the 'Writing R Extensions' manual.
* checking for missing documentation entries ... OK
* checking for code/documentation mismatches ... OK
* checking Rd \usage sections ... OK
* checking Rd contents ... OK
* checking for unstated dependencies in examples ... OK
* checking line endings in C/C++/Fortran sources/headers ... OK
* checking line endings in Makefiles ... OK
* checking compilation flags in Makevars ... OK
* checking for GNU extensions in Makefiles ... INFO
GNU make is a SystemRequirements.
* checking for portable use of $(BLAS_LIBS) and $(LAPACK_LIBS) ... OK
* checking use of PKG_*FLAGS in Makefiles ... OK
* checking compiled code ... INFO
Note: information on .o files is not available
* checking files in ‘vignettes’ ... OK
* checking examples ... OK
Examples with CPU (user + system) or elapsed time > 5s
user system elapsed
sc-feature-methods 21.952 1.464 18.873
sc-violin-methods 6.995 0.169 7.226
sc-dim-count 6.698 0.368 7.151
geom_scattermore2 5.642 0.160 4.341
sc-dim-methods 5.324 0.074 5.434
sc-dim-geom-ellipse 5.255 0.067 5.392
sc-dim-geom-feature 5.139 0.080 5.274
sc-dim-geom-label 5.059 0.066 5.179
sc-dim-sub 4.961 0.074 5.067
sc-dim-geom-subset 4.931 0.077 5.062
* checking for unstated dependencies in ‘tests’ ... OK
* checking tests ...
Running ‘testthat.R’
OK
* checking for unstated dependencies in vignettes ... OK
* checking package vignettes ... OK
* checking running R code from vignettes ... SKIPPED
* checking re-building of vignette outputs ... SKIPPED
* checking PDF version of manual ... OK
* DONE
Status: 1 NOTE
See
‘/Users/biocbuild/bbs-3.23-bioc/meat/ggsc.Rcheck/00check.log’
for details.
ggsc.Rcheck/00install.out
############################################################################## ############################################################################## ### ### Running command: ### ### /Library/Frameworks/R.framework/Resources/bin/R CMD INSTALL ggsc ### ############################################################################## ############################################################################## * installing to library ‘/Library/Frameworks/R.framework/Versions/4.6-x86_64/Resources/library’ * installing *source* package ‘ggsc’ ... ** this is package ‘ggsc’ version ‘1.9.0’ ** using staged installation ** libs using C++ compiler: ‘Apple clang version 14.0.3 (clang-1403.0.22.14.1)’ using SDK: ‘MacOSX11.3.1.sdk’ clang++ -arch x86_64 -std=gnu++17 -I"/Library/Frameworks/R.framework/Resources/include" -DNDEBUG -I'/Library/Frameworks/R.framework/Versions/4.6-x86_64/Resources/library/Rcpp/include' -I'/Library/Frameworks/R.framework/Versions/4.6-x86_64/Resources/library/RcppArmadillo/include' -I'/Library/Frameworks/R.framework/Versions/4.6-x86_64/Resources/library/RcppParallel/include' -I/opt/R/x86_64/include -DARMA_64BIT_WORD -fPIC -falign-functions=64 -Wall -g -O2 -c RcppExports.cpp -o RcppExports.o clang++ -arch x86_64 -std=gnu++17 -I"/Library/Frameworks/R.framework/Resources/include" -DNDEBUG -I'/Library/Frameworks/R.framework/Versions/4.6-x86_64/Resources/library/Rcpp/include' -I'/Library/Frameworks/R.framework/Versions/4.6-x86_64/Resources/library/RcppArmadillo/include' -I'/Library/Frameworks/R.framework/Versions/4.6-x86_64/Resources/library/RcppParallel/include' -I/opt/R/x86_64/include -DARMA_64BIT_WORD -fPIC -falign-functions=64 -Wall -g -O2 -c kde.cpp -o kde.o clang++ -arch x86_64 -std=gnu++17 -dynamiclib -Wl,-headerpad_max_install_names -undefined dynamic_lookup -L/Library/Frameworks/R.framework/Resources/lib -L/opt/R/x86_64/lib -o ggsc.so RcppExports.o kde.o -L/Library/Frameworks/R.framework/Resources/lib -lRlapack -L/Library/Frameworks/R.framework/Resources/lib -lRblas -L/opt/gfortran/lib/gcc/x86_64-apple-darwin20.0/14.2.0 -L/opt/gfortran/lib -lemutls_w -lheapt_w -lgfortran -lquadmath -L/Library/Frameworks/R.framework/Versions/4.6-x86_64/Resources/library/RcppParallel/lib -ltbb -ltbbmalloc -F/Library/Frameworks/R.framework/.. -framework R installing to /Library/Frameworks/R.framework/Versions/4.6-x86_64/Resources/library/00LOCK-ggsc/00new/ggsc/libs ** R ** byte-compile and prepare package for lazy loading ** help *** installing help indices ** building package indices ** installing vignettes ** testing if installed package can be loaded from temporary location ** checking absolute paths in shared objects and dynamic libraries ** testing if installed package can be loaded from final location ** testing if installed package keeps a record of temporary installation path * DONE (ggsc)
ggsc.Rcheck/tests/testthat.Rout
R Under development (unstable) (2025-10-21 r88958) -- "Unsuffered Consequences"
Copyright (C) 2025 The R Foundation for Statistical Computing
Platform: x86_64-apple-darwin20
R is free software and comes with ABSOLUTELY NO WARRANTY.
You are welcome to redistribute it under certain conditions.
Type 'license()' or 'licence()' for distribution details.
R is a collaborative project with many contributors.
Type 'contributors()' for more information and
'citation()' on how to cite R or R packages in publications.
Type 'demo()' for some demos, 'help()' for on-line help, or
'help.start()' for an HTML browser interface to help.
Type 'q()' to quit R.
> # This file is part of the standard setup for testthat.
> # It is recommended that you do not modify it.
> #
> # Where should you do additional test configuration?
> # Learn more about the roles of various files in:
> # * https://r-pkgs.org/tests.html
> # * https://testthat.r-lib.org/reference/test_package.html#special-files
>
> library(testthat)
> library(ggsc)
>
> test_check("ggsc")
[ FAIL 0 | WARN 1 | SKIP 0 | PASS 2 ]
[ FAIL 0 | WARN 1 | SKIP 0 | PASS 2 ]
>
> proc.time()
user system elapsed
15.191 1.115 16.440
ggsc.Rcheck/ggsc-Ex.timings
| name | user | system | elapsed | |
| geom_bgpoint | 0.342 | 0.013 | 0.361 | |
| geom_scattermore2 | 5.642 | 0.160 | 4.341 | |
| plot-lisa-feature | 0.000 | 0.001 | 0.001 | |
| sc-dim-count | 6.698 | 0.368 | 7.151 | |
| sc-dim-geom-ellipse | 5.255 | 0.067 | 5.392 | |
| sc-dim-geom-feature | 5.139 | 0.080 | 5.274 | |
| sc-dim-geom-label | 5.059 | 0.066 | 5.179 | |
| sc-dim-geom-subset | 4.931 | 0.077 | 5.062 | |
| sc-dim-methods | 5.324 | 0.074 | 5.434 | |
| sc-dim-sub | 4.961 | 0.074 | 5.067 | |
| sc-dot-methods | 1.168 | 0.039 | 1.215 | |
| sc-feature-methods | 21.952 | 1.464 | 18.873 | |
| sc-geom-point | 0.693 | 0.052 | 0.535 | |
| sc-spatial-methods | 0.000 | 0.000 | 0.001 | |
| sc-violin-methods | 6.995 | 0.169 | 7.226 | |