Back to Multiple platform build/check report for BioC 3.22:   simplified   long
ABCDE[F]GHIJKLMNOPQRSTUVWXYZ

This page was generated on 2025-10-04 12:03 -0400 (Sat, 04 Oct 2025).

HostnameOSArch (*)R versionInstalled pkgs
nebbiolo2Linux (Ubuntu 24.04.3 LTS)x86_644.5.1 Patched (2025-08-23 r88802) -- "Great Square Root" 4853
lconwaymacOS 12.7.1 Montereyx86_644.5.1 Patched (2025-09-10 r88807) -- "Great Square Root" 4640
kjohnson3macOS 13.7.7 Venturaarm644.5.1 Patched (2025-09-10 r88807) -- "Great Square Root" 4585
taishanLinux (openEuler 24.03 LTS)aarch644.5.0 (2025-04-11) -- "How About a Twenty-Six" 4576
Click on any hostname to see more info about the system (e.g. compilers)      (*) as reported by 'uname -p', except on Windows and Mac OS X

Package 751/2341HostnameOS / ArchINSTALLBUILDCHECKBUILD BIN
flowGraph 1.17.0  (landing page)
Alice Yue
Snapshot Date: 2025-10-03 13:45 -0400 (Fri, 03 Oct 2025)
git_url: https://git.bioconductor.org/packages/flowGraph
git_branch: devel
git_last_commit: 16b2487
git_last_commit_date: 2025-04-15 12:15:54 -0400 (Tue, 15 Apr 2025)
nebbiolo2Linux (Ubuntu 24.04.3 LTS) / x86_64  OK    OK    OK  UNNEEDED, same version is already published
lconwaymacOS 12.7.1 Monterey / x86_64  OK    OK    OK    OK  UNNEEDED, same version is already published
kjohnson3macOS 13.7.7 Ventura / arm64  OK    OK    OK    OK  UNNEEDED, same version is already published
taishanLinux (openEuler 24.03 LTS) / aarch64  OK    OK    OK  


CHECK results for flowGraph on nebbiolo2

To the developers/maintainers of the flowGraph package:
- Allow up to 24 hours (and sometimes 48 hours) for your latest push to git@git.bioconductor.org:packages/flowGraph.git to reflect on this report. See Troubleshooting Build Report for more information.
- Use the following Renviron settings to reproduce errors and warnings.
- If 'R CMD check' started to fail recently on the Linux builder(s) over a missing dependency, add the missing dependency to 'Suggests:' in your DESCRIPTION file. See Renviron.bioc for more information.

raw results


Summary

Package: flowGraph
Version: 1.17.0
Command: /home/biocbuild/bbs-3.22-bioc/R/bin/R CMD check --install=check:flowGraph.install-out.txt --library=/home/biocbuild/bbs-3.22-bioc/R/site-library --timings flowGraph_1.17.0.tar.gz
StartedAt: 2025-10-03 23:51:01 -0400 (Fri, 03 Oct 2025)
EndedAt: 2025-10-03 23:55:28 -0400 (Fri, 03 Oct 2025)
EllapsedTime: 267.4 seconds
RetCode: 0
Status:   OK  
CheckDir: flowGraph.Rcheck
Warnings: 0

Command output

##############################################################################
##############################################################################
###
### Running command:
###
###   /home/biocbuild/bbs-3.22-bioc/R/bin/R CMD check --install=check:flowGraph.install-out.txt --library=/home/biocbuild/bbs-3.22-bioc/R/site-library --timings flowGraph_1.17.0.tar.gz
###
##############################################################################
##############################################################################


* using log directory ‘/home/biocbuild/bbs-3.22-bioc/meat/flowGraph.Rcheck’
* using R version 4.5.1 Patched (2025-08-23 r88802)
* using platform: x86_64-pc-linux-gnu
* R was compiled by
    gcc (Ubuntu 13.3.0-6ubuntu2~24.04) 13.3.0
    GNU Fortran (Ubuntu 13.3.0-6ubuntu2~24.04) 13.3.0
* running under: Ubuntu 24.04.3 LTS
* using session charset: UTF-8
* checking for file ‘flowGraph/DESCRIPTION’ ... OK
* checking extension type ... Package
* this is package ‘flowGraph’ version ‘1.17.0’
* checking package namespace information ... OK
* checking package dependencies ... OK
* checking if this is a source package ... OK
* checking if there is a namespace ... OK
* checking for hidden files and directories ... OK
* checking for portable file names ... OK
* checking for sufficient/correct file permissions ... OK
* checking whether package ‘flowGraph’ can be installed ... OK
* checking installed package size ... OK
* checking package directory ... OK
* checking ‘build’ directory ... OK
* checking DESCRIPTION meta-information ... OK
* checking top-level files ... OK
* checking for left-over files ... OK
* checking index information ... OK
* checking package subdirectories ... OK
* checking code files for non-ASCII characters ... OK
* checking R files for syntax errors ... OK
* checking whether the package can be loaded ... OK
* checking whether the package can be loaded with stated dependencies ... OK
* checking whether the package can be unloaded cleanly ... OK
* checking whether the namespace can be loaded with stated dependencies ... OK
* checking whether the namespace can be unloaded cleanly ... OK
* checking loading without being on the library search path ... OK
* checking dependencies in R code ... OK
* checking S3 generic/method consistency ... OK
* checking replacement functions ... OK
* checking foreign function calls ... OK
* checking R code for possible problems ... NOTE
get_child: no visible binding for global variable ‘no_cores’
get_paren: no visible binding for global variable ‘no_cores’
ms_psig: no visible binding for global variable ‘meta’
Undefined global functions or variables:
  meta no_cores
* checking Rd files ... NOTE
checkRd: (-1) fg_get_graph.Rd:13: Lost braces
    13 | A list containing two data frames (\code{v} and ]code{e})
       |                                                      ^
checkRd: (-1) ggdf.Rd:22: Lost braces
    22 | code{ggdf} adds to the data frames \code{v} and \code{e} in slot
       |     ^
* checking Rd metadata ... OK
* checking Rd cross-references ... OK
* checking for missing documentation entries ... OK
* checking for code/documentation mismatches ... OK
* checking Rd \usage sections ... OK
* checking Rd contents ... OK
* checking for unstated dependencies in examples ... OK
* checking contents of ‘data’ directory ... OK
* checking data for non-ASCII characters ... OK
* checking data for ASCII and uncompressed saves ... OK
* checking files in ‘vignettes’ ... OK
* checking examples ... OK
Examples with CPU (user + system) or elapsed time > 5s
                user system elapsed
fg_load       46.599  0.817  47.409
fg_save_plots 46.453  0.706  47.163
fg_save       45.758  0.782  46.544
* checking for unstated dependencies in ‘tests’ ... OK
* checking tests ...
  Running ‘testthat.R’
 OK
* checking for unstated dependencies in vignettes ... OK
* checking package vignettes ... OK
* checking re-building of vignette outputs ... OK
* checking PDF version of manual ... OK
* DONE

Status: 2 NOTEs
See
  ‘/home/biocbuild/bbs-3.22-bioc/meat/flowGraph.Rcheck/00check.log’
for details.


Installation output

flowGraph.Rcheck/00install.out

##############################################################################
##############################################################################
###
### Running command:
###
###   /home/biocbuild/bbs-3.22-bioc/R/bin/R CMD INSTALL flowGraph
###
##############################################################################
##############################################################################


* installing to library ‘/home/biocbuild/bbs-3.22-bioc/R/site-library’
* installing *source* package ‘flowGraph’ ...
** this is package ‘flowGraph’ version ‘1.17.0’
** using staged installation
** R
** data
** inst
** byte-compile and prepare package for lazy loading
** help
Loading required namespace: flowGraph
*** installing help indices
** building package indices
** installing vignettes
** testing if installed package can be loaded from temporary location
** testing if installed package can be loaded from final location
** testing if installed package keeps a record of temporary installation path
* DONE (flowGraph)

Tests output

flowGraph.Rcheck/tests/testthat.Rout


R version 4.5.1 Patched (2025-08-23 r88802) -- "Great Square Root"
Copyright (C) 2025 The R Foundation for Statistical Computing
Platform: x86_64-pc-linux-gnu

R is free software and comes with ABSOLUTELY NO WARRANTY.
You are welcome to redistribute it under certain conditions.
Type 'license()' or 'licence()' for distribution details.

R is a collaborative project with many contributors.
Type 'contributors()' for more information and
'citation()' on how to cite R or R packages in publications.

Type 'demo()' for some demos, 'help()' for on-line help, or
'help.start()' for an HTML browser interface to help.
Type 'q()' to quit R.

> library(testthat)
> library(flowGraph)
> 
> test_check("flowGraph")
[ FAIL 0 | WARN 1 | SKIP 0 | PASS 34 ]

[ FAIL 0 | WARN 1 | SKIP 0 | PASS 34 ]
> 
> proc.time()
   user  system elapsed 
  5.323   0.275   5.587 

Example timings

flowGraph.Rcheck/flowGraph-Ex.timings

nameusersystemelapsed
cell_type_layers0.0030.0010.003
fg_add_feature0.3500.0030.352
fg_add_summary0.8650.0040.868
fg_clean_phen0.0010.0000.000
fg_clear_features0.8450.0020.847
fg_clear_summary0.3700.0010.371
fg_extract_phenotypes0.2930.0010.294
fg_extract_raw0.8250.1410.966
fg_extract_samples0.2820.0060.288
fg_feat_cumsum0.2950.0290.324
fg_feat_edge_specenr0.4220.0030.425
fg_feat_mean_class0.2840.0000.284
fg_feat_node_prop0.2760.0010.277
fg_feat_node_specenr0.6110.1070.718
fg_feat_prop_edge0.4790.0020.482
fg_get_feature0.350.000.35
fg_get_feature_desc0.9260.1401.066
fg_get_feature_means1.1850.0041.189
fg_get_graph0.2580.0020.260
fg_get_markers0.2580.0010.259
fg_get_meta0.4420.1050.547
fg_get_summary1.4700.0841.554
fg_get_summary_desc0.6920.0050.697
fg_get_summary_index1.5960.0011.601
fg_get_summary_tables1.0500.0151.065
fg_gsub_ids0.2400.0010.241
fg_gsub_markers0.2930.0010.293
fg_load46.599 0.81747.409
fg_merge0.2780.0010.279
fg_merge_samples0.2810.0010.282
fg_plot0.3890.0020.391
fg_plot_box0.7110.0020.713
fg_plot_pVSdiff0.3690.0020.371
fg_plot_qq1.1940.0051.202
fg_replace_meta0.2940.0010.295
fg_rm_feature0.7830.0020.784
fg_rm_summary0.3540.0000.353
fg_save45.758 0.78246.544
fg_save_plots46.453 0.70647.163
fg_set_layout0.2680.0010.269
fg_summary0.3350.0030.338
flowGraph-class0.0010.0000.001
flowGraph1.1680.0001.168
flowGraphSubset000
flowGraphSubset_summary_adjust000
flowGraphSubset_summary_pars0.0000.0000.001
get_phen_list0.0120.0000.012
get_phen_meta0.0010.0000.001
ggdf0.2640.0030.268
loop_ind_f000
meandiff000
plot_gr1.5710.0061.580
set_layout_graph0.3010.0020.303
summary_table0.0030.0000.003
time_output0.0010.0000.001
tstr000