| Back to Multiple platform build/check report for BioC 3.22: simplified long |
|
This page was generated on 2025-10-24 12:06 -0400 (Fri, 24 Oct 2025).
| Hostname | OS | Arch (*) | R version | Installed pkgs |
|---|---|---|---|---|
| nebbiolo2 | Linux (Ubuntu 24.04.3 LTS) | x86_64 | 4.5.1 Patched (2025-08-23 r88802) -- "Great Square Root" | 4898 |
| lconway | macOS 12.7.6 Monterey | x86_64 | 4.5.1 Patched (2025-09-10 r88807) -- "Great Square Root" | 4688 |
| kjohnson3 | macOS 13.7.7 Ventura | arm64 | 4.5.1 Patched (2025-09-10 r88807) -- "Great Square Root" | 4634 |
| taishan | Linux (openEuler 24.03 LTS) | aarch64 | 4.5.0 (2025-04-11) -- "How About a Twenty-Six" | 4658 |
| Click on any hostname to see more info about the system (e.g. compilers) (*) as reported by 'uname -p', except on Windows and Mac OS X | ||||
| Package 734/2359 | Hostname | OS / Arch | INSTALL | BUILD | CHECK | BUILD BIN | ||||||||
| fgsea 1.35.8 (landing page) Alexey Sergushichev
| nebbiolo2 | Linux (Ubuntu 24.04.3 LTS) / x86_64 | OK | OK | OK | |||||||||
| lconway | macOS 12.7.6 Monterey / x86_64 | OK | OK | OK | OK | |||||||||
| kjohnson3 | macOS 13.7.7 Ventura / arm64 | OK | OK | OK | OK | |||||||||
| taishan | Linux (openEuler 24.03 LTS) / aarch64 | OK | OK | NA | ||||||||||
|
To the developers/maintainers of the fgsea package: - Allow up to 24 hours (and sometimes 48 hours) for your latest push to git@git.bioconductor.org:packages/fgsea.git to reflect on this report. See Troubleshooting Build Report for more information. - Use the following Renviron settings to reproduce errors and warnings. - If 'R CMD check' started to fail recently on the Linux builder(s) over a missing dependency, add the missing dependency to 'Suggests:' in your DESCRIPTION file. See Renviron.bioc for more information. |
| Package: fgsea |
| Version: 1.35.8 |
| Command: /Library/Frameworks/R.framework/Resources/bin/R CMD check --install=check:fgsea.install-out.txt --library=/Library/Frameworks/R.framework/Resources/library --no-vignettes --timings fgsea_1.35.8.tar.gz |
| StartedAt: 2025-10-23 19:50:58 -0400 (Thu, 23 Oct 2025) |
| EndedAt: 2025-10-23 19:52:23 -0400 (Thu, 23 Oct 2025) |
| EllapsedTime: 85.0 seconds |
| RetCode: 0 |
| Status: OK |
| CheckDir: fgsea.Rcheck |
| Warnings: 0 |
##############################################################################
##############################################################################
###
### Running command:
###
### /Library/Frameworks/R.framework/Resources/bin/R CMD check --install=check:fgsea.install-out.txt --library=/Library/Frameworks/R.framework/Resources/library --no-vignettes --timings fgsea_1.35.8.tar.gz
###
##############################################################################
##############################################################################
* using log directory ‘/Users/biocbuild/bbs-3.22-bioc/meat/fgsea.Rcheck’
* using R version 4.5.1 Patched (2025-09-10 r88807)
* using platform: aarch64-apple-darwin20
* R was compiled by
Apple clang version 16.0.0 (clang-1600.0.26.6)
GNU Fortran (GCC) 14.2.0
* running under: macOS Ventura 13.7.7
* using session charset: UTF-8
* using option ‘--no-vignettes’
* checking for file ‘fgsea/DESCRIPTION’ ... OK
* this is package ‘fgsea’ version ‘1.35.8’
* package encoding: UTF-8
* checking package namespace information ... OK
* checking package dependencies ... OK
* checking if this is a source package ... OK
* checking if there is a namespace ... OK
* checking for hidden files and directories ... OK
* checking for portable file names ... OK
* checking for sufficient/correct file permissions ... OK
* checking whether package ‘fgsea’ can be installed ... OK
* used C++ compiler: ‘Apple clang version 15.0.0 (clang-1500.1.0.2.5)’
* used SDK: ‘MacOSX11.3.1.sdk’
* checking installed package size ... INFO
installed size is 5.6Mb
sub-directories of 1Mb or more:
data 1.1Mb
extdata 3.9Mb
* checking package directory ... OK
* checking ‘build’ directory ... OK
* checking DESCRIPTION meta-information ... NOTE
License stub is invalid DCF.
* checking top-level files ... OK
* checking for left-over files ... OK
* checking index information ... OK
* checking package subdirectories ... OK
* checking code files for non-ASCII characters ... OK
* checking R files for syntax errors ... OK
* checking whether the package can be loaded ... OK
* checking whether the package can be loaded with stated dependencies ... OK
* checking whether the package can be unloaded cleanly ... OK
* checking whether the namespace can be loaded with stated dependencies ... OK
* checking whether the namespace can be unloaded cleanly ... OK
* checking dependencies in R code ... NOTE
There are ::: calls to the package's namespace in its code. A package
almost never needs to use ::: for its own objects:
‘addGesecaScores’
* checking S3 generic/method consistency ... OK
* checking replacement functions ... OK
* checking foreign function calls ... OK
* checking R code for possible problems ... NOTE
setUpBPPARAM: warning in MulticoreParam(workers = nproc, progress =
TRUE): partial argument match of 'progress' to 'progressbar'
addGesecaScores: no visible global function definition for
‘DefaultAssay’
addGesecaScores: no visible global function definition for
‘GetAssayData’
collapsePathways: no visible binding for global variable ‘pathway’
collapsePathways: no visible binding for global variable ‘ES’
collapsePathwaysGeseca: no visible binding for global variable
‘pvalCond’
collapsePathwaysGeseca: no visible binding for global variable
‘pathway’
collapsePathwaysGeseca: no visible binding for global variable
‘reciprocalPvalCond’
collapsePathwaysGeseca: no visible binding for global variable ‘pScore’
collapsePathwaysGeseca: no visible binding for global variable ‘pval’
fgseaMultilevel: no visible binding for global variable ‘modeFraction’
fgseaMultilevel: no visible binding for global variable ‘denomProb’
fora: no visible binding for global variable ‘es’
fora: no visible binding for global variable ‘k’
fora: no visible binding for global variable ‘m’
fora: no visible binding for global variable ‘pval’
geseca: no visible binding for global variable ‘gsScore’
geseca: no visible binding for global variable ‘log2err’
geseca: no visible binding for global variable ‘nGeScore’
geseca: no visible binding for global variable ‘pctVar’
geseca: no visible binding for global variable ‘size’
geseca: no visible binding for global variable ‘pathway’
geseca: no visible global function definition for ‘.’
geseca: no visible binding for global variable ‘pval’
geseca: no visible binding for global variable ‘padj’
gesecaSimple: no visible binding for global variable ‘pctVar’
gesecaSimple: no visible binding for global variable ‘size’
gesecaSimple: no visible binding for global variable ‘pval’
gesecaSimpleImpl: no visible binding for global variable ‘pval’
gesecaSimpleImpl: no visible binding for global variable ‘nGeScore’
gesecaSimpleImpl: no visible binding for global variable ‘padj’
gesecaSimpleImpl: no visible binding for global variable ‘size’
plotCoregulationProfile: no visible binding for global variable ‘id’
plotCoregulationProfile: no visible binding for global variable ‘gene’
plotCoregulationProfile: no visible binding for global variable
‘expressionValue’
plotCoregulationProfile: no visible binding for global variable ‘x’
plotCoregulationProfile: no visible binding for global variable ‘y’
plotCoregulationProfile: no visible binding for global variable
‘condition’
plotCoregulationProfileImage: no visible global function definition for
‘DefaultAssay’
plotCoregulationProfileReduction: no visible global function definition
for ‘DefaultAssay’
plotCoregulationProfileSpatial: no visible global function definition
for ‘DefaultAssay’
plotGesecaTable: no visible global function definition for ‘modifyList’
plotGesecaTable: no visible binding for global variable ‘pathway’
plotGesecaTable: no visible binding for global variable ‘value’
plotGesecaTable : <anonymous>: no visible binding for global variable
‘pathway’
plotGesecaTable : <anonymous>: no visible binding for global variable
‘value’
plotGseaTable: no visible global function definition for ‘modifyList’
Undefined global functions or variables:
. DefaultAssay ES GetAssayData condition denomProb es expressionValue
gene gsScore id k log2err m modeFraction modifyList nGeScore pScore
padj pathway pctVar pval pvalCond reciprocalPvalCond size value x y
Consider adding
importFrom("utils", "modifyList")
to your NAMESPACE file.
* checking Rd files ... OK
* checking Rd metadata ... OK
* checking Rd cross-references ... OK
* checking for missing documentation entries ... OK
* checking for code/documentation mismatches ... OK
* checking Rd \usage sections ... OK
* checking Rd contents ... OK
* checking for unstated dependencies in examples ... OK
* checking contents of ‘data’ directory ... OK
* checking data for non-ASCII characters ... OK
* checking LazyData ... OK
* checking data for ASCII and uncompressed saves ... OK
* checking line endings in C/C++/Fortran sources/headers ... OK
* checking compiled code ... NOTE
Note: information on .o files is not available
* checking files in ‘vignettes’ ... OK
* checking examples ... OK
Examples with CPU (user + system) or elapsed time > 5s
user system elapsed
plotGseaTable 7.388 0.242 6.017
* checking for unstated dependencies in ‘tests’ ... OK
* checking tests ...
Running ‘testthat.R’
OK
* checking for unstated dependencies in vignettes ... OK
* checking package vignettes ... OK
* checking running R code from vignettes ... SKIPPED
* checking re-building of vignette outputs ... SKIPPED
* checking PDF version of manual ... OK
* DONE
Status: 4 NOTEs
See
‘/Users/biocbuild/bbs-3.22-bioc/meat/fgsea.Rcheck/00check.log’
for details.
fgsea.Rcheck/00install.out
##############################################################################
##############################################################################
###
### Running command:
###
### /Library/Frameworks/R.framework/Resources/bin/R CMD INSTALL fgsea
###
##############################################################################
##############################################################################
* installing to library ‘/Library/Frameworks/R.framework/Versions/4.5-arm64/Resources/library’
* installing *source* package ‘fgsea’ ...
** this is package ‘fgsea’ version ‘1.35.8’
** using staged installation
** libs
using C++ compiler: ‘Apple clang version 15.0.0 (clang-1500.1.0.2.5)’
using SDK: ‘MacOSX11.3.1.sdk’
clang++ -arch arm64 -std=gnu++17 -I"/Library/Frameworks/R.framework/Resources/include" -DNDEBUG -I'/Library/Frameworks/R.framework/Versions/4.5-arm64/Resources/library/Rcpp/include' -I'/Library/Frameworks/R.framework/Versions/4.5-arm64/Resources/library/BH/include' -I/opt/R/arm64/include -fPIC -falign-functions=64 -Wall -g -O2 -c RcppExports.cpp -o RcppExports.o
clang++ -arch arm64 -std=gnu++17 -I"/Library/Frameworks/R.framework/Resources/include" -DNDEBUG -I'/Library/Frameworks/R.framework/Versions/4.5-arm64/Resources/library/Rcpp/include' -I'/Library/Frameworks/R.framework/Versions/4.5-arm64/Resources/library/BH/include' -I/opt/R/arm64/include -fPIC -falign-functions=64 -Wall -g -O2 -c ScoreCalculation.cpp -o ScoreCalculation.o
clang++ -arch arm64 -std=gnu++17 -I"/Library/Frameworks/R.framework/Resources/include" -DNDEBUG -I'/Library/Frameworks/R.framework/Versions/4.5-arm64/Resources/library/Rcpp/include' -I'/Library/Frameworks/R.framework/Versions/4.5-arm64/Resources/library/BH/include' -I/opt/R/arm64/include -fPIC -falign-functions=64 -Wall -g -O2 -c ScoreRuler.cpp -o ScoreRuler.o
clang++ -arch arm64 -std=gnu++17 -I"/Library/Frameworks/R.framework/Resources/include" -DNDEBUG -I'/Library/Frameworks/R.framework/Versions/4.5-arm64/Resources/library/Rcpp/include' -I'/Library/Frameworks/R.framework/Versions/4.5-arm64/Resources/library/BH/include' -I/opt/R/arm64/include -fPIC -falign-functions=64 -Wall -g -O2 -c esCalculation.cpp -o esCalculation.o
clang++ -arch arm64 -std=gnu++17 -I"/Library/Frameworks/R.framework/Resources/include" -DNDEBUG -I'/Library/Frameworks/R.framework/Versions/4.5-arm64/Resources/library/Rcpp/include' -I'/Library/Frameworks/R.framework/Versions/4.5-arm64/Resources/library/BH/include' -I/opt/R/arm64/include -fPIC -falign-functions=64 -Wall -g -O2 -c fastGSEA.cpp -o fastGSEA.o
clang++ -arch arm64 -std=gnu++17 -I"/Library/Frameworks/R.framework/Resources/include" -DNDEBUG -I'/Library/Frameworks/R.framework/Versions/4.5-arm64/Resources/library/Rcpp/include' -I'/Library/Frameworks/R.framework/Versions/4.5-arm64/Resources/library/BH/include' -I/opt/R/arm64/include -fPIC -falign-functions=64 -Wall -g -O2 -c fgseaMultilevel.cpp -o fgseaMultilevel.o
clang++ -arch arm64 -std=gnu++17 -I"/Library/Frameworks/R.framework/Resources/include" -DNDEBUG -I'/Library/Frameworks/R.framework/Versions/4.5-arm64/Resources/library/Rcpp/include' -I'/Library/Frameworks/R.framework/Versions/4.5-arm64/Resources/library/BH/include' -I/opt/R/arm64/include -fPIC -falign-functions=64 -Wall -g -O2 -c fgseaMultilevelSupplement.cpp -o fgseaMultilevelSupplement.o
fgseaMultilevelSupplement.cpp:77:16: warning: unused variable 'currentES' [-Wunused-variable]
double currentES = calcES(ranks, currentSamples[sampleId]);
^
fgseaMultilevelSupplement.cpp:270:14: warning: unused variable 'fl' [-Wunused-variable]
bool fl = false;
^
2 warnings generated.
clang++ -arch arm64 -std=gnu++17 -I"/Library/Frameworks/R.framework/Resources/include" -DNDEBUG -I'/Library/Frameworks/R.framework/Versions/4.5-arm64/Resources/library/Rcpp/include' -I'/Library/Frameworks/R.framework/Versions/4.5-arm64/Resources/library/BH/include' -I/opt/R/arm64/include -fPIC -falign-functions=64 -Wall -g -O2 -c geseca.cpp -o geseca.o
clang++ -arch arm64 -std=gnu++17 -I"/Library/Frameworks/R.framework/Resources/include" -DNDEBUG -I'/Library/Frameworks/R.framework/Versions/4.5-arm64/Resources/library/Rcpp/include' -I'/Library/Frameworks/R.framework/Versions/4.5-arm64/Resources/library/BH/include' -I/opt/R/arm64/include -fPIC -falign-functions=64 -Wall -g -O2 -c util.cpp -o util.o
clang++ -arch arm64 -std=gnu++17 -dynamiclib -Wl,-headerpad_max_install_names -undefined dynamic_lookup -L/Library/Frameworks/R.framework/Resources/lib -L/opt/R/arm64/lib -o fgsea.so RcppExports.o ScoreCalculation.o ScoreRuler.o esCalculation.o fastGSEA.o fgseaMultilevel.o fgseaMultilevelSupplement.o geseca.o util.o -F/Library/Frameworks/R.framework/.. -framework R
installing to /Library/Frameworks/R.framework/Versions/4.5-arm64/Resources/library/00LOCK-fgsea/00new/fgsea/libs
** R
** data
*** moving datasets to lazyload DB
** inst
** byte-compile and prepare package for lazy loading
** help
*** installing help indices
** building package indices
** installing vignettes
** testing if installed package can be loaded from temporary location
** checking absolute paths in shared objects and dynamic libraries
** testing if installed package can be loaded from final location
** testing if installed package keeps a record of temporary installation path
* DONE (fgsea)
fgsea.Rcheck/tests/testthat.Rout
R version 4.5.1 Patched (2025-09-10 r88807) -- "Great Square Root"
Copyright (C) 2025 The R Foundation for Statistical Computing
Platform: aarch64-apple-darwin20
R is free software and comes with ABSOLUTELY NO WARRANTY.
You are welcome to redistribute it under certain conditions.
Type 'license()' or 'licence()' for distribution details.
R is a collaborative project with many contributors.
Type 'contributors()' for more information and
'citation()' on how to cite R or R packages in publications.
Type 'demo()' for some demos, 'help()' for on-line help, or
'help.start()' for an HTML browser interface to help.
Type 'q()' to quit R.
> # setting R_TESTS to empty string because of
> # https://github.com/hadley/testthat/issues/144
> # revert this when that issue in R is fixed.
> Sys.setenv("R_TESTS" = "")
>
> library(testthat)
> library(fgsea)
>
> test_check("fgsea")
|
| | 0%
|
|=================================== | 50%
|
|======================================================================| 100%
|
| | 0%
|
|=================================== | 50%
|
|======================================================================| 100%
|
| | 0%
|
|=================================== | 50%
|
|======================================================================| 100%
|
| | 0%
|
|======================================================================| 100%
|
| | 0%
|
|= | 1%
|
|== | 3%
|
|=== | 4%
|
|==== | 5%
|
|===== | 7%
|
|====== | 8%
|
|======= | 10%
|
|======== | 11%
|
|========= | 12%
|
|========== | 14%
|
|=========== | 15%
|
|============ | 16%
|
|============ | 18%
|
|============= | 19%
|
|============== | 21%
|
|=============== | 22%
|
|================ | 23%
|
|================= | 25%
|
|================== | 26%
|
|=================== | 27%
|
|==================== | 29%
|
|===================== | 30%
|
|====================== | 32%
|
|======================= | 33%
|
|======================== | 34%
|
|========================= | 36%
|
|========================== | 37%
|
|=========================== | 38%
|
|============================ | 40%
|
|============================= | 41%
|
|============================== | 42%
|
|=============================== | 44%
|
|================================ | 45%
|
|================================= | 47%
|
|================================== | 48%
|
|=================================== | 49%
|
|=================================== | 51%
|
|==================================== | 52%
|
|===================================== | 53%
|
|====================================== | 55%
|
|======================================= | 56%
|
|======================================== | 58%
|
|========================================= | 59%
|
|========================================== | 60%
|
|=========================================== | 62%
|
|============================================ | 63%
|
|============================================= | 64%
|
|============================================== | 66%
|
|=============================================== | 67%
|
|================================================ | 68%
|
|================================================= | 70%
|
|================================================== | 71%
|
|=================================================== | 73%
|
|==================================================== | 74%
|
|===================================================== | 75%
|
|====================================================== | 77%
|
|======================================================= | 78%
|
|======================================================== | 79%
|
|========================================================= | 81%
|
|========================================================== | 82%
|
|========================================================== | 84%
|
|=========================================================== | 85%
|
|============================================================ | 86%
|
|============================================================= | 88%
|
|============================================================== | 89%
|
|=============================================================== | 90%
|
|================================================================ | 92%
|
|================================================================= | 93%
|
|================================================================== | 95%
|
|=================================================================== | 96%
|
|==================================================================== | 97%
|
|===================================================================== | 99%
|
|======================================================================| 100%
2025-10-23 19:52:17.895 R[87211:534600526] XType: Using static font registry.
[ FAIL 0 | WARN 3 | SKIP 2 | PASS 145 ]
══ Skipped tests (2) ═══════════════════════════════════════════════════════════
• On Bioconductor (1): 'test_gsea_analysis.R:80:5'
• On Mac (1): 'test_gsea_stat.R:98:5'
[ FAIL 0 | WARN 3 | SKIP 2 | PASS 145 ]
>
> proc.time()
user system elapsed
37.665 6.934 34.340
fgsea.Rcheck/fgsea-Ex.timings
| name | user | system | elapsed | |
| calcGseaStat | 0.012 | 0.003 | 0.014 | |
| collapsePathways | 4.651 | 0.267 | 3.030 | |
| collapsePathwaysORA | 0.063 | 0.006 | 0.068 | |
| fgsea | 2.252 | 0.146 | 1.878 | |
| fgseaLabel | 0.000 | 0.000 | 0.001 | |
| fgseaMultilevel | 4.708 | 0.191 | 1.770 | |
| fgseaSimple | 3.482 | 0.814 | 1.442 | |
| fora | 0.047 | 0.025 | 0.072 | |
| geseca | 2.070 | 0.534 | 1.385 | |
| gesecaSimple | 0.370 | 0.166 | 0.543 | |
| gmtPathways | 0.030 | 0.006 | 0.036 | |
| mapIdsList | 3.427 | 0.229 | 2.520 | |
| multilevelError | 0 | 0 | 0 | |
| plotEnrichment | 0.000 | 0.001 | 0.001 | |
| plotEnrichmentData | 0.185 | 0.023 | 0.217 | |
| plotGseaTable | 7.388 | 0.242 | 6.017 | |
| reactomePathways | 1.252 | 0.036 | 1.292 | |
| writeGmtPathways | 0.014 | 0.002 | 0.015 | |