Back to Build/check report for BioC 3.23:   simplified   long
ABCD[E]FGHIJKLMNOPQRSTUVWXYZ

This page was generated on 2025-11-03 11:33 -0500 (Mon, 03 Nov 2025).

HostnameOSArch (*)R versionInstalled pkgs
nebbiolo1Linux (Ubuntu 24.04.3 LTS)x86_64R Under development (unstable) (2025-10-20 r88955) -- "Unsuffered Consequences" 4775
Click on any hostname to see more info about the system (e.g. compilers)      (*) as reported by 'uname -p', except on Windows and Mac OS X

Package 691/2321HostnameOS / ArchINSTALLBUILDCHECKBUILD BIN
evaluomeR 1.27.0  (landing page)
José Antonio Bernabé-Díaz
Snapshot Date: 2025-11-02 13:40 -0500 (Sun, 02 Nov 2025)
git_url: https://git.bioconductor.org/packages/evaluomeR
git_branch: devel
git_last_commit: 71a13fd
git_last_commit_date: 2025-10-29 10:50:57 -0500 (Wed, 29 Oct 2025)
nebbiolo1Linux (Ubuntu 24.04.3 LTS) / x86_64  OK    OK    WARNINGS  UNNEEDED, same version is already published


BUILD results for evaluomeR on nebbiolo1

To the developers/maintainers of the evaluomeR package:
- Allow up to 24 hours (and sometimes 48 hours) for your latest push to git@git.bioconductor.org:packages/evaluomeR.git to reflect on this report. See Troubleshooting Build Report for more information.
- Use the following Renviron settings to reproduce errors and warnings.
- If 'R CMD check' started to fail recently on the Linux builder(s) over a missing dependency, add the missing dependency to 'Suggests:' in your DESCRIPTION file. See Renviron.bioc for more information.

raw results


Summary

Package: evaluomeR
Version: 1.27.0
Command: /home/biocbuild/bbs-3.23-bioc/R/bin/R CMD build --keep-empty-dirs --no-resave-data evaluomeR
StartedAt: 2025-11-02 17:32:59 -0500 (Sun, 02 Nov 2025)
EndedAt: 2025-11-02 17:34:11 -0500 (Sun, 02 Nov 2025)
EllapsedTime: 71.2 seconds
RetCode: 0
Status:   OK  
PackageFile: evaluomeR_1.27.0.tar.gz
PackageFileSize: 1.112 MiB

Command output

##############################################################################
##############################################################################
###
### Running command:
###
###   /home/biocbuild/bbs-3.23-bioc/R/bin/R CMD build --keep-empty-dirs --no-resave-data evaluomeR
###
##############################################################################
##############################################################################


* checking for file ‘evaluomeR/DESCRIPTION’ ... OK
* preparing ‘evaluomeR’:
* checking DESCRIPTION meta-information ... OK
* installing the package (it is needed to process help pages)
Loading required namespace: evaluomeR
* saving partial Rd database
* creating vignettes ... OK
* checking for LF line-endings in source and make files and shell scripts
* checking for empty or unneeded directories
* building ‘evaluomeR_1.27.0.tar.gz’