| Back to Multiple platform build/check report for BioC 3.22: simplified long |
|
This page was generated on 2025-10-21 12:07 -0400 (Tue, 21 Oct 2025).
| Hostname | OS | Arch (*) | R version | Installed pkgs |
|---|---|---|---|---|
| nebbiolo2 | Linux (Ubuntu 24.04.3 LTS) | x86_64 | 4.5.1 Patched (2025-08-23 r88802) -- "Great Square Root" | 4887 |
| lconway | macOS 12.7.6 Monterey | x86_64 | 4.5.1 Patched (2025-09-10 r88807) -- "Great Square Root" | 4677 |
| kjohnson3 | macOS 13.7.7 Ventura | arm64 | 4.5.1 Patched (2025-09-10 r88807) -- "Great Square Root" | 4622 |
| taishan | Linux (openEuler 24.03 LTS) | aarch64 | 4.5.0 (2025-04-11) -- "How About a Twenty-Six" | 4642 |
| Click on any hostname to see more info about the system (e.g. compilers) (*) as reported by 'uname -p', except on Windows and Mac OS X | ||||
| Package 669/2353 | Hostname | OS / Arch | INSTALL | BUILD | CHECK | BUILD BIN | ||||||||
| enrichViewNet 1.7.2 (landing page) Astrid Deschênes
| nebbiolo2 | Linux (Ubuntu 24.04.3 LTS) / x86_64 | OK | OK | OK | |||||||||
| lconway | macOS 12.7.6 Monterey / x86_64 | OK | OK | OK | OK | |||||||||
| kjohnson3 | macOS 13.7.7 Ventura / arm64 | OK | OK | OK | OK | |||||||||
| taishan | Linux (openEuler 24.03 LTS) / aarch64 | OK | OK | OK | ||||||||||
|
To the developers/maintainers of the enrichViewNet package: - Allow up to 24 hours (and sometimes 48 hours) for your latest push to git@git.bioconductor.org:packages/enrichViewNet.git to reflect on this report. See Troubleshooting Build Report for more information. - Use the following Renviron settings to reproduce errors and warnings. - If 'R CMD check' started to fail recently on the Linux builder(s) over a missing dependency, add the missing dependency to 'Suggests:' in your DESCRIPTION file. See Renviron.bioc for more information. - See Martin Grigorov's blog post for how to debug Linux ARM64 related issues on a x86_64 host. |
| Package: enrichViewNet |
| Version: 1.7.2 |
| Command: /home/biocbuild/R/R/bin/R CMD check --install=check:enrichViewNet.install-out.txt --library=/home/biocbuild/R/R/site-library --no-vignettes --timings enrichViewNet_1.7.2.tar.gz |
| StartedAt: 2025-10-17 08:39:20 -0000 (Fri, 17 Oct 2025) |
| EndedAt: 2025-10-17 08:43:59 -0000 (Fri, 17 Oct 2025) |
| EllapsedTime: 279.2 seconds |
| RetCode: 0 |
| Status: OK |
| CheckDir: enrichViewNet.Rcheck |
| Warnings: 0 |
##############################################################################
##############################################################################
###
### Running command:
###
### /home/biocbuild/R/R/bin/R CMD check --install=check:enrichViewNet.install-out.txt --library=/home/biocbuild/R/R/site-library --no-vignettes --timings enrichViewNet_1.7.2.tar.gz
###
##############################################################################
##############################################################################
* using log directory ‘/home/biocbuild/bbs-3.22-bioc/meat/enrichViewNet.Rcheck’
* using R version 4.5.0 (2025-04-11)
* using platform: aarch64-unknown-linux-gnu
* R was compiled by
aarch64-unknown-linux-gnu-gcc (GCC) 14.2.0
GNU Fortran (GCC) 14.2.0
* running under: openEuler 24.03 (LTS)
* using session charset: UTF-8
* using option ‘--no-vignettes’
* checking for file ‘enrichViewNet/DESCRIPTION’ ... OK
* checking extension type ... Package
* this is package ‘enrichViewNet’ version ‘1.7.2’
* package encoding: UTF-8
* checking package namespace information ... OK
* checking package dependencies ... OK
* checking if this is a source package ... OK
* checking if there is a namespace ... OK
* checking for hidden files and directories ... OK
* checking for portable file names ... OK
* checking for sufficient/correct file permissions ... OK
* checking whether package ‘enrichViewNet’ can be installed ... OK
* checking installed package size ... OK
* checking package directory ... OK
* checking ‘build’ directory ... OK
* checking DESCRIPTION meta-information ... OK
* checking top-level files ... OK
* checking for left-over files ... OK
* checking index information ... OK
* checking package subdirectories ... OK
* checking code files for non-ASCII characters ... OK
* checking R files for syntax errors ... OK
* checking whether the package can be loaded ... OK
* checking whether the package can be loaded with stated dependencies ... OK
* checking whether the package can be unloaded cleanly ... OK
* checking whether the namespace can be loaded with stated dependencies ... OK
* checking whether the namespace can be unloaded cleanly ... OK
* checking loading without being on the library search path ... OK
* checking dependencies in R code ... OK
* checking S3 generic/method consistency ... OK
* checking replacement functions ... OK
* checking foreign function calls ... OK
* checking R code for possible problems ... OK
* checking Rd files ... OK
* checking Rd metadata ... OK
* checking Rd cross-references ... OK
* checking for missing documentation entries ... OK
* checking for code/documentation mismatches ... OK
* checking Rd \usage sections ... OK
* checking Rd contents ... OK
* checking for unstated dependencies in examples ... OK
* checking contents of ‘data’ directory ... OK
* checking data for non-ASCII characters ... OK
* checking data for ASCII and uncompressed saves ... OK
* checking files in ‘vignettes’ ... OK
* checking examples ... OK
Examples with CPU (user + system) or elapsed time > 5s
user system elapsed
extractInformationWhenNoIntersection 0.187 0.028 16.813
parentalNapaVsDMSODEG 0.180 0.008 7.373
* checking for unstated dependencies in ‘tests’ ... OK
* checking tests ...
Running ‘testthat.R’
OK
* checking for unstated dependencies in vignettes ... OK
* checking package vignettes ... OK
* checking running R code from vignettes ... SKIPPED
* checking re-building of vignette outputs ... SKIPPED
* checking PDF version of manual ... OK
* DONE
Status: OK
enrichViewNet.Rcheck/00install.out
############################################################################## ############################################################################## ### ### Running command: ### ### /home/biocbuild/R/R/bin/R CMD INSTALL enrichViewNet ### ############################################################################## ############################################################################## * installing to library ‘/home/biocbuild/R/R-4.5.0/site-library’ * installing *source* package ‘enrichViewNet’ ... ** this is package ‘enrichViewNet’ version ‘1.7.2’ ** using staged installation ** R ** data ** byte-compile and prepare package for lazy loading ** help *** installing help indices ** building package indices ** installing vignettes ** testing if installed package can be loaded from temporary location ** testing if installed package can be loaded from final location ** testing if installed package keeps a record of temporary installation path * DONE (enrichViewNet)
enrichViewNet.Rcheck/tests/testthat.Rout
R version 4.5.0 (2025-04-11) -- "How About a Twenty-Six"
Copyright (C) 2025 The R Foundation for Statistical Computing
Platform: aarch64-unknown-linux-gnu
R is free software and comes with ABSOLUTELY NO WARRANTY.
You are welcome to redistribute it under certain conditions.
Type 'license()' or 'licence()' for distribution details.
R is a collaborative project with many contributors.
Type 'contributors()' for more information and
'citation()' on how to cite R or R packages in publications.
Type 'demo()' for some demos, 'help()' for on-line help, or
'help.start()' for an HTML browser interface to help.
Type 'q()' to quit R.
> library(testthat)
> library(enrichViewNet)
>
> ## Run all unit tests
> test_check("enrichViewNet")
[ FAIL 0 | WARN 1 | SKIP 0 | PASS 101 ]
[ FAIL 0 | WARN 1 | SKIP 0 | PASS 101 ]
>
> proc.time()
user system elapsed
13.312 1.248 35.531
enrichViewNet.Rcheck/enrichViewNet-Ex.timings
| name | user | system | elapsed | |
| createBasicEmap | 1.824 | 0.047 | 1.877 | |
| createCXJSONForCytoscape | 0.125 | 0.004 | 0.129 | |
| createEnrichMap | 1.348 | 0.020 | 1.375 | |
| createEnrichMapMultiBasic | 1.084 | 0.107 | 1.195 | |
| createEnrichMapMultiComplex | 1.653 | 0.020 | 1.677 | |
| createMetaDataSectionCXJSON | 0.001 | 0.000 | 0.001 | |
| createMultiEmap | 1.338 | 0.040 | 1.381 | |
| createNetwork | 0.067 | 0.004 | 0.072 | |
| createNetworkForCytoscape | 0.040 | 0.004 | 0.044 | |
| demoGOST | 0.042 | 0.004 | 2.324 | |
| extractInformationWhenIntersection | 0.035 | 0.004 | 0.038 | |
| extractInformationWhenNoIntersection | 0.187 | 0.028 | 16.813 | |
| extractNodesAndEdgesInformation | 0.032 | 0.004 | 0.037 | |
| filterResults | 0.003 | 0.000 | 0.003 | |
| formatInformationForCXJSON | 0.071 | 0.000 | 0.071 | |
| isCytoscapeRunning | 0.004 | 0.000 | 0.004 | |
| manageNameDuplicationInEmap | 0.004 | 0.000 | 0.005 | |
| manageQueryDuplicationInEmap | 0 | 0 | 0 | |
| parentalNapaVsDMSODEG | 0.180 | 0.008 | 7.373 | |
| parentalNapaVsDMSOEnrichment | 0.707 | 0.004 | 0.713 | |
| removeRootTerm | 0.005 | 0.000 | 0.005 | |
| rosaNapaVsDMSODEG | 0.149 | 0.000 | 3.896 | |
| rosaNapaVsDMSOEnrichment | 0.596 | 0.004 | 0.601 | |
| validateCreateEnrichMapArguments | 0.002 | 0.000 | 0.002 | |
| validateCreateEnrichMapMultiArguments | 0.009 | 0.000 | 0.009 | |
| validateCreateEnrichMapMultiComplexArg | 0.006 | 0.004 | 0.010 | |
| validateCreateEnrichMapSubSectionArguments | 0 | 0 | 0 | |
| validateCreateNetworkArguments | 0.003 | 0.000 | 0.003 | |