| Back to Multiple platform build/check report for BioC 3.22: simplified long | 
 | 
This page was generated on 2025-10-24 12:07 -0400 (Fri, 24 Oct 2025).
| Hostname | OS | Arch (*) | R version | Installed pkgs | 
|---|---|---|---|---|
| nebbiolo2 | Linux (Ubuntu 24.04.3 LTS) | x86_64 | 4.5.1 Patched (2025-08-23 r88802) -- "Great Square Root" | 4898 | 
| lconway | macOS 12.7.6 Monterey | x86_64 | 4.5.1 Patched (2025-09-10 r88807) -- "Great Square Root" | 4688 | 
| kjohnson3 | macOS 13.7.7 Ventura | arm64 | 4.5.1 Patched (2025-09-10 r88807) -- "Great Square Root" | 4634 | 
| taishan | Linux (openEuler 24.03 LTS) | aarch64 | 4.5.0 (2025-04-11) -- "How About a Twenty-Six" | 4658 | 
| Click on any hostname to see more info about the system (e.g. compilers) (*) as reported by 'uname -p', except on Windows and Mac OS X | ||||
| Package 629/2359 | Hostname | OS / Arch | INSTALL | BUILD | CHECK | BUILD BIN | ||||||||
| drugTargetInteractions 1.17.0  (landing page) Thomas Girke 
 | nebbiolo2 | Linux (Ubuntu 24.04.3 LTS) / x86_64 | OK | OK | OK |  | ||||||||
| lconway | macOS 12.7.6 Monterey / x86_64 | OK | OK | OK | OK |  | ||||||||
| kjohnson3 | macOS 13.7.7 Ventura / arm64 | OK | OK | OK | OK |  | ||||||||
| taishan | Linux (openEuler 24.03 LTS) / aarch64 | OK | OK | ERROR | ||||||||||
| To the developers/maintainers of the drugTargetInteractions package: - Allow up to 24 hours (and sometimes 48 hours) for your latest push to git@git.bioconductor.org:packages/drugTargetInteractions.git to reflect on this report. See Troubleshooting Build Report for more information. - Use the following Renviron settings to reproduce errors and warnings. - If 'R CMD check' started to fail recently on the Linux builder(s) over a missing dependency, add the missing dependency to 'Suggests:' in your DESCRIPTION file. See Renviron.bioc for more information. - See Martin Grigorov's blog post for how to debug Linux ARM64 related issues on a x86_64 host. | 
| Package: drugTargetInteractions | 
| Version: 1.17.0 | 
| Command: /home/biocbuild/R/R/bin/R CMD check --install=check:drugTargetInteractions.install-out.txt --library=/home/biocbuild/R/R/site-library --no-vignettes --timings drugTargetInteractions_1.17.0.tar.gz | 
| StartedAt: 2025-10-21 07:39:22 -0000 (Tue, 21 Oct 2025) | 
| EndedAt: 2025-10-21 07:39:23 -0000 (Tue, 21 Oct 2025) | 
| EllapsedTime: 1.0 seconds | 
| RetCode: 1 | 
| Status: ERROR | 
| CheckDir: drugTargetInteractions.Rcheck | 
| Warnings: NA | 
##############################################################################
##############################################################################
###
### Running command:
###
###   /home/biocbuild/R/R/bin/R CMD check --install=check:drugTargetInteractions.install-out.txt --library=/home/biocbuild/R/R/site-library --no-vignettes --timings drugTargetInteractions_1.17.0.tar.gz
###
##############################################################################
##############################################################################
* using log directory ‘/home/biocbuild/bbs-3.22-bioc/meat/drugTargetInteractions.Rcheck’
* using R version 4.5.0 (2025-04-11)
* using platform: aarch64-unknown-linux-gnu
* R was compiled by
    aarch64-unknown-linux-gnu-gcc (GCC) 14.2.0
    GNU Fortran (GCC) 14.2.0
* running under: openEuler 24.03 (LTS)
* using session charset: UTF-8
Warning in writeBin(block[seq_len(min(512L, remain))], out) :
  problem writing to connection
Warning in writeBin(block[seq_len(min(512L, remain))], out) :
  problem writing to connection
Warning in writeBin(block[seq_len(min(512L, remain))], out) :
  problem writing to connection
Warning in writeBin(block[seq_len(min(512L, remain))], out) :
  problem writing to connection
Warning in writeBin(block[seq_len(min(512L, remain))], out) :
  problem writing to connection
Warning in writeBin(block[seq_len(min(512L, remain))], out) :
  problem writing to connection
Warning in writeBin(block[seq_len(min(512L, remain))], out) :
  problem writing to connection
Warning in writeBin(block[seq_len(min(512L, remain))], out) :
  problem writing to connection
Warning in writeBin(block[seq_len(min(512L, remain))], out) :
  problem writing to connection
Warning in writeBin(block[seq_len(min(512L, remain))], out) :
  problem writing to connection
Warning in writeBin(block[seq_len(min(512L, remain))], out) :
  problem writing to connection
Warning in close.connection(out) :
  Problem closing connection:  No space left on device
Warning in dir.create(path, showWarnings = TRUE, recursive = TRUE, ...) :
  cannot create dir 'drugTargetInteractions/inst/extdata', reason 'No space left on device'
Error in mydir.create(name) : 
  failed to create directory ‘drugTargetInteractions/inst/extdata’
Execution halted