| Back to Multiple platform build/check report for BioC 3.22: simplified long |
|
This page was generated on 2025-07-28 12:07 -0400 (Mon, 28 Jul 2025).
| Hostname | OS | Arch (*) | R version | Installed pkgs |
|---|---|---|---|---|
| nebbiolo2 | Linux (Ubuntu 24.04.2 LTS) | x86_64 | 4.5.1 (2025-06-13) -- "Great Square Root" | 4796 |
| palomino8 | Windows Server 2022 Datacenter | x64 | 4.5.1 (2025-06-13 ucrt) -- "Great Square Root" | 4536 |
| lconway | macOS 12.7.1 Monterey | x86_64 | 4.5.1 (2025-06-13) -- "Great Square Root" | 4578 |
| kjohnson3 | macOS 13.7.1 Ventura | arm64 | 4.5.1 Patched (2025-06-14 r88325) -- "Great Square Root" | 4519 |
| taishan | Linux (openEuler 24.03 LTS) | aarch64 | 4.5.0 (2025-04-11) -- "How About a Twenty-Six" | 4512 |
| Click on any hostname to see more info about the system (e.g. compilers) (*) as reported by 'uname -p', except on Windows and Mac OS X | ||||
| Package 612/2313 | Hostname | OS / Arch | INSTALL | BUILD | CHECK | BUILD BIN | ||||||||
| dreamlet 1.7.1 (landing page) Gabriel Hoffman
| nebbiolo2 | Linux (Ubuntu 24.04.2 LTS) / x86_64 | OK | OK | OK | |||||||||
| palomino8 | Windows Server 2022 Datacenter / x64 | OK | OK | OK | OK | |||||||||
| lconway | macOS 12.7.1 Monterey / x86_64 | OK | OK | OK | OK | |||||||||
| kjohnson3 | macOS 13.7.1 Ventura / arm64 | OK | OK | OK | OK | |||||||||
| taishan | Linux (openEuler 24.03 LTS) / aarch64 | OK | OK | OK | ||||||||||
|
To the developers/maintainers of the dreamlet package: - Allow up to 24 hours (and sometimes 48 hours) for your latest push to git@git.bioconductor.org:packages/dreamlet.git to reflect on this report. See Troubleshooting Build Report for more information. - Use the following Renviron settings to reproduce errors and warnings. - If 'R CMD check' started to fail recently on the Linux builder(s) over a missing dependency, add the missing dependency to 'Suggests:' in your DESCRIPTION file. See Renviron.bioc for more information. |
| Package: dreamlet |
| Version: 1.7.1 |
| Command: F:\biocbuild\bbs-3.22-bioc\R\bin\R.exe CMD check --no-multiarch --install=check:dreamlet.install-out.txt --library=F:\biocbuild\bbs-3.22-bioc\R\library --no-vignettes --timings dreamlet_1.7.1.tar.gz |
| StartedAt: 2025-07-28 02:03:25 -0400 (Mon, 28 Jul 2025) |
| EndedAt: 2025-07-28 02:17:44 -0400 (Mon, 28 Jul 2025) |
| EllapsedTime: 859.4 seconds |
| RetCode: 0 |
| Status: OK |
| CheckDir: dreamlet.Rcheck |
| Warnings: 0 |
##############################################################################
##############################################################################
###
### Running command:
###
### F:\biocbuild\bbs-3.22-bioc\R\bin\R.exe CMD check --no-multiarch --install=check:dreamlet.install-out.txt --library=F:\biocbuild\bbs-3.22-bioc\R\library --no-vignettes --timings dreamlet_1.7.1.tar.gz
###
##############################################################################
##############################################################################
* using log directory 'F:/biocbuild/bbs-3.22-bioc/meat/dreamlet.Rcheck'
* using R version 4.5.1 (2025-06-13 ucrt)
* using platform: x86_64-w64-mingw32
* R was compiled by
gcc.exe (GCC) 14.2.0
GNU Fortran (GCC) 14.2.0
* running under: Windows Server 2022 x64 (build 20348)
* using session charset: UTF-8
* using option '--no-vignettes'
* checking for file 'dreamlet/DESCRIPTION' ... OK
* checking extension type ... Package
* this is package 'dreamlet' version '1.7.1'
* package encoding: UTF-8
* checking package namespace information ... OK
* checking package dependencies ... INFO
Imports includes 36 non-default packages.
Importing from so many packages makes the package vulnerable to any of
them becoming unavailable. Move as many as possible to Suggests and
use conditionally.
* checking if this is a source package ... OK
* checking if there is a namespace ... OK
* checking for hidden files and directories ... OK
* checking for portable file names ... OK
* checking whether package 'dreamlet' can be installed ... OK
* used C++ compiler: 'G__~1.EXE (GCC) 14.2.0'
* checking C++ specification ... NOTE
Specified C++11: please drop specification unless essential
* checking installed package size ... OK
* checking package directory ... OK
* checking 'build' directory ... OK
* checking DESCRIPTION meta-information ... OK
* checking top-level files ... OK
* checking for left-over files ... OK
* checking index information ... OK
* checking package subdirectories ... OK
* checking code files for non-ASCII characters ... OK
* checking R files for syntax errors ... OK
* checking whether the package can be loaded ... OK
* checking whether the package can be loaded with stated dependencies ... OK
* checking whether the package can be unloaded cleanly ... OK
* checking whether the namespace can be loaded with stated dependencies ... OK
* checking whether the namespace can be unloaded cleanly ... OK
* checking dependencies in R code ... OK
* checking S3 generic/method consistency ... OK
* checking replacement functions ... OK
* checking foreign function calls ... OK
* checking R code for possible problems ... OK
* checking Rd files ... OK
* checking Rd metadata ... OK
* checking Rd cross-references ... OK
* checking for missing documentation entries ... OK
* checking for code/documentation mismatches ... OK
* checking Rd \usage sections ... OK
* checking Rd contents ... OK
* checking for unstated dependencies in examples ... OK
* checking line endings in C/C++/Fortran sources/headers ... OK
* checking line endings in Makefiles ... OK
* checking compilation flags in Makevars ... OK
* checking for GNU extensions in Makefiles ... OK
* checking for portable use of $(BLAS_LIBS) and $(LAPACK_LIBS) ... OK
* checking use of PKG_*FLAGS in Makefiles ... OK
* checking compiled code ... NOTE
Note: information on .o files for x64 is not available
File 'F:/biocbuild/bbs-3.22-bioc/R/library/dreamlet/libs/x64/dreamlet.dll':
Found '_exit', possibly from '_exit' (C)
Found 'abort', possibly from 'abort' (C), 'runtime' (Fortran)
Found 'exit', possibly from 'exit' (C), 'stop' (Fortran)
Compiled code should not call entry points which might terminate R nor
write to stdout/stderr instead of to the console, nor use Fortran I/O
nor system RNGs nor [v]sprintf. The detected symbols are linked into
the code but might come from libraries and not actually be called.
See 'Writing portable packages' in the 'Writing R Extensions' manual.
* checking files in 'vignettes' ... NOTE
The following directory looks like a leftover from 'knitr':
'figure'
Please remove from your package.
* checking examples ... OK
Examples with CPU (user + system) or elapsed time > 5s
user system elapsed
zenith_gsa-methods 102.28 5.77 108.93
plotVarPart-methods 26.00 0.34 26.35
fitVarPart 25.00 0.53 25.54
plotPercentBars-methods 24.32 0.48 24.80
sortCols-method 24.09 0.61 24.72
meta_analysis 23.65 0.53 24.18
stackAssays 14.78 0.28 15.12
run_mash 11.70 0.14 11.87
compositePosteriorTest 10.56 0.11 10.71
aggregateNonCountSignal 7.96 0.69 9.47
plotVolcano-methods 6.62 0.09 6.72
processAssays 4.98 0.07 5.08
* checking for unstated dependencies in 'tests' ... OK
* checking tests ...
Running 'runTests.R'
OK
* checking for unstated dependencies in vignettes ... OK
* checking package vignettes ... OK
* checking running R code from vignettes ... SKIPPED
* checking re-building of vignette outputs ... SKIPPED
* checking PDF version of manual ... OK
* DONE
Status: 3 NOTEs
See
'F:/biocbuild/bbs-3.22-bioc/meat/dreamlet.Rcheck/00check.log'
for details.
dreamlet.Rcheck/00install.out
##############################################################################
##############################################################################
###
### Running command:
###
### F:\biocbuild\bbs-3.22-bioc\R\bin\R.exe CMD INSTALL dreamlet
###
##############################################################################
##############################################################################
* installing to library 'F:/biocbuild/bbs-3.22-bioc/R/library'
* installing *source* package 'dreamlet' ...
** this is package 'dreamlet' version '1.7.1'
** using staged installation
** libs
using C++ compiler: 'G__~1.EXE (GCC) 14.2.0'
using C++11
g++ -std=gnu++11 -I"F:/biocbuild/bbs-3.22-bioc/R/include" -DNDEBUG -I'F:/biocbuild/bbs-3.22-bioc/R/library/Rcpp/include' -I'F:/biocbuild/bbs-3.22-bioc/R/library/beachmat/include' -I"C:/rtools45/x86_64-w64-mingw32.static.posix/include" -O2 -Wall -mfpmath=sse -msse2 -mstackrealign -c RcppExports.cpp -o RcppExports.o
g++ -std=gnu++11 -I"F:/biocbuild/bbs-3.22-bioc/R/include" -DNDEBUG -I'F:/biocbuild/bbs-3.22-bioc/R/library/Rcpp/include' -I'F:/biocbuild/bbs-3.22-bioc/R/library/beachmat/include' -I"C:/rtools45/x86_64-w64-mingw32.static.posix/include" -O2 -Wall -mfpmath=sse -msse2 -mstackrealign -c colsum_beachmat.cpp -o colsum_beachmat.o
In file included from F:/biocbuild/bbs-3.22-bioc/R/library/beachmat/include/beachmat3/read_lin_block.h:11,
from F:/biocbuild/bbs-3.22-bioc/R/library/beachmat/include/beachmat3/beachmat.h:24,
from colsum_beachmat.cpp:1:
F:/biocbuild/bbs-3.22-bioc/R/library/beachmat/include/beachmat3/lin_matrix.h:95:27: warning: 'virtual const double* beachmat::lin_matrix::get_row(size_t, double*, size_t, size_t)' was hidden [-Woverloaded-virtual=]
95 | virtual const double* get_row(size_t r, double* work, size_t first, size_t last) = 0;
| ^~~~~~~
F:/biocbuild/bbs-3.22-bioc/R/library/beachmat/include/beachmat3/lin_matrix.h:338:38: note: by 'beachmat::lin_sparse_matrix::get_row'
338 | sparse_index<const double*, int> get_row(size_t r, double* work_x, int* work_i) {
| ^~~~~~~
F:/biocbuild/bbs-3.22-bioc/R/library/beachmat/include/beachmat3/lin_matrix.h:66:24: warning: 'virtual const int* beachmat::lin_matrix::get_row(size_t, int*, size_t, size_t)' was hidden [-Woverloaded-virtual=]
66 | virtual const int* get_row(size_t r, int* work, size_t first, size_t last) = 0;
| ^~~~~~~
F:/biocbuild/bbs-3.22-bioc/R/library/beachmat/include/beachmat3/lin_matrix.h:338:38: note: by 'beachmat::lin_sparse_matrix::get_row'
338 | sparse_index<const double*, int> get_row(size_t r, double* work_x, int* work_i) {
| ^~~~~~~
F:/biocbuild/bbs-3.22-bioc/R/library/beachmat/include/beachmat3/lin_matrix.h:81:27: warning: 'virtual const double* beachmat::lin_matrix::get_col(size_t, double*, size_t, size_t)' was hidden [-Woverloaded-virtual=]
81 | virtual const double* get_col(size_t c, double* work, size_t first, size_t last) = 0;
| ^~~~~~~
F:/biocbuild/bbs-3.22-bioc/R/library/beachmat/include/beachmat3/lin_matrix.h:321:38: note: by 'beachmat::lin_sparse_matrix::get_col'
321 | sparse_index<const double*, int> get_col(size_t c, double* work_x, int* work_i) {
| ^~~~~~~
F:/biocbuild/bbs-3.22-bioc/R/library/beachmat/include/beachmat3/lin_matrix.h:52:24: warning: 'virtual const int* beachmat::lin_matrix::get_col(size_t, int*, size_t, size_t)' was hidden [-Woverloaded-virtual=]
52 | virtual const int* get_col(size_t c, int* work, size_t first, size_t last) = 0;
| ^~~~~~~
F:/biocbuild/bbs-3.22-bioc/R/library/beachmat/include/beachmat3/lin_matrix.h:321:38: note: by 'beachmat::lin_sparse_matrix::get_col'
321 | sparse_index<const double*, int> get_col(size_t c, double* work_x, int* work_i) {
| ^~~~~~~
In file included from F:/biocbuild/bbs-3.22-bioc/R/library/beachmat/include/beachmat3/lin_matrix.h:12:
F:/biocbuild/bbs-3.22-bioc/R/library/beachmat/include/beachmat3/Csparse_reader.h: In instantiation of 'beachmat::SparseArraySeed_reader<V, TIT>::SparseArraySeed_reader(Rcpp::RObject) [with V = Rcpp::Vector<13>; TIT = const int*; Rcpp::RObject = Rcpp::RObject_Impl<Rcpp::PreserveStorage>]':
F:/biocbuild/bbs-3.22-bioc/R/library/beachmat/include/beachmat3/lin_matrix.h:561:46: required from 'beachmat::lin_SparseArraySeed<V, TIT>::lin_SparseArraySeed(Rcpp::RObject) [with V = Rcpp::Vector<13>; TIT = const int*; Rcpp::RObject = Rcpp::RObject_Impl<Rcpp::PreserveStorage>]'
561 | lin_SparseArraySeed(Rcpp::RObject mat) : reader(mat) {
| ^~~~~~~~~~~
F:/biocbuild/bbs-3.22-bioc/R/library/beachmat/include/beachmat3/read_lin_block.h:36:39: required from 'std::unique_ptr<M> beachmat::read_lin_sparse_block_raw(Rcpp::RObject) [with M = lin_matrix; Rcpp::RObject = Rcpp::RObject_Impl<Rcpp::PreserveStorage>]'
36 | return std::unique_ptr<M>(new integer_SparseArraySeed(block));
| ^~~~~~~~~~~~~~~~~~~~~~~~~~~~~~~~~~
F:/biocbuild/bbs-3.22-bioc/R/library/beachmat/include/beachmat3/read_lin_block.h:65:57: required from here
65 | auto ptr = read_lin_sparse_block_raw<lin_matrix>(block);
| ~~~~~~~~~~~~~~~~~~~~~~~~~~~~~~~~~~~~~^~~~~~~
F:/biocbuild/bbs-3.22-bioc/R/library/beachmat/include/beachmat3/Csparse_reader.h:535:17: warning: comparison of integer expressions of different signedness: 'const size_t' {aka 'const long long unsigned int'} and 'R_xlen_t' {aka 'long long int'} [-Wsign-compare]
535 | if (nnz != x.size()) {
| ~~~~^~~~~~~~~~~
F:/biocbuild/bbs-3.22-bioc/R/library/beachmat/include/beachmat3/Csparse_reader.h:551:45: warning: comparison of integer expressions of different signedness: 'int' and 'const size_t' {aka 'const long long unsigned int'} [-Wsign-compare]
551 | if (lastR <= 0 || lastR > NR || lastC <= 0 || lastC > NC) {
| ~~~~~~^~~~
F:/biocbuild/bbs-3.22-bioc/R/library/beachmat/include/beachmat3/Csparse_reader.h:551:73: warning: comparison of integer expressions of different signedness: 'int' and 'const size_t' {aka 'const long long unsigned int'} [-Wsign-compare]
551 | if (lastR <= 0 || lastR > NR || lastC <= 0 || lastC > NC) {
| ~~~~~~^~~~
F:/biocbuild/bbs-3.22-bioc/R/library/beachmat/include/beachmat3/Csparse_reader.h:593:35: warning: comparison of integer expressions of different signedness: 'int' and 'const size_t' {aka 'const long long unsigned int'} [-Wsign-compare]
593 | for (int v = 0; v < nnz; ++v, ++rowIt, ++colIt, ++xIt) {
| ~~^~~~~
F:/biocbuild/bbs-3.22-bioc/R/library/beachmat/include/beachmat3/Csparse_reader.h: In instantiation of 'beachmat::SparseArraySeed_reader<V, TIT>::SparseArraySeed_reader(Rcpp::RObject) [with V = Rcpp::Vector<14, Rcpp::PreserveStorage>; TIT = const double*; Rcpp::RObject = Rcpp::RObject_Impl<Rcpp::PreserveStorage>]':
F:/biocbuild/bbs-3.22-bioc/R/library/beachmat/include/beachmat3/lin_matrix.h:561:46: required from 'beachmat::lin_SparseArraySeed<V, TIT>::lin_SparseArraySeed(Rcpp::RObject) [with V = Rcpp::Vector<14, Rcpp::PreserveStorage>; TIT = const double*; Rcpp::RObject = Rcpp::RObject_Impl<Rcpp::PreserveStorage>]'
561 | lin_SparseArraySeed(Rcpp::RObject mat) : reader(mat) {
| ^~~~~~~~~~~
F:/biocbuild/bbs-3.22-bioc/R/library/beachmat/include/beachmat3/read_lin_block.h:38:39: required from 'std::unique_ptr<M> beachmat::read_lin_sparse_block_raw(Rcpp::RObject) [with M = lin_matrix; Rcpp::RObject = Rcpp::RObject_Impl<Rcpp::PreserveStorage>]'
38 | return std::unique_ptr<M>(new double_SparseArraySeed(block));
| ^~~~~~~~~~~~~~~~~~~~~~~~~~~~~~~~~
F:/biocbuild/bbs-3.22-bioc/R/library/beachmat/include/beachmat3/read_lin_block.h:65:57: required from here
65 | auto ptr = read_lin_sparse_block_raw<lin_matrix>(block);
| ~~~~~~~~~~~~~~~~~~~~~~~~~~~~~~~~~~~~~^~~~~~~
F:/biocbuild/bbs-3.22-bioc/R/library/beachmat/include/beachmat3/Csparse_reader.h:535:17: warning: comparison of integer expressions of different signedness: 'const size_t' {aka 'const long long unsigned int'} and 'R_xlen_t' {aka 'long long int'} [-Wsign-compare]
535 | if (nnz != x.size()) {
| ~~~~^~~~~~~~~~~
F:/biocbuild/bbs-3.22-bioc/R/library/beachmat/include/beachmat3/Csparse_reader.h:551:45: warning: comparison of integer expressions of different signedness: 'int' and 'const size_t' {aka 'const long long unsigned int'} [-Wsign-compare]
551 | if (lastR <= 0 || lastR > NR || lastC <= 0 || lastC > NC) {
| ~~~~~~^~~~
F:/biocbuild/bbs-3.22-bioc/R/library/beachmat/include/beachmat3/Csparse_reader.h:551:73: warning: comparison of integer expressions of different signedness: 'int' and 'const size_t' {aka 'const long long unsigned int'} [-Wsign-compare]
551 | if (lastR <= 0 || lastR > NR || lastC <= 0 || lastC > NC) {
| ~~~~~~^~~~
F:/biocbuild/bbs-3.22-bioc/R/library/beachmat/include/beachmat3/Csparse_reader.h:593:35: warning: comparison of integer expressions of different signedness: 'int' and 'const size_t' {aka 'const long long unsigned int'} [-Wsign-compare]
593 | for (int v = 0; v < nnz; ++v, ++rowIt, ++colIt, ++xIt) {
| ~~^~~~~
F:/biocbuild/bbs-3.22-bioc/R/library/beachmat/include/beachmat3/Csparse_reader.h: In instantiation of 'beachmat::SparseArraySeed_reader<V, TIT>::SparseArraySeed_reader(Rcpp::RObject) [with V = Rcpp::Vector<10, Rcpp::PreserveStorage>; TIT = const int*; Rcpp::RObject = Rcpp::RObject_Impl<Rcpp::PreserveStorage>]':
F:/biocbuild/bbs-3.22-bioc/R/library/beachmat/include/beachmat3/lin_matrix.h:561:46: required from 'beachmat::lin_SparseArraySeed<V, TIT>::lin_SparseArraySeed(Rcpp::RObject) [with V = Rcpp::Vector<10, Rcpp::PreserveStorage>; TIT = const int*; Rcpp::RObject = Rcpp::RObject_Impl<Rcpp::PreserveStorage>]'
561 | lin_SparseArraySeed(Rcpp::RObject mat) : reader(mat) {
| ^~~~~~~~~~~
F:/biocbuild/bbs-3.22-bioc/R/library/beachmat/include/beachmat3/read_lin_block.h:40:39: required from 'std::unique_ptr<M> beachmat::read_lin_sparse_block_raw(Rcpp::RObject) [with M = lin_matrix; Rcpp::RObject = Rcpp::RObject_Impl<Rcpp::PreserveStorage>]'
40 | return std::unique_ptr<M>(new logical_SparseArraySeed(block));
| ^~~~~~~~~~~~~~~~~~~~~~~~~~~~~~~~~~
F:/biocbuild/bbs-3.22-bioc/R/library/beachmat/include/beachmat3/read_lin_block.h:65:57: required from here
65 | auto ptr = read_lin_sparse_block_raw<lin_matrix>(block);
| ~~~~~~~~~~~~~~~~~~~~~~~~~~~~~~~~~~~~~^~~~~~~
F:/biocbuild/bbs-3.22-bioc/R/library/beachmat/include/beachmat3/Csparse_reader.h:535:17: warning: comparison of integer expressions of different signedness: 'const size_t' {aka 'const long long unsigned int'} and 'R_xlen_t' {aka 'long long int'} [-Wsign-compare]
535 | if (nnz != x.size()) {
| ~~~~^~~~~~~~~~~
F:/biocbuild/bbs-3.22-bioc/R/library/beachmat/include/beachmat3/Csparse_reader.h:551:45: warning: comparison of integer expressions of different signedness: 'int' and 'const size_t' {aka 'const long long unsigned int'} [-Wsign-compare]
551 | if (lastR <= 0 || lastR > NR || lastC <= 0 || lastC > NC) {
| ~~~~~~^~~~
F:/biocbuild/bbs-3.22-bioc/R/library/beachmat/include/beachmat3/Csparse_reader.h:551:73: warning: comparison of integer expressions of different signedness: 'int' and 'const size_t' {aka 'const long long unsigned int'} [-Wsign-compare]
551 | if (lastR <= 0 || lastR > NR || lastC <= 0 || lastC > NC) {
| ~~~~~~^~~~
F:/biocbuild/bbs-3.22-bioc/R/library/beachmat/include/beachmat3/Csparse_reader.h:593:35: warning: comparison of integer expressions of different signedness: 'int' and 'const size_t' {aka 'const long long unsigned int'} [-Wsign-compare]
593 | for (int v = 0; v < nnz; ++v, ++rowIt, ++colIt, ++xIt) {
| ~~^~~~~
F:/biocbuild/bbs-3.22-bioc/R/library/beachmat/include/beachmat3/Csparse_reader.h: In instantiation of 'beachmat::sparse_index<OUT, I> beachmat::Csparse_core<TIT, I, P>::get_row(size_t, ALT, I*, size_t, size_t) [with OUT = const int*; ALT = int*; TIT = const double*; I = int; P = long long unsigned int; size_t = long long unsigned int]':
F:/biocbuild/bbs-3.22-bioc/R/library/beachmat/include/beachmat3/Csparse_reader.h:650:42: required from 'beachmat::sparse_index<OUT, int> beachmat::SparseArraySeed_reader<V, TIT>::get_row(size_t, ALT, int*, size_t, size_t) [with OUT = const int*; ALT = int*; V = Rcpp::Vector<14, Rcpp::PreserveStorage>; TIT = const double*; size_t = long long unsigned int]'
650 | return core.template get_row<OUT>(r, work_x, work_i, first, last);
| ~~~~~~~~~~~~~~~~~~~~~~~~~~^~~~~~~~~~~~~~~~~~~~~~~~~~~~~~~~
F:/biocbuild/bbs-3.22-bioc/R/library/beachmat/include/beachmat3/lin_matrix.h:596:51: required from 'beachmat::sparse_index<const int*, int> beachmat::lin_SparseArraySeed<V, TIT>::get_row(size_t, int*, int*, size_t, size_t) [with V = Rcpp::Vector<14, Rcpp::PreserveStorage>; TIT = const double*; size_t = long long unsigned int]'
596 | return reader.template get_row<const int*>(r, work_x, work_i, first, last);
| ~~~~~~~~~~~~~~~~~~~~~~~~~~~~~~~~~~~^~~~~~~~~~~~~~~~~~~~~~~~~~~~~~~~
F:/biocbuild/bbs-3.22-bioc/R/library/beachmat/include/beachmat3/lin_matrix.h:595:35: required from here
595 | sparse_index<const int*, int> get_row(size_t r, int* work_x, int* work_i, size_t first, size_t last) {
| ^~~~~~~
F:/biocbuild/bbs-3.22-bioc/R/library/beachmat/include/beachmat3/Csparse_reader.h:250:22: warning: comparison of integer expressions of different signedness: 'const int' and 'const long long unsigned int' [-Wsign-compare]
250 | if (idex != *pIt && static_cast<size_t>(i[idex]) == r) {
| ~~~~~^~~~~~~
F:/biocbuild/bbs-3.22-bioc/R/library/beachmat/include/beachmat3/Csparse_reader.h: In instantiation of 'beachmat::sparse_index<OUT, I> beachmat::Csparse_core<TIT, I, P>::get_row(size_t, ALT, I*, size_t, size_t) [with OUT = const double*; ALT = double*; TIT = const double*; I = int; P = long long unsigned int; size_t = long long unsigned int]':
F:/biocbuild/bbs-3.22-bioc/R/library/beachmat/include/beachmat3/Csparse_reader.h:650:42: required from 'beachmat::sparse_index<OUT, int> beachmat::SparseArraySeed_reader<V, TIT>::get_row(size_t, ALT, int*, size_t, size_t) [with OUT = const double*; ALT = double*; V = Rcpp::Vector<14, Rcpp::PreserveStorage>; TIT = const double*; size_t = long long unsigned int]'
650 | return core.template get_row<OUT>(r, work_x, work_i, first, last);
| ~~~~~~~~~~~~~~~~~~~~~~~~~~^~~~~~~~~~~~~~~~~~~~~~~~~~~~~~~~
F:/biocbuild/bbs-3.22-bioc/R/library/beachmat/include/beachmat3/lin_matrix.h:602:54: required from 'beachmat::sparse_index<const double*, int> beachmat::lin_SparseArraySeed<V, TIT>::get_row(size_t, double*, int*, size_t, size_t) [with V = Rcpp::Vector<14, Rcpp::PreserveStorage>; TIT = const double*; size_t = long long unsigned int]'
602 | return reader.template get_row<const double*>(r, work_x, work_i, first, last);
| ~~~~~~~~~~~~~~~~~~~~~~~~~~~~~~~~~~~~~~^~~~~~~~~~~~~~~~~~~~~~~~~~~~~~~~
F:/biocbuild/bbs-3.22-bioc/R/library/beachmat/include/beachmat3/lin_matrix.h:601:38: required from here
601 | sparse_index<const double*, int> get_row(size_t r, double* work_x, int* work_i, size_t first, size_t last) {
| ^~~~~~~
F:/biocbuild/bbs-3.22-bioc/R/library/beachmat/include/beachmat3/Csparse_reader.h:250:22: warning: comparison of integer expressions of different signedness: 'const int' and 'const long long unsigned int' [-Wsign-compare]
250 | if (idex != *pIt && static_cast<size_t>(i[idex]) == r) {
| ~~~~~^~~~~~~
F:/biocbuild/bbs-3.22-bioc/R/library/beachmat/include/beachmat3/Csparse_reader.h: In instantiation of 'beachmat::sparse_index<OUT, I> beachmat::Csparse_core<TIT, I, P>::get_row(size_t, ALT, I*, size_t, size_t) [with OUT = const int*; ALT = int*; TIT = const int*; I = int; P = long long unsigned int; size_t = long long unsigned int]':
F:/biocbuild/bbs-3.22-bioc/R/library/beachmat/include/beachmat3/Csparse_reader.h:650:42: required from 'beachmat::sparse_index<OUT, int> beachmat::SparseArraySeed_reader<V, TIT>::get_row(size_t, ALT, int*, size_t, size_t) [with OUT = const int*; ALT = int*; V = Rcpp::Vector<10, Rcpp::PreserveStorage>; TIT = const int*; size_t = long long unsigned int]'
650 | return core.template get_row<OUT>(r, work_x, work_i, first, last);
| ~~~~~~~~~~~~~~~~~~~~~~~~~~^~~~~~~~~~~~~~~~~~~~~~~~~~~~~~~~
F:/biocbuild/bbs-3.22-bioc/R/library/beachmat/include/beachmat3/lin_matrix.h:596:51: required from 'beachmat::sparse_index<const int*, int> beachmat::lin_SparseArraySeed<V, TIT>::get_row(size_t, int*, int*, size_t, size_t) [with V = Rcpp::Vector<10, Rcpp::PreserveStorage>; TIT = const int*; size_t = long long unsigned int]'
596 | return reader.template get_row<const int*>(r, work_x, work_i, first, last);
| ~~~~~~~~~~~~~~~~~~~~~~~~~~~~~~~~~~~^~~~~~~~~~~~~~~~~~~~~~~~~~~~~~~~
F:/biocbuild/bbs-3.22-bioc/R/library/beachmat/include/beachmat3/lin_matrix.h:595:35: required from here
595 | sparse_index<const int*, int> get_row(size_t r, int* work_x, int* work_i, size_t first, size_t last) {
| ^~~~~~~
F:/biocbuild/bbs-3.22-bioc/R/library/beachmat/include/beachmat3/Csparse_reader.h:250:22: warning: comparison of integer expressions of different signedness: 'const int' and 'const long long unsigned int' [-Wsign-compare]
250 | if (idex != *pIt && static_cast<size_t>(i[idex]) == r) {
| ~~~~~^~~~~~~
F:/biocbuild/bbs-3.22-bioc/R/library/beachmat/include/beachmat3/Csparse_reader.h: In instantiation of 'beachmat::sparse_index<OUT, I> beachmat::Csparse_core<TIT, I, P>::get_row(size_t, ALT, I*, size_t, size_t) [with OUT = const double*; ALT = double*; TIT = const int*; I = int; P = long long unsigned int; size_t = long long unsigned int]':
F:/biocbuild/bbs-3.22-bioc/R/library/beachmat/include/beachmat3/Csparse_reader.h:650:42: required from 'beachmat::sparse_index<OUT, int> beachmat::SparseArraySeed_reader<V, TIT>::get_row(size_t, ALT, int*, size_t, size_t) [with OUT = const double*; ALT = double*; V = Rcpp::Vector<10, Rcpp::PreserveStorage>; TIT = const int*; size_t = long long unsigned int]'
650 | return core.template get_row<OUT>(r, work_x, work_i, first, last);
| ~~~~~~~~~~~~~~~~~~~~~~~~~~^~~~~~~~~~~~~~~~~~~~~~~~~~~~~~~~
F:/biocbuild/bbs-3.22-bioc/R/library/beachmat/include/beachmat3/lin_matrix.h:602:54: required from 'beachmat::sparse_index<const double*, int> beachmat::lin_SparseArraySeed<V, TIT>::get_row(size_t, double*, int*, size_t, size_t) [with V = Rcpp::Vector<10, Rcpp::PreserveStorage>; TIT = const int*; size_t = long long unsigned int]'
602 | return reader.template get_row<const double*>(r, work_x, work_i, first, last);
| ~~~~~~~~~~~~~~~~~~~~~~~~~~~~~~~~~~~~~~^~~~~~~~~~~~~~~~~~~~~~~~~~~~~~~~
F:/biocbuild/bbs-3.22-bioc/R/library/beachmat/include/beachmat3/lin_matrix.h:601:38: required from here
601 | sparse_index<const double*, int> get_row(size_t r, double* work_x, int* work_i, size_t first, size_t last) {
| ^~~~~~~
F:/biocbuild/bbs-3.22-bioc/R/library/beachmat/include/beachmat3/Csparse_reader.h:250:22: warning: comparison of integer expressions of different signedness: 'const int' and 'const long long unsigned int' [-Wsign-compare]
250 | if (idex != *pIt && static_cast<size_t>(i[idex]) == r) {
| ~~~~~^~~~~~~
g++ -shared -s -static-libgcc -o dreamlet.dll tmp.def RcppExports.o colsum_beachmat.o -LC:/rtools45/x86_64-w64-mingw32.static.posix/lib/x64 -LC:/rtools45/x86_64-w64-mingw32.static.posix/lib -LF:/biocbuild/bbs-3.22-bioc/R/bin/x64 -lR
installing to F:/biocbuild/bbs-3.22-bioc/R/library/00LOCK-dreamlet/00new/dreamlet/libs/x64
** R
** inst
** byte-compile and prepare package for lazy loading
** help
Loading required namespace: variancePartition
Loading required namespace: dreamlet
*** installing help indices
*** copying figures
** building package indices
** installing vignettes
** testing if installed package can be loaded from temporary location
** testing if installed package can be loaded from final location
** testing if installed package keeps a record of temporary installation path
* DONE (dreamlet)
dreamlet.Rcheck/tests/runTests.Rout
R version 4.5.1 (2025-06-13 ucrt) -- "Great Square Root"
Copyright (C) 2025 The R Foundation for Statistical Computing
Platform: x86_64-w64-mingw32/x64
R is free software and comes with ABSOLUTELY NO WARRANTY.
You are welcome to redistribute it under certain conditions.
Type 'license()' or 'licence()' for distribution details.
R is a collaborative project with many contributors.
Type 'contributors()' for more information and
'citation()' on how to cite R or R packages in publications.
Type 'demo()' for some demos, 'help()' for on-line help, or
'help.start()' for an HTML browser interface to help.
Type 'q()' to quit R.
> library(Matrix)
> library(dreamlet)
Loading required package: variancePartition
Loading required package: ggplot2
Loading required package: limma
Loading required package: BiocParallel
Attaching package: 'variancePartition'
The following object is masked from 'package:limma':
topTable
Loading required package: SingleCellExperiment
Loading required package: SummarizedExperiment
Loading required package: MatrixGenerics
Loading required package: matrixStats
Attaching package: 'MatrixGenerics'
The following objects are masked from 'package:matrixStats':
colAlls, colAnyNAs, colAnys, colAvgsPerRowSet, colCollapse,
colCounts, colCummaxs, colCummins, colCumprods, colCumsums,
colDiffs, colIQRDiffs, colIQRs, colLogSumExps, colMadDiffs,
colMads, colMaxs, colMeans2, colMedians, colMins, colOrderStats,
colProds, colQuantiles, colRanges, colRanks, colSdDiffs, colSds,
colSums2, colTabulates, colVarDiffs, colVars, colWeightedMads,
colWeightedMeans, colWeightedMedians, colWeightedSds,
colWeightedVars, rowAlls, rowAnyNAs, rowAnys, rowAvgsPerColSet,
rowCollapse, rowCounts, rowCummaxs, rowCummins, rowCumprods,
rowCumsums, rowDiffs, rowIQRDiffs, rowIQRs, rowLogSumExps,
rowMadDiffs, rowMads, rowMaxs, rowMeans2, rowMedians, rowMins,
rowOrderStats, rowProds, rowQuantiles, rowRanges, rowRanks,
rowSdDiffs, rowSds, rowSums2, rowTabulates, rowVarDiffs, rowVars,
rowWeightedMads, rowWeightedMeans, rowWeightedMedians,
rowWeightedSds, rowWeightedVars
Loading required package: GenomicRanges
Loading required package: stats4
Loading required package: BiocGenerics
Loading required package: generics
Attaching package: 'generics'
The following objects are masked from 'package:base':
as.difftime, as.factor, as.ordered, intersect, is.element, setdiff,
setequal, union
Attaching package: 'BiocGenerics'
The following object is masked from 'package:limma':
plotMA
The following objects are masked from 'package:stats':
IQR, mad, sd, var, xtabs
The following objects are masked from 'package:base':
Filter, Find, Map, Position, Reduce, anyDuplicated, aperm, append,
as.data.frame, basename, cbind, colnames, dirname, do.call,
duplicated, eval, evalq, get, grep, grepl, is.unsorted, lapply,
mapply, match, mget, order, paste, pmax, pmax.int, pmin, pmin.int,
rank, rbind, rownames, sapply, saveRDS, table, tapply, unique,
unsplit, which.max, which.min
Loading required package: S4Vectors
Attaching package: 'S4Vectors'
The following objects are masked from 'package:Matrix':
expand, unname
The following object is masked from 'package:utils':
findMatches
The following objects are masked from 'package:base':
I, expand.grid, unname
Loading required package: IRanges
Attaching package: 'IRanges'
The following object is masked from 'package:grDevices':
windows
Loading required package: Seqinfo
Loading required package: Biobase
Welcome to Bioconductor
Vignettes contain introductory material; view with
'browseVignettes()'. To cite Bioconductor, see
'citation("Biobase")', and for packages 'citation("pkgname")'.
Attaching package: 'Biobase'
The following object is masked from 'package:MatrixGenerics':
rowMedians
The following objects are masked from 'package:matrixStats':
anyMissing, rowMedians
> library(DelayedArray)
Loading required package: S4Arrays
Loading required package: abind
Attaching package: 'S4Arrays'
The following object is masked from 'package:abind':
abind
The following object is masked from 'package:base':
rowsum
Loading required package: SparseArray
Attaching package: 'DelayedArray'
The following objects are masked from 'package:base':
apply, scale, sweep
> library(edgeR)
Attaching package: 'edgeR'
The following object is masked from 'package:SingleCellExperiment':
cpm
> library(muscat)
> library(RUnit)
>
> BiocGenerics:::testPackage("dreamlet")
B cells...0.3 secs
B cells...0.31 secs
Processing block [[1/1, 1/1]] ... OK
B cells...0.32 secs
CD14+ Monocytes...0.31 secs
CD4 T cells...0.36 secs
CD8 T cells...0.21 secs
FCGR3A+ Monocytes...0.28 secs
B cells...3.7 secs
CD14+ Monocytes...6.1 secs
CD4 T cells...4.3 secs
CD8 T cells...2.6 secs
FCGR3A+ Monocytes...5 secs
B cells...0.17 secs
CD14+ Monocytes...0.36 secs
CD4 T cells...0.25 secs
CD8 T cells...0.18 secs
FCGR3A+ Monocytes...0.29 secs
RUNIT TEST PROTOCOL -- Mon Jul 28 02:17:28 2025
***********************************************
Number of test functions: 10
Number of errors: 0
Number of failures: 0
1 Test Suite :
dreamlet RUnit Tests - 10 test functions, 0 errors, 0 failures
Number of test functions: 10
Number of errors: 0
Number of failures: 0
>
> proc.time()
user system elapsed
66.70 3.00 101.73
dreamlet.Rcheck/dreamlet-Ex.timings
| name | user | system | elapsed | |
| aggregateNonCountSignal | 7.96 | 0.69 | 9.47 | |
| aggregateToPseudoBulk | 0.91 | 0.03 | 0.94 | |
| aggregateVar | 1.22 | 0.01 | 1.24 | |
| as.dreamletResult | 2.50 | 0.08 | 2.59 | |
| buildClusterTreeFromPB | 0.61 | 0.02 | 0.63 | |
| cellCounts | 0.50 | 0.06 | 0.56 | |
| cellTypeSpecificity | 1.93 | 0.09 | 2.05 | |
| checkFormula | 0 | 0 | 0 | |
| coefNames-methods | 3.57 | 0.10 | 3.67 | |
| compositePosteriorTest | 10.56 | 0.11 | 10.71 | |
| computeCellCounts | 0.17 | 0.03 | 0.20 | |
| computeLogCPM | 0.41 | 0.11 | 0.52 | |
| computeNormCounts | 1.43 | 0.03 | 1.46 | |
| details-methods | 2.24 | 0.08 | 2.32 | |
| diffVar-methods | 4.61 | 0.15 | 4.77 | |
| dreamlet | 3.52 | 0.10 | 3.61 | |
| dreamletCompareClusters | 3.14 | 0.14 | 3.28 | |
| dropRedundantTerms | 0 | 0 | 0 | |
| equalFormulas | 0 | 0 | 0 | |
| extractData-methods | 2.44 | 0.07 | 2.50 | |
| fitVarPart | 25.00 | 0.53 | 25.54 | |
| getTreat-methods | 3.83 | 0.06 | 3.89 | |
| meta_analysis | 23.65 | 0.53 | 24.18 | |
| outlier | 0.02 | 0.00 | 0.02 | |
| outlierByAssay | 2.39 | 0.08 | 2.47 | |
| plotBeeswarm | 4.12 | 0.17 | 4.34 | |
| plotCellComposition | 1.21 | 0.03 | 1.24 | |
| plotForest-methods | 4.01 | 0.13 | 4.18 | |
| plotGeneHeatmap-methods | 4.10 | 0.14 | 4.25 | |
| plotHeatmap-methods | 0.71 | 0.06 | 0.80 | |
| plotPCA | 4.25 | 0.08 | 4.33 | |
| plotPercentBars-methods | 24.32 | 0.48 | 24.80 | |
| plotProjection | 0.83 | 0.07 | 0.84 | |
| plotVarPart-methods | 26.00 | 0.34 | 26.35 | |
| plotViolin-methods | 1.25 | 0.05 | 1.31 | |
| plotVolcano-methods | 6.62 | 0.09 | 6.72 | |
| plotVoom-methods | 3.41 | 0.05 | 3.46 | |
| processAssays | 4.98 | 0.07 | 5.08 | |
| removeConstantTerms | 0.02 | 0.00 | 0.02 | |
| residuals-methods | 3.81 | 0.08 | 3.89 | |
| run_mash | 11.70 | 0.14 | 11.87 | |
| seeErrors-methods | 3.66 | 0.10 | 3.75 | |
| sortCols-method | 24.09 | 0.61 | 24.72 | |
| stackAssays | 14.78 | 0.28 | 15.12 | |
| topTable-methods | 4.08 | 0.03 | 4.15 | |
| zenith_gsa-methods | 102.28 | 5.77 | 108.93 | |