| Back to Multiple platform build/check report for BioC 3.23: simplified long |
|
This page was generated on 2025-11-21 11:38 -0500 (Fri, 21 Nov 2025).
| Hostname | OS | Arch (*) | R version | Installed pkgs |
|---|---|---|---|---|
| nebbiolo1 | Linux (Ubuntu 24.04.3 LTS) | x86_64 | R Under development (unstable) (2025-10-20 r88955) -- "Unsuffered Consequences" | 4829 |
| lconway | macOS 12.7.6 Monterey | x86_64 | R Under development (unstable) (2025-10-21 r88958) -- "Unsuffered Consequences" | 4602 |
| kjohnson3 | macOS 13.7.7 Ventura | arm64 | R Under development (unstable) (2025-11-04 r88984) -- "Unsuffered Consequences" | 4566 |
| Click on any hostname to see more info about the system (e.g. compilers) (*) as reported by 'uname -p', except on Windows and Mac OS X | ||||
| Package 608/2327 | Hostname | OS / Arch | INSTALL | BUILD | CHECK | BUILD BIN | ||||||||
| dominatR 0.99.5 (landing page) Simon Lizarazo
| nebbiolo1 | Linux (Ubuntu 24.04.3 LTS) / x86_64 | OK | OK | OK | |||||||||
| lconway | macOS 12.7.6 Monterey / x86_64 | OK | OK | WARNINGS | OK | |||||||||
| kjohnson3 | macOS 13.7.7 Ventura / arm64 | OK | OK | WARNINGS | OK | |||||||||
|
To the developers/maintainers of the dominatR package: - Allow up to 24 hours (and sometimes 48 hours) for your latest push to git@git.bioconductor.org:packages/dominatR.git to reflect on this report. See Troubleshooting Build Report for more information. - Use the following Renviron settings to reproduce errors and warnings. - If 'R CMD check' started to fail recently on the Linux builder(s) over a missing dependency, add the missing dependency to 'Suggests:' in your DESCRIPTION file. See Renviron.bioc for more information. |
| Package: dominatR |
| Version: 0.99.5 |
| Command: rm -rf dominatR.buildbin-libdir && mkdir dominatR.buildbin-libdir && /Users/biocbuild/BBS/utils/build-universal.sh dominatR_0.99.5.tar.gz /Library/Frameworks/R.framework/Resources/bin/R dominatR.buildbin-libdir |
| StartedAt: 2025-11-21 01:31:39 -0500 (Fri, 21 Nov 2025) |
| EndedAt: 2025-11-21 01:32:16 -0500 (Fri, 21 Nov 2025) |
| EllapsedTime: 37.0 seconds |
| RetCode: 0 |
| Status: OK |
| PackageFile: dominatR_0.99.5.tgz |
| PackageFileSize: 2.916 MiB |
############################################################################## ############################################################################## ### ### Running command: ### ### rm -rf dominatR.buildbin-libdir && mkdir dominatR.buildbin-libdir && /Users/biocbuild/BBS/utils/build-universal.sh dominatR_0.99.5.tar.gz /Library/Frameworks/R.framework/Resources/bin/R dominatR.buildbin-libdir ### ############################################################################## ############################################################################## >>>>>>> >>>>>>> INSTALLATION WITH 'R CMD INSTALL --preclean --no-multiarch --library=dominatR.buildbin-libdir dominatR_0.99.5.tar.gz' >>>>>>> * installing *source* package ‘dominatR’ ... ** this is package ‘dominatR’ version ‘0.99.5’ ** using staged installation ** R ** inst ** byte-compile and prepare package for lazy loading 2025-11-21 01:31:50.998 R[26842:61160011] XType: Using static font registry. ** help *** installing help indices ** building package indices ** installing vignettes ** testing if installed package can be loaded from temporary location 2025-11-21 01:32:03.830 R[28181:61163170] XType: Using static font registry. ** testing if installed package can be loaded from final location 2025-11-21 01:32:14.559 R[29128:61165659] XType: Using static font registry. ** testing if installed package keeps a record of temporary installation path * DONE (dominatR)