Back to Build/check report for BioC 3.23:   simplified   long
ABC[D]EFGHIJKLMNOPQRSTUVWXYZ

This page was generated on 2025-11-06 11:32 -0500 (Thu, 06 Nov 2025).

HostnameOSArch (*)R versionInstalled pkgs
nebbiolo1Linux (Ubuntu 24.04.3 LTS)x86_64R Under development (unstable) (2025-10-20 r88955) -- "Unsuffered Consequences" 4818
Click on any hostname to see more info about the system (e.g. compilers)      (*) as reported by 'uname -p', except on Windows and Mac OS X

Package 590/2323HostnameOS / ArchINSTALLBUILDCHECKBUILD BIN
divergence 1.27.0  (landing page)
Wikum Dinalankara , Luigi Marchionni
Snapshot Date: 2025-11-05 13:40 -0500 (Wed, 05 Nov 2025)
git_url: https://git.bioconductor.org/packages/divergence
git_branch: devel
git_last_commit: 3e893d2
git_last_commit_date: 2025-10-29 10:49:51 -0500 (Wed, 29 Oct 2025)
nebbiolo1Linux (Ubuntu 24.04.3 LTS) / x86_64  OK    OK    OK  UNNEEDED, same version is already published


CHECK results for divergence on nebbiolo1

To the developers/maintainers of the divergence package:
- Allow up to 24 hours (and sometimes 48 hours) for your latest push to git@git.bioconductor.org:packages/divergence.git to reflect on this report. See Troubleshooting Build Report for more information.
- Use the following Renviron settings to reproduce errors and warnings.
- If 'R CMD check' started to fail recently on the Linux builder(s) over a missing dependency, add the missing dependency to 'Suggests:' in your DESCRIPTION file. See Renviron.bioc for more information.

raw results


Summary

Package: divergence
Version: 1.27.0
Command: /home/biocbuild/bbs-3.23-bioc/R/bin/R CMD check --install=check:divergence.install-out.txt --library=/home/biocbuild/bbs-3.23-bioc/R/site-library --timings divergence_1.27.0.tar.gz
StartedAt: 2025-11-05 22:59:11 -0500 (Wed, 05 Nov 2025)
EndedAt: 2025-11-05 23:02:51 -0500 (Wed, 05 Nov 2025)
EllapsedTime: 219.2 seconds
RetCode: 0
Status:   OK  
CheckDir: divergence.Rcheck
Warnings: 0

Command output

##############################################################################
##############################################################################
###
### Running command:
###
###   /home/biocbuild/bbs-3.23-bioc/R/bin/R CMD check --install=check:divergence.install-out.txt --library=/home/biocbuild/bbs-3.23-bioc/R/site-library --timings divergence_1.27.0.tar.gz
###
##############################################################################
##############################################################################


* using log directory ‘/home/biocbuild/bbs-3.23-bioc/meat/divergence.Rcheck’
* using R Under development (unstable) (2025-10-20 r88955)
* using platform: x86_64-pc-linux-gnu
* R was compiled by
    gcc (Ubuntu 13.3.0-6ubuntu2~24.04) 13.3.0
    GNU Fortran (Ubuntu 13.3.0-6ubuntu2~24.04) 13.3.0
* running under: Ubuntu 24.04.3 LTS
* using session charset: UTF-8
* checking for file ‘divergence/DESCRIPTION’ ... OK
* this is package ‘divergence’ version ‘1.27.0’
* package encoding: UTF-8
* checking package namespace information ... OK
* checking package dependencies ... OK
* checking if this is a source package ... OK
* checking if there is a namespace ... OK
* checking for hidden files and directories ... OK
* checking for portable file names ... OK
* checking for sufficient/correct file permissions ... OK
* checking whether package ‘divergence’ can be installed ... OK
* checking installed package size ... OK
* checking package directory ... OK
* checking ‘build’ directory ... OK
* checking DESCRIPTION meta-information ... OK
* checking top-level files ... NOTE
File
  LICENSE
is not mentioned in the DESCRIPTION file.
* checking for left-over files ... OK
* checking index information ... OK
* checking package subdirectories ... OK
* checking code files for non-ASCII characters ... OK
* checking R files for syntax errors ... OK
* checking whether the package can be loaded ... OK
* checking whether the package can be loaded with stated dependencies ... OK
* checking whether the package can be unloaded cleanly ... OK
* checking whether the namespace can be loaded with stated dependencies ... OK
* checking whether the namespace can be unloaded cleanly ... OK
* checking loading without being on the library search path ... OK
* checking dependencies in R code ... OK
* checking S3 generic/method consistency ... OK
* checking replacement functions ... OK
* checking foreign function calls ... OK
* checking R code for possible problems ... NOTE
check_SE: no visible binding for global variable ‘data’
computeSingleFeaturesetBinaryVector: no visible global function
  definition for ‘dist’
computeSingleFeaturesetSupport: no visible global function definition
  for ‘dist’
computeSingleFeaturesetSupport: no visible global function definition
  for ‘quantile’
computeSingleRange: no visible global function definition for
  ‘quantile’
getRangesBySections: no visible global function definition for
  ‘detectCores’
rowChiSq: no visible global function definition for ‘chisq.test’
rowChiSq: no visible global function definition for ‘xtabs’
Undefined global functions or variables:
  chisq.test data detectCores dist quantile xtabs
Consider adding
  importFrom("stats", "chisq.test", "dist", "quantile", "xtabs")
  importFrom("utils", "data")
to your NAMESPACE file.
* checking Rd files ... NOTE
checkRd: (-1) computeMultivariateDigitization.Rd:26: Lost braces; missing escapes or markup?
    26 | By default gamma = {0.01, 0.02, ... 0.09, 0.1, 0.2, ..., 0.9}.}
       |                    ^
checkRd: (-1) computeUnivariateDigitization.Rd:22: Lost braces; missing escapes or markup?
    22 | By default gamma = {0.01, 0.02, ... 0.09, 0.1, 0.2, ..., 0.9}.}
       |                    ^
* checking Rd metadata ... OK
* checking Rd cross-references ... OK
* checking for missing documentation entries ... OK
* checking for code/documentation mismatches ... OK
* checking Rd \usage sections ... OK
* checking Rd contents ... OK
* checking for unstated dependencies in examples ... OK
* checking contents of ‘data’ directory ... OK
* checking data for non-ASCII characters ... OK
* checking LazyData ... OK
* checking data for ASCII and uncompressed saves ... OK
* checking files in ‘vignettes’ ... OK
* checking examples ... OK
Examples with CPU (user + system) or elapsed time > 5s
                                 user system elapsed
computeUnivariateDigitization  15.962 93.225  16.929
computeChiSquaredTest          18.236 78.956  17.030
findUnivariateGammaWithSupport 14.120 72.065  15.757
computeUnivariateTernaryMatrix  2.326  9.469   2.151
computeUnivariateSupport        0.842  4.733   1.431
* checking for unstated dependencies in vignettes ... OK
* checking package vignettes ... NOTE
Package vignette with \VignetteEngine{} not specifying an engine package:
  ‘divergence.Rmd’
Engines should be specified as \VignetteEngine{PKG::ENG}.
* checking re-building of vignette outputs ... OK
* checking PDF version of manual ... OK
* DONE

Status: 4 NOTEs
See
  ‘/home/biocbuild/bbs-3.23-bioc/meat/divergence.Rcheck/00check.log’
for details.


Installation output

divergence.Rcheck/00install.out

##############################################################################
##############################################################################
###
### Running command:
###
###   /home/biocbuild/bbs-3.23-bioc/R/bin/R CMD INSTALL divergence
###
##############################################################################
##############################################################################


* installing to library ‘/home/biocbuild/bbs-3.23-bioc/R/site-library’
* installing *source* package ‘divergence’ ...
** this is package ‘divergence’ version ‘1.27.0’
** using staged installation
** R
** data
*** moving datasets to lazyload DB
** byte-compile and prepare package for lazy loading
** help
*** installing help indices
** building package indices
** installing vignettes
** testing if installed package can be loaded from temporary location
** testing if installed package can be loaded from final location
** testing if installed package keeps a record of temporary installation path
* DONE (divergence)

Tests output


Example timings

divergence.Rcheck/divergence-Ex.timings

nameusersystemelapsed
computeChiSquaredTest18.23678.95617.030
computeMultivariateBinaryMatrix1.3130.1461.459
computeMultivariateDigitization2.9170.1373.054
computeMultivariateSupport0.2580.0000.258
computeQuantileMatrix0.0450.0010.045
computeUnivariateDigitization15.96293.22516.929
computeUnivariateSupport0.8424.7331.431
computeUnivariateTernaryMatrix2.3269.4692.151
findMultivariateGammaWithSupport0.4570.0120.470
findUnivariateGammaWithSupport14.12072.06515.757