| Back to Multiple platform build/check report for BioC 3.22: simplified long |
|
This page was generated on 2025-10-25 12:04 -0400 (Sat, 25 Oct 2025).
| Hostname | OS | Arch (*) | R version | Installed pkgs |
|---|---|---|---|---|
| nebbiolo2 | Linux (Ubuntu 24.04.3 LTS) | x86_64 | 4.5.1 Patched (2025-08-23 r88802) -- "Great Square Root" | 4901 |
| lconway | macOS 12.7.6 Monterey | x86_64 | 4.5.1 Patched (2025-09-10 r88807) -- "Great Square Root" | 4691 |
| kjohnson3 | macOS 13.7.7 Ventura | arm64 | 4.5.1 Patched (2025-09-10 r88807) -- "Great Square Root" | 4637 |
| taishan | Linux (openEuler 24.03 LTS) | aarch64 | 4.5.0 (2025-04-11) -- "How About a Twenty-Six" | 4658 |
| Click on any hostname to see more info about the system (e.g. compilers) (*) as reported by 'uname -p', except on Windows and Mac OS X | ||||
| Package 524/2361 | Hostname | OS / Arch | INSTALL | BUILD | CHECK | BUILD BIN | ||||||||
| dar 1.5.2 (landing page) Francesc Catala-Moll
| nebbiolo2 | Linux (Ubuntu 24.04.3 LTS) / x86_64 | OK | OK | OK | |||||||||
| lconway | macOS 12.7.6 Monterey / x86_64 | OK | OK | OK | OK | |||||||||
| kjohnson3 | macOS 13.7.7 Ventura / arm64 | OK | OK | OK | OK | |||||||||
| taishan | Linux (openEuler 24.03 LTS) / aarch64 | OK | NA | NA | ||||||||||
|
To the developers/maintainers of the dar package: - Allow up to 24 hours (and sometimes 48 hours) for your latest push to git@git.bioconductor.org:packages/dar.git to reflect on this report. See Troubleshooting Build Report for more information. - Use the following Renviron settings to reproduce errors and warnings. - If 'R CMD check' started to fail recently on the Linux builder(s) over a missing dependency, add the missing dependency to 'Suggests:' in your DESCRIPTION file. See Renviron.bioc for more information. |
| Package: dar |
| Version: 1.5.2 |
| Command: /Library/Frameworks/R.framework/Resources/bin/R CMD check --install=check:dar.install-out.txt --library=/Library/Frameworks/R.framework/Resources/library --no-vignettes --timings dar_1.5.2.tar.gz |
| StartedAt: 2025-10-24 20:36:49 -0400 (Fri, 24 Oct 2025) |
| EndedAt: 2025-10-24 20:48:18 -0400 (Fri, 24 Oct 2025) |
| EllapsedTime: 688.7 seconds |
| RetCode: 0 |
| Status: OK |
| CheckDir: dar.Rcheck |
| Warnings: 0 |
##############################################################################
##############################################################################
###
### Running command:
###
### /Library/Frameworks/R.framework/Resources/bin/R CMD check --install=check:dar.install-out.txt --library=/Library/Frameworks/R.framework/Resources/library --no-vignettes --timings dar_1.5.2.tar.gz
###
##############################################################################
##############################################################################
* using log directory ‘/Users/biocbuild/bbs-3.22-bioc/meat/dar.Rcheck’
* using R version 4.5.1 Patched (2025-09-10 r88807)
* using platform: x86_64-apple-darwin20
* R was compiled by
Apple clang version 14.0.0 (clang-1400.0.29.202)
GNU Fortran (GCC) 14.2.0
* running under: macOS Monterey 12.7.6
* using session charset: UTF-8
* using option ‘--no-vignettes’
* checking for file ‘dar/DESCRIPTION’ ... OK
* this is package ‘dar’ version ‘1.5.2’
* package encoding: UTF-8
* checking package namespace information ... OK
* checking package dependencies ... INFO
Imports includes 21 non-default packages.
Importing from so many packages makes the package vulnerable to any of
them becoming unavailable. Move as many as possible to Suggests and
use conditionally.
* checking if this is a source package ... OK
* checking if there is a namespace ... OK
* checking for hidden files and directories ... OK
* checking for portable file names ... OK
* checking for sufficient/correct file permissions ... OK
* checking whether package ‘dar’ can be installed ... OK
* checking installed package size ... OK
* checking package directory ... OK
* checking ‘build’ directory ... OK
* checking DESCRIPTION meta-information ... OK
* checking top-level files ... OK
* checking for left-over files ... OK
* checking index information ... OK
* checking package subdirectories ... OK
* checking code files for non-ASCII characters ... OK
* checking R files for syntax errors ... OK
* checking whether the package can be loaded ... OK
* checking whether the package can be loaded with stated dependencies ... OK
* checking whether the package can be unloaded cleanly ... OK
* checking whether the namespace can be loaded with stated dependencies ... OK
* checking whether the namespace can be unloaded cleanly ... OK
* checking dependencies in R code ... OK
* checking S3 generic/method consistency ... OK
* checking replacement functions ... OK
* checking foreign function calls ... OK
* checking R code for possible problems ... OK
* checking Rd files ... OK
* checking Rd metadata ... OK
* checking Rd cross-references ... OK
* checking for missing documentation entries ... OK
* checking for code/documentation mismatches ... OK
* checking Rd \usage sections ... OK
* checking Rd contents ... OK
* checking for unstated dependencies in examples ... OK
* checking contents of ‘data’ directory ... OK
* checking data for non-ASCII characters ... OK
* checking data for ASCII and uncompressed saves ... OK
* checking R/sysdata.rda ... OK
* checking files in ‘vignettes’ ... OK
* checking examples ... OK
Examples with CPU (user + system) or elapsed time > 5s
user system elapsed
step_aldex 18.887 3.227 23.943
step_deseq 6.969 0.141 7.142
corr_heatmap 4.766 0.213 5.022
prep 3.911 0.085 46.224
step_metagenomeseq 3.585 0.078 11.086
export_steps 2.270 0.220 15.385
import_steps 2.012 0.082 38.387
recipe 1.485 0.032 19.624
* checking for unstated dependencies in ‘tests’ ... OK
* checking tests ...
Running ‘testthat.R’
OK
* checking for unstated dependencies in vignettes ... OK
* checking package vignettes ... OK
* checking running R code from vignettes ... SKIPPED
* checking re-building of vignette outputs ... SKIPPED
* checking PDF version of manual ... OK
* DONE
Status: OK
dar.Rcheck/00install.out
############################################################################## ############################################################################## ### ### Running command: ### ### /Library/Frameworks/R.framework/Resources/bin/R CMD INSTALL dar ### ############################################################################## ############################################################################## * installing to library ‘/Library/Frameworks/R.framework/Versions/4.5-x86_64/Resources/library’ * installing *source* package ‘dar’ ... ** this is package ‘dar’ version ‘1.5.2’ ** using staged installation ** R ** data ** inst ** byte-compile and prepare package for lazy loading ** help *** installing help indices *** copying figures ** building package indices ** installing vignettes ** testing if installed package can be loaded from temporary location ** testing if installed package can be loaded from final location ** testing if installed package keeps a record of temporary installation path * DONE (dar)
dar.Rcheck/tests/testthat.Rout
R version 4.5.1 Patched (2025-09-10 r88807) -- "Great Square Root"
Copyright (C) 2025 The R Foundation for Statistical Computing
Platform: x86_64-apple-darwin20
R is free software and comes with ABSOLUTELY NO WARRANTY.
You are welcome to redistribute it under certain conditions.
Type 'license()' or 'licence()' for distribution details.
R is a collaborative project with many contributors.
Type 'contributors()' for more information and
'citation()' on how to cite R or R packages in publications.
Type 'demo()' for some demos, 'help()' for on-line help, or
'help.start()' for an HTML browser interface to help.
Type 'q()' to quit R.
> library(testthat)
> library(dar)
>
> test_check("dar")
Starting 2 test processes
[ FAIL 0 | WARN 3 | SKIP 10 | PASS 81 ]
══ Skipped tests (10) ══════════════════════════════════════════════════════════
• On CRAN (9): 'test-roxytest-tests-bake.R:18:3',
'test-roxytest-tests-lefse.R:15:3', 'test-roxytest-tests-misc.R:73:3',
'test-roxytest-tests-misc.R:101:3', 'test-roxytest-tests-misc.R:108:3',
'test-roxytest-tests-maaslin2.R:16:3', 'test-roxytest-tests-pkg_check.R:6:3',
'test-roxytest-tests-read_data.R:24:3',
'test-roxytest-tests-steps_and_checks.R:7:3'
• Temporary disabling due to problems with the ANCOM package (1):
'test-roxytest-tests-ancom.R:6:3'
[ FAIL 0 | WARN 3 | SKIP 10 | PASS 81 ]
>
> proc.time()
user system elapsed
219.490 15.080 299.234
dar.Rcheck/dar-Ex.timings
| name | user | system | elapsed | |
| abundance_plt | 3.096 | 0.066 | 3.177 | |
| add_tax | 0.185 | 0.006 | 0.192 | |
| add_var | 0.175 | 0.007 | 0.182 | |
| bake | 0.526 | 0.010 | 0.539 | |
| contains_rarefaction | 0.821 | 0.021 | 0.849 | |
| cool | 0.308 | 0.005 | 0.315 | |
| corr_heatmap | 4.766 | 0.213 | 5.022 | |
| exclusion_plt | 1.304 | 0.027 | 1.339 | |
| export_steps | 2.270 | 0.220 | 15.385 | |
| find_intersections | 0.175 | 0.002 | 0.179 | |
| get_comparisons | 0.020 | 0.001 | 0.023 | |
| get_phy | 0.021 | 0.002 | 0.023 | |
| get_tax | 0.028 | 0.003 | 0.031 | |
| get_var | 0.031 | 0.003 | 0.033 | |
| import_steps | 2.012 | 0.082 | 38.387 | |
| intersection_df | 0.154 | 0.004 | 0.159 | |
| intersection_plt | 2.244 | 0.017 | 2.268 | |
| mutual_plt | 2.589 | 0.016 | 2.612 | |
| otu_table | 0.409 | 0.004 | 0.414 | |
| overlap_df | 0.236 | 0.004 | 0.240 | |
| phy_qc | 1.160 | 0.019 | 1.182 | |
| prep | 3.911 | 0.085 | 46.224 | |
| rand_id | 0.001 | 0.000 | 0.000 | |
| read_data | 1.632 | 0.392 | 1.770 | |
| recipe | 1.485 | 0.032 | 19.624 | |
| required_deps | 0.041 | 0.007 | 0.049 | |
| sample_data | 0.033 | 0.002 | 0.036 | |
| step_aldex | 18.887 | 3.227 | 23.943 | |
| step_ancom | 0.000 | 0.001 | 0.000 | |
| step_corncob | 2.101 | 0.138 | 2.263 | |
| step_deseq | 6.969 | 0.141 | 7.142 | |
| step_filter_by_abundance | 0.045 | 0.003 | 0.048 | |
| step_filter_by_prevalence | 0.046 | 0.006 | 0.053 | |
| step_filter_by_rarity | 0.047 | 0.006 | 0.053 | |
| step_filter_by_variance | 0.047 | 0.004 | 0.051 | |
| step_filter_taxa | 0.047 | 0.004 | 0.052 | |
| step_lefse | 0.079 | 0.008 | 0.088 | |
| step_maaslin | 3.484 | 0.195 | 3.724 | |
| step_metagenomeseq | 3.585 | 0.078 | 11.086 | |
| step_rarefaction | 0.064 | 0.008 | 0.072 | |
| step_subset_taxa | 0.041 | 0.005 | 0.046 | |
| step_wilcox | 2.009 | 0.033 | 2.051 | |
| steps_ids | 0.010 | 0.002 | 0.013 | |
| tax_table | 0.059 | 0.005 | 0.064 | |
| tidyeval | 0.016 | 0.002 | 0.018 | |
| to_tibble | 0.508 | 0.005 | 0.515 | |
| use_rarefy | 0.018 | 0.008 | 0.027 | |
| zero_otu | 0.463 | 0.011 | 0.477 | |