| Back to Build/check report for BioC 3.23: simplified long |
|
This page was generated on 2025-10-31 08:34 -0400 (Fri, 31 Oct 2025).
| Hostname | OS | Arch (*) | R version | Installed pkgs |
|---|---|---|---|---|
| nebbiolo1 | Linux (Ubuntu 24.04.3 LTS) | x86_64 | R Under development (unstable) (2025-10-20 r88955) -- "Unsuffered Consequences" | 4428 |
| Click on any hostname to see more info about the system (e.g. compilers) (*) as reported by 'uname -p', except on Windows and Mac OS X | ||||
| Package 464/2321 | Hostname | OS / Arch | INSTALL | BUILD | CHECK | BUILD BIN | ||||||||
| crisprScore 1.15.0 (landing page) Jean-Philippe Fortin
| nebbiolo1 | Linux (Ubuntu 24.04.3 LTS) / x86_64 | OK | OK | OK | |||||||||
|
To the developers/maintainers of the crisprScore package: - Allow up to 24 hours (and sometimes 48 hours) for your latest push to git@git.bioconductor.org:packages/crisprScore.git to reflect on this report. See Troubleshooting Build Report for more information. - Use the following Renviron settings to reproduce errors and warnings. - If 'R CMD check' started to fail recently on the Linux builder(s) over a missing dependency, add the missing dependency to 'Suggests:' in your DESCRIPTION file. See Renviron.bioc for more information. |
| Package: crisprScore |
| Version: 1.15.0 |
| Command: /home/biocbuild/bbs-3.23-bioc/R/bin/R CMD build --keep-empty-dirs --no-resave-data crisprScore |
| StartedAt: 2025-10-30 16:41:23 -0400 (Thu, 30 Oct 2025) |
| EndedAt: 2025-10-30 16:41:49 -0400 (Thu, 30 Oct 2025) |
| EllapsedTime: 26.0 seconds |
| RetCode: 0 |
| Status: OK |
| PackageFile: crisprScore_1.15.0.tar.gz |
| PackageFileSize: 4.506 MiB |
############################################################################## ############################################################################## ### ### Running command: ### ### /home/biocbuild/bbs-3.23-bioc/R/bin/R CMD build --keep-empty-dirs --no-resave-data crisprScore ### ############################################################################## ############################################################################## * checking for file ‘crisprScore/DESCRIPTION’ ... OK * preparing ‘crisprScore’: * checking DESCRIPTION meta-information ... OK * installing the package (it is needed to build vignettes) * creating vignettes ... OK * checking for LF line-endings in source and make files and shell scripts * checking for empty or unneeded directories * building ‘crisprScore_1.15.0.tar.gz’ Warning in utils::tar(filepath, pkgname, compression = compression, compression_level = 9L, : storing paths of more than 100 bytes is not portable: ‘crisprScore/inst/python/deepspcas9/DeepCas9_Final/PreTrain-Final-False-3-5-7-100-70-40-0.001-550-True-80-60.data-00000-of-00001’ Warning in utils::tar(filepath, pkgname, compression = compression, compression_level = 9L, : storing paths of more than 100 bytes is not portable: ‘crisprScore/inst/python/deepspcas9/DeepCas9_Final/PreTrain-Final-False-3-5-7-100-70-40-0.001-550-True-80-60.index’ Warning in utils::tar(filepath, pkgname, compression = compression, compression_level = 9L, : storing paths of more than 100 bytes is not portable: ‘crisprScore/inst/python/deepspcas9/DeepCas9_Final/PreTrain-Final-False-3-5-7-100-70-40-0.001-550-True-80-60.meta’