Back to Build/check report for BioC 3.23:   simplified   long
AB[C]DEFGHIJKLMNOPQRSTUVWXYZ

This page was generated on 2025-11-01 11:32 -0400 (Sat, 01 Nov 2025).

HostnameOSArch (*)R versionInstalled pkgs
nebbiolo1Linux (Ubuntu 24.04.3 LTS)x86_64R Under development (unstable) (2025-10-20 r88955) -- "Unsuffered Consequences" 4774
Click on any hostname to see more info about the system (e.g. compilers)      (*) as reported by 'uname -p', except on Windows and Mac OS X

Package 415/2321HostnameOS / ArchINSTALLBUILDCHECKBUILD BIN
cola 2.17.0  (landing page)
Zuguang Gu
Snapshot Date: 2025-10-31 13:40 -0400 (Fri, 31 Oct 2025)
git_url: https://git.bioconductor.org/packages/cola
git_branch: devel
git_last_commit: 7589392
git_last_commit_date: 2025-10-29 10:49:39 -0400 (Wed, 29 Oct 2025)
nebbiolo1Linux (Ubuntu 24.04.3 LTS) / x86_64  OK    OK    OK  YES


CHECK results for cola on nebbiolo1

To the developers/maintainers of the cola package:
- Allow up to 24 hours (and sometimes 48 hours) for your latest push to git@git.bioconductor.org:packages/cola.git to reflect on this report. See Troubleshooting Build Report for more information.
- Use the following Renviron settings to reproduce errors and warnings.
- If 'R CMD check' started to fail recently on the Linux builder(s) over a missing dependency, add the missing dependency to 'Suggests:' in your DESCRIPTION file. See Renviron.bioc for more information.

raw results


Summary

Package: cola
Version: 2.17.0
Command: /home/biocbuild/bbs-3.23-bioc/R/bin/R CMD check --install=check:cola.install-out.txt --library=/home/biocbuild/bbs-3.23-bioc/R/site-library --timings cola_2.17.0.tar.gz
StartedAt: 2025-10-31 22:11:14 -0400 (Fri, 31 Oct 2025)
EndedAt: 2025-10-31 22:14:14 -0400 (Fri, 31 Oct 2025)
EllapsedTime: 180.2 seconds
RetCode: 0
Status:   OK  
CheckDir: cola.Rcheck
Warnings: 0

Command output

##############################################################################
##############################################################################
###
### Running command:
###
###   /home/biocbuild/bbs-3.23-bioc/R/bin/R CMD check --install=check:cola.install-out.txt --library=/home/biocbuild/bbs-3.23-bioc/R/site-library --timings cola_2.17.0.tar.gz
###
##############################################################################
##############################################################################


* using log directory ‘/home/biocbuild/bbs-3.23-bioc/meat/cola.Rcheck’
* using R Under development (unstable) (2025-10-20 r88955)
* using platform: x86_64-pc-linux-gnu
* R was compiled by
    gcc (Ubuntu 13.3.0-6ubuntu2~24.04) 13.3.0
    GNU Fortran (Ubuntu 13.3.0-6ubuntu2~24.04) 13.3.0
* running under: Ubuntu 24.04.3 LTS
* using session charset: UTF-8
* checking for file ‘cola/DESCRIPTION’ ... OK
* checking extension type ... Package
* this is package ‘cola’ version ‘2.17.0’
* checking package namespace information ... OK
* checking package dependencies ... INFO
Imports includes 27 non-default packages.
Importing from so many packages makes the package vulnerable to any of
them becoming unavailable.  Move as many as possible to Suggests and
use conditionally.
* checking if this is a source package ... OK
* checking if there is a namespace ... OK
* checking for hidden files and directories ... OK
* checking for portable file names ... OK
* checking for sufficient/correct file permissions ... OK
* checking whether package ‘cola’ can be installed ... OK
* used C++ compiler: ‘g++ (Ubuntu 13.3.0-6ubuntu2~24.04) 13.3.0’
* checking installed package size ... INFO
  installed size is  6.1Mb
  sub-directories of 1Mb or more:
    data   3.3Mb
    libs   1.1Mb
* checking package directory ... OK
* checking ‘build’ directory ... OK
* checking DESCRIPTION meta-information ... NOTE
License stub is invalid DCF.
* checking top-level files ... OK
* checking for left-over files ... OK
* checking index information ... OK
* checking package subdirectories ... OK
* checking code files for non-ASCII characters ... OK
* checking R files for syntax errors ... OK
* checking whether the package can be loaded ... OK
* checking whether the package can be loaded with stated dependencies ... OK
* checking whether the package can be unloaded cleanly ... OK
* checking whether the namespace can be loaded with stated dependencies ... OK
* checking whether the namespace can be unloaded cleanly ... OK
* checking loading without being on the library search path ... OK
* checking whether startup messages can be suppressed ... OK
* checking dependencies in R code ... OK
* checking S3 generic/method consistency ... OK
* checking replacement functions ... OK
* checking foreign function calls ... OK
* checking R code for possible problems ... OK
* checking Rd files ... OK
* checking Rd metadata ... OK
* checking Rd cross-references ... NOTE
Non-topic package-anchored link(s) in Rd file 'collect_classes-ConsensusPartitionList-method.Rd':
  ‘[ComplexHeatmap:draw-HeatmapList-method]{draw,HeatmapList-method}’

See section 'Cross-references' in the 'Writing R Extensions' manual.

Found the following Rd file(s) with Rd \link{} targets missing package
anchors:
  predict_classes-ConsensusPartition-method.Rd: colorRamp2
  predict_classes-matrix-method.Rd: colorRamp2
Please provide package anchors for all Rd \link{} targets not in the
package itself and the base packages.
* checking for missing documentation entries ... OK
* checking for code/documentation mismatches ... OK
* checking Rd \usage sections ... OK
* checking Rd contents ... OK
* checking for unstated dependencies in examples ... OK
* checking contents of ‘data’ directory ... OK
* checking data for non-ASCII characters ... OK
* checking data for ASCII and uncompressed saves ... OK
* checking line endings in C/C++/Fortran sources/headers ... OK
* checking compiled code ... INFO
Note: information on .o files is not available
* checking files in ‘vignettes’ ... OK
* checking examples ... OK
Examples with CPU (user + system) or elapsed time > 5s
                      user system elapsed
consensus_partition 18.854  0.353  19.209
* checking for unstated dependencies in ‘tests’ ... OK
* checking tests ...
  Running ‘test-all.R’
 OK
* checking for unstated dependencies in vignettes ... OK
* checking package vignettes ... OK
* checking re-building of vignette outputs ... OK
* checking PDF version of manual ... OK
* DONE

Status: 2 NOTEs
See
  ‘/home/biocbuild/bbs-3.23-bioc/meat/cola.Rcheck/00check.log’
for details.


Installation output

cola.Rcheck/00install.out

##############################################################################
##############################################################################
###
### Running command:
###
###   /home/biocbuild/bbs-3.23-bioc/R/bin/R CMD INSTALL cola
###
##############################################################################
##############################################################################


* installing to library ‘/home/biocbuild/bbs-3.23-bioc/R/site-library’
* installing *source* package ‘cola’ ...
** this is package ‘cola’ version ‘2.17.0’
** using staged installation
** libs
using C++ compiler: ‘g++ (Ubuntu 13.3.0-6ubuntu2~24.04) 13.3.0’
g++ -std=gnu++17 -I"/home/biocbuild/bbs-3.23-bioc/R/include" -DNDEBUG  -I'/home/biocbuild/bbs-3.23-bioc/R/site-library/Rcpp/include' -I/usr/local/include    -fpic  -g -O2  -Wall -Werror=format-security  -c RcppExports.cpp -o RcppExports.o
g++ -std=gnu++17 -I"/home/biocbuild/bbs-3.23-bioc/R/include" -DNDEBUG  -I'/home/biocbuild/bbs-3.23-bioc/R/site-library/Rcpp/include' -I/usr/local/include    -fpic  -g -O2  -Wall -Werror=format-security  -c atc.cpp -o atc.o
g++ -std=gnu++17 -I"/home/biocbuild/bbs-3.23-bioc/R/include" -DNDEBUG  -I'/home/biocbuild/bbs-3.23-bioc/R/site-library/Rcpp/include' -I/usr/local/include    -fpic  -g -O2  -Wall -Werror=format-security  -c cal_consensus_mat.cpp -o cal_consensus_mat.o
g++ -std=gnu++17 -I"/home/biocbuild/bbs-3.23-bioc/R/include" -DNDEBUG  -I'/home/biocbuild/bbs-3.23-bioc/R/site-library/Rcpp/include' -I/usr/local/include    -fpic  -g -O2  -Wall -Werror=format-security  -c pdist.cpp -o pdist.o
g++ -std=gnu++17 -shared -L/home/biocbuild/bbs-3.23-bioc/R/lib -L/usr/local/lib -o cola.so RcppExports.o atc.o cal_consensus_mat.o pdist.o -L/home/biocbuild/bbs-3.23-bioc/R/lib -lR
installing to /home/biocbuild/bbs-3.23-bioc/R/site-library/00LOCK-cola/00new/cola/libs
** R
** data
** inst
** byte-compile and prepare package for lazy loading
** help
*** installing help indices
** building package indices
** installing vignettes
** testing if installed package can be loaded from temporary location
** checking absolute paths in shared objects and dynamic libraries
** testing if installed package can be loaded from final location
** testing if installed package keeps a record of temporary installation path
* DONE (cola)

Tests output

cola.Rcheck/tests/test-all.Rout


R Under development (unstable) (2025-10-20 r88955) -- "Unsuffered Consequences"
Copyright (C) 2025 The R Foundation for Statistical Computing
Platform: x86_64-pc-linux-gnu

R is free software and comes with ABSOLUTELY NO WARRANTY.
You are welcome to redistribute it under certain conditions.
Type 'license()' or 'licence()' for distribution details.

R is a collaborative project with many contributors.
Type 'contributors()' for more information and
'citation()' on how to cite R or R packages in publications.

Type 'demo()' for some demos, 'help()' for on-line help, or
'help.start()' for an HTML browser interface to help.
Type 'q()' to quit R.

> library(testthat)
> suppressWarnings(suppressPackageStartupMessages(library(cola)))
> 
> test_check("cola")
[ FAIL 0 | WARN 0 | SKIP 0 | PASS 18 ]
> 
> 
> proc.time()
   user  system elapsed 
  4.121   0.279   4.387 

Example timings

cola.Rcheck/cola-Ex.timings

nameusersystemelapsed
ATC0.0280.0000.028
ATC_approx0.0000.0010.001
ConsensusPartition-class000
ConsensusPartitionList-class000
DownSamplingConsensusPartition-class0.0000.0010.001
Extract.ConsensusPartitionList0.4350.0230.459
Extract.HierarchicalPartition0.2470.0050.252
ExtractExtract.ConsensusPartitionList0.1690.0080.176
ExtractExtract.HierarchicalPartition000
FCC0.1690.0120.180
HierarchicalPartition-class000
PAC0.4600.0840.544
aPAC0.1440.0140.158
adjust_matrix0.0050.0020.007
adjust_outlier0.0010.0000.001
all_leaves-HierarchicalPartition-method0.1250.0090.134
all_nodes-HierarchicalPartition-method0.1320.0060.138
all_partition_methods0.0000.0010.001
all_top_value_methods0.0000.0000.001
cola0.0480.0000.048
cola_opt0.0240.0010.024
cola_report-ConsensusPartition-method000
cola_report-ConsensusPartitionList-method000
cola_report-HierarchicalPartition-method000
cola_report-dispatch000
cola_rl0.0750.0030.078
collect_classes-ConsensusPartition-method1.9140.0721.986
collect_classes-ConsensusPartitionList-method2.8970.0612.959
collect_classes-HierarchicalPartition-method1.5980.0511.650
collect_classes-dispatch0.0000.0010.001
collect_plots-ConsensusPartition-method000
collect_plots-ConsensusPartitionList-method000
collect_plots-dispatch000
collect_stats-ConsensusPartition-method0.0010.0000.000
collect_stats-ConsensusPartitionList-method0.4510.0310.482
collect_stats-dispatch000
colnames-ConsensusPartition-method0.0010.0000.000
colnames-ConsensusPartitionList-method0.0000.0010.000
colnames-DownSamplingConsensusPartition-method000
colnames-HierarchicalPartition-method000
colnames-dispatch0.0000.0000.001
compare_partitions-ConsensusPartition-method000
compare_signatures-ConsensusPartition-method000
compare_signatures-HierarchicalPartition-method4.3760.1954.573
compare_signatures-dispatch000
concordance0.1580.0110.169
config_ATC0.0010.0000.001
consensus_heatmap-ConsensusPartition-method0.5110.0150.526
consensus_partition18.854 0.35319.209
consensus_partition_by_down_sampling000
correspond_between_rankings0.0520.0010.052
correspond_between_two_rankings0.0230.0000.023
david_enrichment0.0000.0010.001
dim.ConsensusPartition000
dim.ConsensusPartitionList000
dim.DownSamplingConsensusPartition000
dim.HierarchicalPartition000
dimension_reduction-ConsensusPartition-method0.6130.0270.639
dimension_reduction-DownSamplingConsensusPartition-method1.0420.0071.050
dimension_reduction-HierarchicalPartition-method0.5390.0040.544
dimension_reduction-dispatch000
dimension_reduction-matrix-method000
find_best_km0.0000.0000.001
functional_enrichment-ANY-method000
functional_enrichment-ConsensusPartition-method000
functional_enrichment-ConsensusPartitionList-method000
functional_enrichment-HierarchicalPartition-method000
functional_enrichment-dispatch000
get_anno-ConsensusPartition-method000
get_anno-ConsensusPartitionList-method000
get_anno-DownSamplingConsensusPartition-method0.0800.0050.085
get_anno-HierarchicalPartition-method000
get_anno-dispatch0.0000.0000.001
get_anno_col-ConsensusPartition-method0.0010.0000.000
get_anno_col-ConsensusPartitionList-method000
get_anno_col-HierarchicalPartition-method0.0000.0010.001
get_anno_col-dispatch000
get_children_nodes-HierarchicalPartition-method000
get_classes-ConsensusPartition-method0.1380.0160.154
get_classes-ConsensusPartitionList-method0.1510.0070.158
get_classes-DownSamplingConsensusPartition-method0.0820.0060.088
get_classes-HierarchicalPartition-method0.1390.0040.143
get_classes-dispatch0.0010.0000.000
get_consensus-ConsensusPartition-method0.1530.0310.183
get_matrix-ConsensusPartition-method0.3240.5990.924
get_matrix-ConsensusPartitionList-method0.3120.5990.911
get_matrix-DownSamplingConsensusPartition-method0.0010.0000.000
get_matrix-HierarchicalPartition-method000
get_matrix-dispatch000
get_membership-ConsensusPartition-method0.1500.0310.180
get_membership-ConsensusPartitionList-method0.1400.0100.149
get_membership-dispatch000
get_param-ConsensusPartition-method0.1510.0180.169
get_signatures-ConsensusPartition-method4.9020.0544.956
get_signatures-DownSamplingConsensusPartition-method000
get_signatures-HierarchicalPartition-method0.0010.0000.000
get_signatures-dispatch000
get_stats-ConsensusPartition-method0.1370.0140.151
get_stats-ConsensusPartitionList-method0.1440.0060.151
get_stats-dispatch000
golub_cola0.1650.0070.173
golub_cola_ds0.1050.0040.109
golub_cola_rh0.1640.0050.169
hierarchical_partition000
is_best_k-ConsensusPartition-method0.1400.0080.148
is_best_k-ConsensusPartitionList-method0.1430.0080.151
is_best_k-dispatch000
is_leaf_node-HierarchicalPartition-method0.1250.0040.129
is_stable_k-ConsensusPartition-method0.1480.0100.158
is_stable_k-ConsensusPartitionList-method0.1490.0040.153
is_stable_k-dispatch000
knee_finder20.0320.0000.032
knitr_add_tab_item000
knitr_insert_tabs000
map_to_entrez_id000
max_depth-HierarchicalPartition-method0.1250.0040.129
membership_heatmap-ConsensusPartition-method0.4410.0060.447
merge_node-HierarchicalPartition-method000
merge_node_param0.0000.0000.001
ncol-ConsensusPartition-method000
ncol-ConsensusPartitionList-method000
ncol-DownSamplingConsensusPartition-method0.0010.0000.000
ncol-HierarchicalPartition-method000
ncol-dispatch000
node_info-HierarchicalPartition-method0.0000.0010.000
node_level-HierarchicalPartition-method000
nrow-ConsensusPartition-method000
nrow-ConsensusPartitionList-method0.0000.0010.000
nrow-HierarchicalPartition-method0.0000.0000.001
nrow-dispatch000
plot_ecdf-ConsensusPartition-method0.1510.0070.157
predict_classes-ConsensusPartition-method0.0000.0000.001
predict_classes-dispatch000
predict_classes-matrix-method000
print.hc_table_suggest_best_k0.0000.0000.001
recalc_stats000
register_NMF000
register_SOM0.0000.0000.001
register_partition_methods0.6360.0020.638
register_top_value_methods0.0010.0000.001
relabel_class0.0090.0000.009
remove_partition_methods000
remove_top_value_methods0.0010.0000.000
rownames-ConsensusPartition-method0.0000.0000.001
rownames-ConsensusPartitionList-method000
rownames-HierarchicalPartition-method0.0010.0000.000
rownames-dispatch0.0000.0000.001
run_all_consensus_partition_methods000
select_partition_number-ConsensusPartition-method0.1490.0100.159
show-ConsensusPartition-method000
show-ConsensusPartitionList-method0.0010.0000.000
show-DownSamplingConsensusPartition-method0.1050.0030.108
show-HierarchicalPartition-method0.1630.0050.167
show-dispatch0.0000.0000.001
split_node-HierarchicalPartition-method000
suggest_best_k-ConsensusPartition-method0.1390.0100.150
suggest_best_k-ConsensusPartitionList-method0.1480.0100.158
suggest_best_k-HierarchicalPartition-method0.1320.0050.137
suggest_best_k-dispatch0.0000.0000.001
test_between_factors0.0080.0000.008
test_to_known_factors-ConsensusPartition-method0.1610.0040.165
test_to_known_factors-ConsensusPartitionList-method0.2540.0100.265
test_to_known_factors-DownSamplingConsensusPartition-method0.1020.0030.105
test_to_known_factors-HierarchicalPartition-method0.1350.0070.142
test_to_known_factors-dispatch000
top_elements_overlap0.1920.0050.196
top_rows_heatmap-ConsensusPartition-method000
top_rows_heatmap-ConsensusPartitionList-method000
top_rows_heatmap-HierarchicalPartition-method0.0010.0000.000
top_rows_heatmap-dispatch000
top_rows_heatmap-matrix-method2.8220.1242.933
top_rows_overlap-ConsensusPartitionList-method0.7400.0140.754
top_rows_overlap-HierarchicalPartition-method0.4780.0120.490
top_rows_overlap-dispatch000
top_rows_overlap-matrix-method0.1240.0000.124