| Back to Multiple platform build/check report for BioC 3.22: simplified long |
|
This page was generated on 2025-08-15 12:06 -0400 (Fri, 15 Aug 2025).
| Hostname | OS | Arch (*) | R version | Installed pkgs |
|---|---|---|---|---|
| nebbiolo2 | Linux (Ubuntu 24.04.3 LTS) | x86_64 | 4.5.1 (2025-06-13) -- "Great Square Root" | 4818 |
| palomino8 | Windows Server 2022 Datacenter | x64 | 4.5.1 (2025-06-13 ucrt) -- "Great Square Root" | 4554 |
| lconway | macOS 12.7.1 Monterey | x86_64 | 4.5.1 (2025-06-13) -- "Great Square Root" | 4595 |
| kjohnson3 | macOS 13.7.7 Ventura | arm64 | 4.5.1 Patched (2025-06-14 r88325) -- "Great Square Root" | 4537 |
| taishan | Linux (openEuler 24.03 LTS) | aarch64 | 4.5.0 (2025-04-11) -- "How About a Twenty-Six" | 4535 |
| Click on any hostname to see more info about the system (e.g. compilers) (*) as reported by 'uname -p', except on Windows and Mac OS X | ||||
| Package 367/2317 | Hostname | OS / Arch | INSTALL | BUILD | CHECK | BUILD BIN | ||||||||
| clippda 1.59.0 (landing page) Stephen Nyangoma
| nebbiolo2 | Linux (Ubuntu 24.04.3 LTS) / x86_64 | OK | OK | OK | |||||||||
| palomino8 | Windows Server 2022 Datacenter / x64 | OK | OK | OK | OK | |||||||||
| lconway | macOS 12.7.1 Monterey / x86_64 | OK | OK | OK | OK | |||||||||
| kjohnson3 | macOS 13.7.7 Ventura / arm64 | OK | OK | OK | OK | |||||||||
| taishan | Linux (openEuler 24.03 LTS) / aarch64 | OK | OK | OK | ||||||||||
|
To the developers/maintainers of the clippda package: - Allow up to 24 hours (and sometimes 48 hours) for your latest push to git@git.bioconductor.org:packages/clippda.git to reflect on this report. See Troubleshooting Build Report for more information. - Use the following Renviron settings to reproduce errors and warnings. - If 'R CMD check' started to fail recently on the Linux builder(s) over a missing dependency, add the missing dependency to 'Suggests:' in your DESCRIPTION file. See Renviron.bioc for more information. |
| Package: clippda |
| Version: 1.59.0 |
| Command: F:\biocbuild\bbs-3.22-bioc\R\bin\R.exe CMD check --no-multiarch --install=check:clippda.install-out.txt --library=F:\biocbuild\bbs-3.22-bioc\R\library --no-vignettes --timings clippda_1.59.0.tar.gz |
| StartedAt: 2025-08-15 01:41:36 -0400 (Fri, 15 Aug 2025) |
| EndedAt: 2025-08-15 01:45:36 -0400 (Fri, 15 Aug 2025) |
| EllapsedTime: 240.0 seconds |
| RetCode: 0 |
| Status: OK |
| CheckDir: clippda.Rcheck |
| Warnings: 0 |
##############################################################################
##############################################################################
###
### Running command:
###
### F:\biocbuild\bbs-3.22-bioc\R\bin\R.exe CMD check --no-multiarch --install=check:clippda.install-out.txt --library=F:\biocbuild\bbs-3.22-bioc\R\library --no-vignettes --timings clippda_1.59.0.tar.gz
###
##############################################################################
##############################################################################
* using log directory 'F:/biocbuild/bbs-3.22-bioc/meat/clippda.Rcheck'
* using R version 4.5.1 (2025-06-13 ucrt)
* using platform: x86_64-w64-mingw32
* R was compiled by
gcc.exe (GCC) 14.2.0
GNU Fortran (GCC) 14.2.0
* running under: Windows Server 2022 x64 (build 20348)
* using session charset: UTF-8
* using option '--no-vignettes'
* checking for file 'clippda/DESCRIPTION' ... OK
* this is package 'clippda' version '1.59.0'
* checking package namespace information ... NOTE
Namespaces with empty importFrom:
'Biobase' 'tools'
* checking package dependencies ... INFO
Depends: includes the non-default packages:
'limma', 'statmod', 'rgl', 'lattice', 'scatterplot3d', 'Biobase',
'tools'
Adding so many packages to the search path is excessive and importing
selectively is preferable.
* checking if this is a source package ... OK
* checking if there is a namespace ... OK
* checking for hidden files and directories ... OK
* checking for portable file names ... OK
* checking whether package 'clippda' can be installed ... OK
* checking installed package size ... OK
* checking package directory ... OK
* checking 'build' directory ... OK
* checking DESCRIPTION meta-information ... OK
* checking top-level files ... OK
* checking for left-over files ... OK
* checking index information ... OK
* checking package subdirectories ... OK
* checking code files for non-ASCII characters ... OK
* checking R files for syntax errors ... OK
* checking whether the package can be loaded ... OK
* checking whether the package can be loaded with stated dependencies ... OK
* checking whether the package can be unloaded cleanly ... OK
* checking whether the namespace can be loaded with stated dependencies ... OK
* checking whether the namespace can be unloaded cleanly ... OK
* checking dependencies in R code ... NOTE
'library' or 'require' calls to packages already attached by Depends:
'lattice' 'limma' 'rgl' 'scatterplot3d' 'statmod'
Please remove these calls from your code.
Packages in Depends field not imported from:
'lattice' 'rgl'
These packages need to be imported from (in the NAMESPACE file)
for when this namespace is loaded but not attached.
* checking S3 generic/method consistency ... OK
* checking replacement functions ... OK
* checking foreign function calls ... OK
* checking R code for possible problems ... NOTE
ZvaluescasesVcontrolsPlots: no visible global function definition for
'lines'
ZvaluescasesVcontrolsPlots: no visible global function definition for
'legend'
ZvaluesfrommultinomPlots: no visible global function definition for
'rmultinom'
ZvaluesfrommultinomPlots: no visible global function definition for
'density'
ZvaluesfrommultinomPlots: no visible global function definition for
'lines'
ZvaluesfrommultinomPlots: no visible global function definition for
'legend'
ZvaluesfrommultinomPlots: no visible global function definition for
'cloud'
ZvaluesfrommultinomPlots: no visible global function definition for
'var'
Undefined global functions or variables:
cloud density legend lines rmultinom var
Consider adding
importFrom("graphics", "legend", "lines")
importFrom("stats", "density", "rmultinom", "var")
to your NAMESPACE file.
* checking Rd files ... NOTE
checkRd: (-1) show-methods.Rd:11-18: Lost braces
11 | {object = "aclinicalProteomicsData"}{
| ^
* checking Rd metadata ... OK
* checking Rd cross-references ... OK
* checking for missing documentation entries ... OK
* checking for code/documentation mismatches ... OK
* checking Rd \usage sections ... OK
* checking Rd contents ... OK
* checking for unstated dependencies in examples ... OK
* checking contents of 'data' directory ... OK
* checking data for non-ASCII characters ... OK
* checking data for ASCII and uncompressed saves ... OK
* checking sizes of PDF files under 'inst/doc' ... OK
* checking files in 'vignettes' ... OK
* checking examples ... OK
Examples with CPU (user + system) or elapsed time > 5s
user system elapsed
clippda-package 78.85 4.42 83.27
sampleSize 50.47 2.67 53.15
sampleSizeParameters 24.75 1.24 26.00
sample_technicalVariance 5.95 0.40 6.36
* checking for unstated dependencies in vignettes ... OK
* checking package vignettes ... OK
* checking running R code from vignettes ... SKIPPED
* checking re-building of vignette outputs ... SKIPPED
* checking PDF version of manual ... OK
* DONE
Status: 4 NOTEs
See
'F:/biocbuild/bbs-3.22-bioc/meat/clippda.Rcheck/00check.log'
for details.
clippda.Rcheck/00install.out
############################################################################## ############################################################################## ### ### Running command: ### ### F:\biocbuild\bbs-3.22-bioc\R\bin\R.exe CMD INSTALL clippda ### ############################################################################## ############################################################################## * installing to library 'F:/biocbuild/bbs-3.22-bioc/R/library' * installing *source* package 'clippda' ... ** this is package 'clippda' version '1.59.0' ** using staged installation ** R ** data ** inst ** byte-compile and prepare package for lazy loading ** help *** installing help indices ** building package indices ** installing vignettes ** testing if installed package can be loaded from temporary location ** testing if installed package can be loaded from final location ** testing if installed package keeps a record of temporary installation path * DONE (clippda)
clippda.Rcheck/clippda-Ex.timings
| name | user | system | elapsed | |
| ZvaluescasesVcontrolsPlots | 0.08 | 0.01 | 0.09 | |
| ZvaluesfrommultinomPlots | 1.32 | 0.03 | 1.36 | |
| aclinicalProteomicsData-class | 0.05 | 0.02 | 0.07 | |
| aclinicalProteomicsData-methods | 0.36 | 0.34 | 0.70 | |
| betweensampleVariance | 1.56 | 0.11 | 1.67 | |
| checkNo.replicates | 0.09 | 0.02 | 0.11 | |
| clippda-package | 78.85 | 4.42 | 83.27 | |
| f | 0 | 0 | 0 | |
| fisherInformation | 0.09 | 0.01 | 0.11 | |
| liverRawData | 0.00 | 0.02 | 0.01 | |
| liver_pheno | 0.00 | 0.02 | 0.02 | |
| liverdata | 1.20 | 0.07 | 1.28 | |
| mostSimilarTwo | 0 | 0 | 0 | |
| negativeIntensitiesCorrection | 0.57 | 0.03 | 0.59 | |
| phenoDataFrame | 0.07 | 0.02 | 0.09 | |
| pheno_urine | 0.00 | 0.01 | 0.02 | |
| preProcRepeatedPeakData | 1.11 | 0.16 | 1.26 | |
| proteomicsExprsData | 0.16 | 0.00 | 0.16 | |
| proteomicspData | 0.08 | 0.01 | 0.09 | |
| replicateCorrelations | 4.14 | 0.24 | 4.38 | |
| sampleClusteredData | 0.39 | 0.03 | 0.43 | |
| sampleSize | 50.47 | 2.67 | 53.15 | |
| sampleSize3DscatterPlots | 0.03 | 0.00 | 0.03 | |
| sampleSizeContourPlots | 0.04 | 0.00 | 0.03 | |
| sampleSizeParameters | 24.75 | 1.24 | 26.00 | |
| sample_technicalVariance | 5.95 | 0.40 | 6.36 | |
| spectrumFilter | 1.03 | 0.08 | 1.11 | |
| ztwo | 0 | 0 | 0 | |