| Back to Build/check report for BioC 3.23: simplified long | 
 | 
This page was generated on 2025-10-31 08:34 -0400 (Fri, 31 Oct 2025).
| Hostname | OS | Arch (*) | R version | Installed pkgs | 
|---|---|---|---|---|
| nebbiolo1 | Linux (Ubuntu 24.04.3 LTS) | x86_64 | R Under development (unstable) (2025-10-20 r88955) -- "Unsuffered Consequences" | 4428 | 
| Click on any hostname to see more info about the system (e.g. compilers) (*) as reported by 'uname -p', except on Windows and Mac OS X | ||||
| Package 285/2321 | Hostname | OS / Arch | INSTALL | BUILD | CHECK | BUILD BIN | ||||||||
| cbaf 1.33.0  (landing page) Arman Shahrisa 
 | nebbiolo1 | Linux (Ubuntu 24.04.3 LTS) / x86_64 | ERROR | ERROR | skipped | |||||||||
| To the developers/maintainers of the cbaf package: - Allow up to 24 hours (and sometimes 48 hours) for your latest push to git@git.bioconductor.org:packages/cbaf.git to reflect on this report. See Troubleshooting Build Report for more information. - Use the following Renviron settings to reproduce errors and warnings. - If 'R CMD check' started to fail recently on the Linux builder(s) over a missing dependency, add the missing dependency to 'Suggests:' in your DESCRIPTION file. See Renviron.bioc for more information. | 
| Package: cbaf | 
| Version: 1.33.0 | 
| Command: /home/biocbuild/bbs-3.23-bioc/R/bin/R CMD INSTALL cbaf | 
| StartedAt: 2025-10-30 15:41:11 -0400 (Thu, 30 Oct 2025) | 
| EndedAt: 2025-10-30 15:41:24 -0400 (Thu, 30 Oct 2025) | 
| EllapsedTime: 13.1 seconds | 
| RetCode: 1 | 
| Status: ERROR | 
############################################################################## ############################################################################## ### ### Running command: ### ### /home/biocbuild/bbs-3.23-bioc/R/bin/R CMD INSTALL cbaf ### ############################################################################## ############################################################################## * installing to library ‘/home/biocbuild/bbs-3.23-bioc/R/site-library’ * installing *source* package ‘cbaf’ ... ** this is package ‘cbaf’ version ‘1.33.0’ ** using staged installation ** R ** inst ** byte-compile and prepare package for lazy loading Error: object ‘microRNAs’ is not exported by 'namespace:GenomicFeatures' Execution halted ERROR: lazy loading failed for package ‘cbaf’ * removing ‘/home/biocbuild/bbs-3.23-bioc/R/site-library/cbaf’ * restoring previous ‘/home/biocbuild/bbs-3.23-bioc/R/site-library/cbaf’