Back to Multiple platform build/check report for BioC 3.22:   simplified   long
AB[C]DEFGHIJKLMNOPQRSTUVWXYZ

This page was generated on 2025-10-25 12:04 -0400 (Sat, 25 Oct 2025).

HostnameOSArch (*)R versionInstalled pkgs
nebbiolo2Linux (Ubuntu 24.04.3 LTS)x86_644.5.1 Patched (2025-08-23 r88802) -- "Great Square Root" 4901
lconwaymacOS 12.7.6 Montereyx86_644.5.1 Patched (2025-09-10 r88807) -- "Great Square Root" 4691
kjohnson3macOS 13.7.7 Venturaarm644.5.1 Patched (2025-09-10 r88807) -- "Great Square Root" 4637
taishanLinux (openEuler 24.03 LTS)aarch644.5.0 (2025-04-11) -- "How About a Twenty-Six" 4658
Click on any hostname to see more info about the system (e.g. compilers)      (*) as reported by 'uname -p', except on Windows and Mac OS X

Package 280/2361HostnameOS / ArchINSTALLBUILDCHECKBUILD BIN
cardelino 1.11.0  (landing page)
Davis McCarthy
Snapshot Date: 2025-10-24 13:45 -0400 (Fri, 24 Oct 2025)
git_url: https://git.bioconductor.org/packages/cardelino
git_branch: devel
git_last_commit: cabff04
git_last_commit_date: 2025-04-15 12:58:19 -0400 (Tue, 15 Apr 2025)
nebbiolo2Linux (Ubuntu 24.04.3 LTS) / x86_64  OK    OK    OK  UNNEEDED, same version is already published
lconwaymacOS 12.7.6 Monterey / x86_64  OK    OK    OK    OK  UNNEEDED, same version is already published
kjohnson3macOS 13.7.7 Ventura / arm64  OK    OK    OK    OK  UNNEEDED, same version is already published
taishanLinux (openEuler 24.03 LTS) / aarch64  OK    NA    NA  


CHECK results for cardelino on lconway

To the developers/maintainers of the cardelino package:
- Allow up to 24 hours (and sometimes 48 hours) for your latest push to git@git.bioconductor.org:packages/cardelino.git to reflect on this report. See Troubleshooting Build Report for more information.
- Use the following Renviron settings to reproduce errors and warnings.
- If 'R CMD check' started to fail recently on the Linux builder(s) over a missing dependency, add the missing dependency to 'Suggests:' in your DESCRIPTION file. See Renviron.bioc for more information.

raw results


Summary

Package: cardelino
Version: 1.11.0
Command: /Library/Frameworks/R.framework/Resources/bin/R CMD check --install=check:cardelino.install-out.txt --library=/Library/Frameworks/R.framework/Resources/library --no-vignettes --timings cardelino_1.11.0.tar.gz
StartedAt: 2025-10-24 20:00:14 -0400 (Fri, 24 Oct 2025)
EndedAt: 2025-10-24 20:08:02 -0400 (Fri, 24 Oct 2025)
EllapsedTime: 467.8 seconds
RetCode: 0
Status:   OK  
CheckDir: cardelino.Rcheck
Warnings: 0

Command output

##############################################################################
##############################################################################
###
### Running command:
###
###   /Library/Frameworks/R.framework/Resources/bin/R CMD check --install=check:cardelino.install-out.txt --library=/Library/Frameworks/R.framework/Resources/library --no-vignettes --timings cardelino_1.11.0.tar.gz
###
##############################################################################
##############################################################################


* using log directory ‘/Users/biocbuild/bbs-3.22-bioc/meat/cardelino.Rcheck’
* using R version 4.5.1 Patched (2025-09-10 r88807)
* using platform: x86_64-apple-darwin20
* R was compiled by
    Apple clang version 14.0.0 (clang-1400.0.29.202)
    GNU Fortran (GCC) 14.2.0
* running under: macOS Monterey 12.7.6
* using session charset: UTF-8
* using option ‘--no-vignettes’
* checking for file ‘cardelino/DESCRIPTION’ ... OK
* checking extension type ... Package
* this is package ‘cardelino’ version ‘1.11.0’
* package encoding: UTF-8
* checking package namespace information ... OK
* checking package dependencies ... OK
* checking if this is a source package ... OK
* checking if there is a namespace ... OK
* checking for hidden files and directories ... OK
* checking for portable file names ... OK
* checking for sufficient/correct file permissions ... OK
* checking whether package ‘cardelino’ can be installed ... OK
* checking installed package size ... OK
* checking package directory ... OK
* checking ‘build’ directory ... OK
* checking DESCRIPTION meta-information ... OK
* checking top-level files ... OK
* checking for left-over files ... OK
* checking index information ... OK
* checking package subdirectories ... OK
* checking code files for non-ASCII characters ... OK
* checking R files for syntax errors ... OK
* checking whether the package can be loaded ... OK
* checking whether the package can be loaded with stated dependencies ... OK
* checking whether the package can be unloaded cleanly ... OK
* checking whether the namespace can be loaded with stated dependencies ... OK
* checking whether the namespace can be unloaded cleanly ... OK
* checking dependencies in R code ... OK
* checking S3 generic/method consistency ... OK
* checking replacement functions ... OK
* checking foreign function calls ... OK
* checking R code for possible problems ... OK
* checking Rd files ... OK
* checking Rd metadata ... OK
* checking Rd cross-references ... NOTE
Found the following Rd file(s) with Rd \link{} targets missing package
anchors:
  plot_tree.Rd: ggtree
  vc_heatmap.Rd: pheatmap
Please provide package anchors for all Rd \link{} targets not in the
package itself and the base packages.
* checking for missing documentation entries ... OK
* checking for code/documentation mismatches ... OK
* checking Rd \usage sections ... OK
* checking Rd contents ... OK
* checking for unstated dependencies in examples ... OK
* checking contents of ‘data’ directory ... OK
* checking data for non-ASCII characters ... OK
* checking data for ASCII and uncompressed saves ... OK
* checking files in ‘vignettes’ ... OK
* checking examples ... OK
Examples with CPU (user + system) or elapsed time > 5s
                   user system elapsed
vc_heatmap       60.343  9.337  70.134
get_snp_matrices 15.469  0.844  16.416
clone_id         12.216  1.221  13.544
* checking for unstated dependencies in ‘tests’ ... OK
* checking tests ...
  Running ‘testthat.R’
 OK
* checking for unstated dependencies in vignettes ... OK
* checking package vignettes ... OK
* checking running R code from vignettes ... SKIPPED
* checking re-building of vignette outputs ... SKIPPED
* checking PDF version of manual ... OK
* DONE

Status: 1 NOTE
See
  ‘/Users/biocbuild/bbs-3.22-bioc/meat/cardelino.Rcheck/00check.log’
for details.


Installation output

cardelino.Rcheck/00install.out

##############################################################################
##############################################################################
###
### Running command:
###
###   /Library/Frameworks/R.framework/Resources/bin/R CMD INSTALL cardelino
###
##############################################################################
##############################################################################


* installing to library ‘/Library/Frameworks/R.framework/Versions/4.5-x86_64/Resources/library’
* installing *source* package ‘cardelino’ ...
** this is package ‘cardelino’ version ‘1.11.0’
** using staged installation
** R
** data
** inst
** byte-compile and prepare package for lazy loading
** help
*** installing help indices
** building package indices
** installing vignettes
** testing if installed package can be loaded from temporary location
** testing if installed package can be loaded from final location
** testing if installed package keeps a record of temporary installation path
* DONE (cardelino)

Tests output

cardelino.Rcheck/tests/testthat.Rout


R version 4.5.1 Patched (2025-09-10 r88807) -- "Great Square Root"
Copyright (C) 2025 The R Foundation for Statistical Computing
Platform: x86_64-apple-darwin20

R is free software and comes with ABSOLUTELY NO WARRANTY.
You are welcome to redistribute it under certain conditions.
Type 'license()' or 'licence()' for distribution details.

R is a collaborative project with many contributors.
Type 'contributors()' for more information and
'citation()' on how to cite R or R packages in publications.

Type 'demo()' for some demos, 'help()' for on-line help, or
'help.start()' for an HTML browser interface to help.
Type 'q()' to quit R.

> Sys.setenv("R_TESTS" = "")
> library(testthat)
> library(cardelino)
> 
> test_check("cardelino")
[1] "Total iterations: 11"
98% converged.
97.5% converged.
97.4% converged.
99.4% converged.
[1] "Converged in 500 iterations."
DIC: 2876.85 D_mean: 2482.97 D_post: 2386.65 logLik_var: 122.55 
     [,1] [,2] [,3] [,4]
[1,]    1    2    3    4
[1] "76 samples have multiple labels."
Scanning file to determine attributes.
File attributes:
  meta lines: 37
  header_line: 38
  variant count: 112
  column count: 86

Meta line 37 read in.
All meta lines processed.
gt matrix initialized.
Character matrix gt created.
  Character matrix gt rows: 112
  Character matrix gt cols: 86
  skip: 0
  nrows: 112
  row_num: 0

Processed variant: 112
All variants processed
[1] "112 out of 112 SNPs passed."
Scanning file to determine attributes.
File attributes:
  meta lines: 37
  header_line: 38
  variant count: 112
  column count: 86

Meta line 37 read in.
All meta lines processed.
gt matrix initialized.
Character matrix gt created.
  Character matrix gt rows: 112
  Character matrix gt cols: 86
  skip: 0
  nrows: 112
  row_num: 0

Processed variant: 112
All variants processed
[ FAIL 0 | WARN 2 | SKIP 0 | PASS 20 ]

[ FAIL 0 | WARN 2 | SKIP 0 | PASS 20 ]
> 
> # check test coverage with covr in Rstudio
> # covr::package_coverage()
> 
> proc.time()
   user  system elapsed 
 26.077   1.690  28.110 

Example timings

cardelino.Rcheck/cardelino-Ex.timings

nameusersystemelapsed
assign_cells_to_clones0.0740.0060.081
binaryPRC0.0080.0030.010
binaryROC0.0060.0020.007
clone_id12.216 1.22113.544
colMatch0.0010.0000.001
get_snp_matrices15.469 0.84416.416
get_tree0.4830.0110.502
heat_matrix1.1490.0391.197
load_GT_vcf0.2700.0510.325
load_cellSNP_vcf0.0190.0020.021
mixBinom0.010.000.01
mtx_to_df0.0010.0010.002
plot_config_diffs0.2610.0020.265
plot_tree0.4680.0040.474
predMixBinom0.0120.0000.013
prob_heatmap0.1450.0030.149
pub.theme0.1570.0040.161
read_vcf2.7930.2463.061
rowArgmax0.0010.0000.000
rowMax0.0010.0000.001
sample_seq_depth0.0110.0020.013
sample_tree_SNV0.0040.0010.005
sim_read_count1.3170.0521.374
vc_heatmap60.343 9.33770.134