Back to Build/check report for BioC 3.23:   simplified   long
[A]BCDEFGHIJKLMNOPQRSTUVWXYZ

This page was generated on 2025-10-31 08:34 -0400 (Fri, 31 Oct 2025).

HostnameOSArch (*)R versionInstalled pkgs
nebbiolo1Linux (Ubuntu 24.04.3 LTS)x86_64R Under development (unstable) (2025-10-20 r88955) -- "Unsuffered Consequences" 4428
Click on any hostname to see more info about the system (e.g. compilers)      (*) as reported by 'uname -p', except on Windows and Mac OS X

Package 92/2321HostnameOS / ArchINSTALLBUILDCHECKBUILD BIN
apComplex 2.77.0  (landing page)
Denise Scholtens
Snapshot Date: 2025-10-30 13:40 -0400 (Thu, 30 Oct 2025)
git_url: https://git.bioconductor.org/packages/apComplex
git_branch: devel
git_last_commit: c10f18a
git_last_commit_date: 2025-10-29 09:55:56 -0400 (Wed, 29 Oct 2025)
nebbiolo1Linux (Ubuntu 24.04.3 LTS) / x86_64  ERROR    ERROR  skipped


BUILD results for apComplex on nebbiolo1

To the developers/maintainers of the apComplex package:
- Allow up to 24 hours (and sometimes 48 hours) for your latest push to git@git.bioconductor.org:packages/apComplex.git to reflect on this report. See Troubleshooting Build Report for more information.
- Use the following Renviron settings to reproduce errors and warnings.
- If 'R CMD check' started to fail recently on the Linux builder(s) over a missing dependency, add the missing dependency to 'Suggests:' in your DESCRIPTION file. See Renviron.bioc for more information.

raw results


Summary

Package: apComplex
Version: 2.77.0
Command: /home/biocbuild/bbs-3.23-bioc/R/bin/R CMD build --keep-empty-dirs --no-resave-data apComplex
StartedAt: 2025-10-30 16:02:56 -0400 (Thu, 30 Oct 2025)
EndedAt: 2025-10-30 16:02:57 -0400 (Thu, 30 Oct 2025)
EllapsedTime: 1.0 seconds
RetCode: 1
Status:   ERROR  
PackageFile: None
PackageFileSize: NA

Command output

##############################################################################
##############################################################################
###
### Running command:
###
###   /home/biocbuild/bbs-3.23-bioc/R/bin/R CMD build --keep-empty-dirs --no-resave-data apComplex
###
##############################################################################
##############################################################################


* checking for file ‘apComplex/DESCRIPTION’ ... OK
* preparing ‘apComplex’:
* checking DESCRIPTION meta-information ... OK
* installing the package (it is needed to build vignettes)
      -----------------------------------
ERROR: dependency ‘org.Sc.sgd.db’ is not available for package ‘apComplex’
Perhaps try a variation of:
install.packages('org.Sc.sgd.db')
* removing ‘/tmp/RtmpdnOlxA/Rinste749d6b410f9f/apComplex’
      -----------------------------------
ERROR: package installation failed