| Back to Multiple platform build/check report for BioC 3.22: simplified long | 
 | 
This page was generated on 2025-10-30 12:35 -0400 (Thu, 30 Oct 2025).
| Hostname | OS | Arch (*) | R version | Installed pkgs | 
|---|---|---|---|---|
| nebbiolo2 | Linux (Ubuntu 24.04.3 LTS) | x86_64 | 4.5.1 Patched (2025-08-23 r88802) -- "Great Square Root" | 4901 | 
| lconway | macOS 12.7.6 Monterey | x86_64 | 4.5.1 Patched (2025-09-10 r88807) -- "Great Square Root" | 4691 | 
| kjohnson3 | macOS 13.7.7 Ventura | arm64 | 4.5.1 Patched (2025-09-10 r88807) -- "Great Square Root" | 4637 | 
| Click on any hostname to see more info about the system (e.g. compilers) (*) as reported by 'uname -p', except on Windows and Mac OS X | ||||
| Package 39/2361 | Hostname | OS / Arch | INSTALL | BUILD | CHECK | BUILD BIN | ||||||||
| airpart 1.18.0  (landing page) Wancen Mu 
 | nebbiolo2 | Linux (Ubuntu 24.04.3 LTS) / x86_64 | OK | OK | OK |  | ||||||||
| lconway | macOS 12.7.6 Monterey / x86_64 | OK | OK | OK | OK |  | ||||||||
| kjohnson3 | macOS 13.7.7 Ventura / arm64 | OK | OK | OK | OK |  | ||||||||
| To the developers/maintainers of the airpart package: - Allow up to 24 hours (and sometimes 48 hours) for your latest push to git@git.bioconductor.org:packages/airpart.git to reflect on this report. See Troubleshooting Build Report for more information. - Use the following Renviron settings to reproduce errors and warnings. - If 'R CMD check' started to fail recently on the Linux builder(s) over a missing dependency, add the missing dependency to 'Suggests:' in your DESCRIPTION file. See Renviron.bioc for more information. | 
| Package: airpart | 
| Version: 1.18.0 | 
| Command: /Library/Frameworks/R.framework/Resources/bin/R CMD check --install=check:airpart.install-out.txt --library=/Library/Frameworks/R.framework/Resources/library --no-vignettes --timings airpart_1.18.0.tar.gz | 
| StartedAt: 2025-10-30 02:04:34 -0400 (Thu, 30 Oct 2025) | 
| EndedAt: 2025-10-30 02:09:49 -0400 (Thu, 30 Oct 2025) | 
| EllapsedTime: 315.0 seconds | 
| RetCode: 0 | 
| Status: OK | 
| CheckDir: airpart.Rcheck | 
| Warnings: 0 | 
##############################################################################
##############################################################################
###
### Running command:
###
###   /Library/Frameworks/R.framework/Resources/bin/R CMD check --install=check:airpart.install-out.txt --library=/Library/Frameworks/R.framework/Resources/library --no-vignettes --timings airpart_1.18.0.tar.gz
###
##############################################################################
##############################################################################
* using log directory ‘/Users/biocbuild/bbs-3.22-bioc/meat/airpart.Rcheck’
* using R version 4.5.1 Patched (2025-09-10 r88807)
* using platform: x86_64-apple-darwin20
* R was compiled by
    Apple clang version 14.0.0 (clang-1400.0.29.202)
    GNU Fortran (GCC) 14.2.0
* running under: macOS Monterey 12.7.6
* using session charset: UTF-8
* using option ‘--no-vignettes’
* checking for file ‘airpart/DESCRIPTION’ ... OK
* this is package ‘airpart’ version ‘1.18.0’
* package encoding: UTF-8
* checking package namespace information ... OK
* checking package dependencies ... OK
* checking if this is a source package ... OK
* checking if there is a namespace ... OK
* checking for hidden files and directories ... OK
* checking for portable file names ... OK
* checking for sufficient/correct file permissions ... OK
* checking whether package ‘airpart’ can be installed ... OK
* checking installed package size ... OK
* checking package directory ... OK
* checking ‘build’ directory ... OK
* checking DESCRIPTION meta-information ... OK
* checking top-level files ... OK
* checking for left-over files ... OK
* checking index information ... OK
* checking package subdirectories ... OK
* checking code files for non-ASCII characters ... OK
* checking R files for syntax errors ... OK
* checking whether the package can be loaded ... OK
* checking whether the package can be loaded with stated dependencies ... OK
* checking whether the package can be unloaded cleanly ... OK
* checking whether the namespace can be loaded with stated dependencies ... OK
* checking whether the namespace can be unloaded cleanly ... OK
* checking dependencies in R code ... OK
* checking S3 generic/method consistency ... OK
* checking replacement functions ... OK
* checking foreign function calls ... OK
* checking R code for possible problems ... OK
* checking Rd files ... NOTE
checkRd: (-1) cellQC.Rd:44: Lost braces in \itemize; \value handles \item{}{} directly
checkRd: (-1) cellQC.Rd:45: Lost braces in \itemize; \value handles \item{}{} directly
checkRd: (-1) cellQC.Rd:46: Lost braces in \itemize; \value handles \item{}{} directly
checkRd: (-1) cellQC.Rd:47-49: Lost braces in \itemize; \value handles \item{}{} directly
checkRd: (-1) cellQC.Rd:50-52: Lost braces in \itemize; \value handles \item{}{} directly
checkRd: (-1) cellQC.Rd:53-55: Lost braces in \itemize; \value handles \item{}{} directly
checkRd: (-1) featureQC.Rd:29-30: Lost braces in \itemize; \value handles \item{}{} directly
checkRd: (-1) featureQC.Rd:31: Lost braces in \itemize; \value handles \item{}{} directly
checkRd: (-1) featureQC.Rd:32-33: Lost braces in \itemize; \value handles \item{}{} directly
checkRd: (-1) featureQC.Rd:34: Lost braces in \itemize; \value handles \item{}{} directly
checkRd: (-1) makeSimulatedData.Rd:43: Lost braces in \itemize; \value handles \item{}{} directly
checkRd: (-1) makeSimulatedData.Rd:44: Lost braces in \itemize; \value handles \item{}{} directly
checkRd: (-1) makeSimulatedData.Rd:45-46: Lost braces in \itemize; \value handles \item{}{} directly
checkRd: (-1) summaryAllelicRatio.Rd:19: Lost braces in \itemize; \value handles \item{}{} directly
checkRd: (-1) summaryAllelicRatio.Rd:20: Lost braces in \itemize; \value handles \item{}{} directly
checkRd: (-1) summaryAllelicRatio.Rd:21: Lost braces in \itemize; \value handles \item{}{} directly
* checking Rd metadata ... OK
* checking Rd cross-references ... OK
* checking for missing documentation entries ... OK
* checking for code/documentation mismatches ... OK
* checking Rd \usage sections ... OK
* checking Rd contents ... OK
* checking for unstated dependencies in examples ... OK
* checking files in ‘vignettes’ ... OK
* checking examples ... OK
Examples with CPU (user + system) or elapsed time > 5s
               user system elapsed
consensusPart 7.481  1.859   6.330
makeStep      8.052  0.154   8.223
fusedLasso    6.714  0.444   7.358
allelicRatio  6.870  0.266   7.152
makeForest    5.846  0.303   6.306
makeHeatmap   4.973  0.052   5.036
* checking for unstated dependencies in ‘tests’ ... OK
* checking tests ...
  Running ‘testthat.R’
 OK
* checking for unstated dependencies in vignettes ... OK
* checking package vignettes ... OK
* checking running R code from vignettes ... SKIPPED
* checking re-building of vignette outputs ... SKIPPED
* checking PDF version of manual ... OK
* DONE
Status: 1 NOTE
See
  ‘/Users/biocbuild/bbs-3.22-bioc/meat/airpart.Rcheck/00check.log’
for details.
airpart.Rcheck/00install.out
############################################################################## ############################################################################## ### ### Running command: ### ### /Library/Frameworks/R.framework/Resources/bin/R CMD INSTALL airpart ### ############################################################################## ############################################################################## * installing to library ‘/Library/Frameworks/R.framework/Versions/4.5-x86_64/Resources/library’ * installing *source* package ‘airpart’ ... ** this is package ‘airpart’ version ‘1.18.0’ ** using staged installation ** R ** inst ** byte-compile and prepare package for lazy loading ** help *** installing help indices ** building package indices ** installing vignettes ** testing if installed package can be loaded from temporary location ** testing if installed package can be loaded from final location ** testing if installed package keeps a record of temporary installation path * DONE (airpart)
airpart.Rcheck/tests/testthat.Rout
R version 4.5.1 Patched (2025-09-10 r88807) -- "Great Square Root"
Copyright (C) 2025 The R Foundation for Statistical Computing
Platform: x86_64-apple-darwin20
R is free software and comes with ABSOLUTELY NO WARRANTY.
You are welcome to redistribute it under certain conditions.
Type 'license()' or 'licence()' for distribution details.
R is a collaborative project with many contributors.
Type 'contributors()' for more information and
'citation()' on how to cite R or R packages in publications.
Type 'demo()' for some demos, 'help()' for on-line help, or
'help.start()' for an HTML browser interface to help.
Type 'q()' to quit R.
> library(testthat)
> library(airpart)
> 
> test_check("airpart")
Loading required package: stats4
Loading required package: BiocGenerics
Loading required package: generics
Attaching package: 'generics'
The following objects are masked from 'package:base':
    as.difftime, as.factor, as.ordered, intersect, is.element, setdiff,
    setequal, union
Attaching package: 'BiocGenerics'
The following objects are masked from 'package:stats':
    IQR, mad, sd, var, xtabs
The following objects are masked from 'package:base':
    Filter, Find, Map, Position, Reduce, anyDuplicated, aperm, append,
    as.data.frame, basename, cbind, colnames, dirname, do.call,
    duplicated, eval, evalq, get, grep, grepl, is.unsorted, lapply,
    mapply, match, mget, order, paste, pmax, pmax.int, pmin, pmin.int,
    rank, rbind, rownames, sapply, saveRDS, table, tapply, unique,
    unsplit, which.max, which.min
Attaching package: 'S4Vectors'
The following object is masked from 'package:utils':
    findMatches
The following objects are masked from 'package:base':
    I, expand.grid, unname
model-based optimal number of clusters: 3 
model-based optimal number of clusters: 3 
model-based optimal number of clusters: 3 
model-based optimal number of clusters: 3 
[ FAIL 0 | WARN 30 | SKIP 0 | PASS 13 ]
[ FAIL 0 | WARN 30 | SKIP 0 | PASS 13 ]
> 
> proc.time()
   user  system elapsed 
 23.540   1.242  24.922 
airpart.Rcheck/airpart-Ex.timings
| name | user | system | elapsed | |
| allelicRatio | 6.870 | 0.266 | 7.152 | |
| cellQC | 0.410 | 0.015 | 0.426 | |
| consensusPart | 7.481 | 1.859 | 6.330 | |
| estDisp | 1.693 | 0.100 | 1.798 | |
| extractResult | 3.842 | 0.179 | 4.054 | |
| featureQC | 1.082 | 0.029 | 1.111 | |
| fusedLasso | 6.714 | 0.444 | 7.358 | |
| geneCluster | 0.533 | 0.004 | 0.538 | |
| makeForest | 5.846 | 0.303 | 6.306 | |
| makeHeatmap | 4.973 | 0.052 | 5.036 | |
| makeOffByOneAdjMat | 0.060 | 0.001 | 0.061 | |
| makeSimulatedData | 0.255 | 0.014 | 0.270 | |
| makeStep | 8.052 | 0.154 | 8.223 | |
| makeViolin | 4.230 | 0.106 | 4.350 | |
| preprocess | 0.463 | 0.022 | 0.487 | |
| summaryAllelicRatio | 0.710 | 0.008 | 0.720 | |
| wilcoxExt | 1.558 | 0.028 | 1.590 | |