| Back to Build/check report for BioC 3.23: simplified long |
|
This page was generated on 2025-10-31 08:34 -0400 (Fri, 31 Oct 2025).
| Hostname | OS | Arch (*) | R version | Installed pkgs |
|---|---|---|---|---|
| nebbiolo1 | Linux (Ubuntu 24.04.3 LTS) | x86_64 | R Under development (unstable) (2025-10-20 r88955) -- "Unsuffered Consequences" | 4428 |
| Click on any hostname to see more info about the system (e.g. compilers) (*) as reported by 'uname -p', except on Windows and Mac OS X | ||||
| Package 26/2321 | Hostname | OS / Arch | INSTALL | BUILD | CHECK | BUILD BIN | ||||||||
| affyContam 1.69.0 (landing page) V. Carey
| nebbiolo1 | Linux (Ubuntu 24.04.3 LTS) / x86_64 | OK | ERROR | skipped | |||||||||
|
To the developers/maintainers of the affyContam package: - Allow up to 24 hours (and sometimes 48 hours) for your latest push to git@git.bioconductor.org:packages/affyContam.git to reflect on this report. See Troubleshooting Build Report for more information. - Use the following Renviron settings to reproduce errors and warnings. - If 'R CMD check' started to fail recently on the Linux builder(s) over a missing dependency, add the missing dependency to 'Suggests:' in your DESCRIPTION file. See Renviron.bioc for more information. |
| Package: affyContam |
| Version: 1.69.0 |
| Command: /home/biocbuild/bbs-3.23-bioc/R/bin/R CMD INSTALL affyContam |
| StartedAt: 2025-10-30 15:52:45 -0400 (Thu, 30 Oct 2025) |
| EndedAt: 2025-10-30 15:52:48 -0400 (Thu, 30 Oct 2025) |
| EllapsedTime: 3.2 seconds |
| RetCode: 0 |
| Status: OK |
##############################################################################
##############################################################################
###
### Running command:
###
### /home/biocbuild/bbs-3.23-bioc/R/bin/R CMD INSTALL affyContam
###
##############################################################################
##############################################################################
* installing to library ‘/home/biocbuild/bbs-3.23-bioc/R/site-library’
* installing *source* package ‘affyContam’ ...
** this is package ‘affyContam’ version ‘1.69.0’
** using staged installation
** R
** byte-compile and prepare package for lazy loading
Package LibPath Item
[1,] "affydata" "/home/biocbuild/bbs-3.23-bioc/R/site-library" "Dilution"
Title
[1,] "AffyBatch instance Dilution"
** help
*** installing help indices
** building package indices
** installing vignettes
** testing if installed package can be loaded from temporary location
Package LibPath Item
[1,] "affydata" "/home/biocbuild/bbs-3.23-bioc/R/site-library" "Dilution"
Title
[1,] "AffyBatch instance Dilution"
** testing if installed package can be loaded from final location
Package LibPath Item
[1,] "affydata" "/home/biocbuild/bbs-3.23-bioc/R/site-library" "Dilution"
Title
[1,] "AffyBatch instance Dilution"
** testing if installed package keeps a record of temporary installation path
* DONE (affyContam)