Back to Build/check report for BioC 3.23:   simplified   long
[A]BCDEFGHIJKLMNOPQRSTUVWXYZ

This page was generated on 2025-10-31 08:33 -0400 (Fri, 31 Oct 2025).

HostnameOSArch (*)R versionInstalled pkgs
nebbiolo1Linux (Ubuntu 24.04.3 LTS)x86_64R Under development (unstable) (2025-10-20 r88955) -- "Unsuffered Consequences" 4428
Click on any hostname to see more info about the system (e.g. compilers)      (*) as reported by 'uname -p', except on Windows and Mac OS X

All results for package affy


To the developers/maintainers of the affy package:
- Allow up to 24 hours (and sometimes 48 hours) for your latest push to git@git.bioconductor.org:packages/affy.git to reflect on this report. See Troubleshooting Build Report for more information.
- Use the following Renviron settings to reproduce errors and warnings.
- If 'R CMD check' started to fail recently on the Linux builder(s) over a missing dependency, add the missing dependency to 'Suggests:' in your DESCRIPTION file. See Renviron.bioc for more information.

raw results

Package 24/2321HostnameOS / ArchINSTALLBUILDCHECKBUILD BIN
affy 1.89.0  (landing page)
Robert D. Shear
Snapshot Date: 2025-10-30 13:40 -0400 (Thu, 30 Oct 2025)
git_url: https://git.bioconductor.org/packages/affy
git_branch: devel
git_last_commit: b2e5a66
git_last_commit_date: 2025-10-29 09:42:08 -0400 (Wed, 29 Oct 2025)
nebbiolo1Linux (Ubuntu 24.04.3 LTS) / x86_64  OK    ERROR  skipped



Results for Bioconductor software packages that depend directly on package affy

QUICK STATSOS / ArchINSTALLBUILDCHECKBUILD BIN
nebbiolo1Linux (Ubuntu 24.04.3 LTS) / x86_64
01036
02521
05313
Package 1/46HostnameOS / ArchINSTALLBUILDCHECKBUILD BIN
affyContam 1.69.0  (landing page)
V. Carey
git_last_commit: 87d41e7
git_last_commit_date: 2025-10-29 10:01:45 -0400
nebbiolo1Linux (Ubuntu 24.04.3 LTS) / x86_64  OK    ERROR  skipped
Package 2/46HostnameOS / ArchINSTALLBUILDCHECKBUILD BIN
affycoretools 1.83.0  (landing page)
James W. MacDonald
git_last_commit: c6a0b37
git_last_commit_date: 2025-10-29 09:57:11 -0400
nebbiolo1Linux (Ubuntu 24.04.3 LTS) / x86_64  ERROR    ERROR  skipped
Package 3/46HostnameOS / ArchINSTALLBUILDCHECKBUILD BIN
affyILM 1.63.0  (landing page)
Myriam Kroll and Fabrice Berger
git_last_commit: bd4e9e3
git_last_commit_date: 2025-10-29 10:05:11 -0400
nebbiolo1Linux (Ubuntu 24.04.3 LTS) / x86_64  OK    ERROR  skipped
Package 4/46HostnameOS / ArchINSTALLBUILDCHECKBUILD BIN
affylmGUI 1.85.0  (landing page)
Gordon Smyth
git_last_commit: 6df4f72
git_last_commit_date: 2025-10-29 09:54:46 -0400
nebbiolo1Linux (Ubuntu 24.04.3 LTS) / x86_64  OK    OK    OK  NO, package depends on 'affy' which is not available
Package 5/46HostnameOS / ArchINSTALLBUILDCHECKBUILD BIN
affyPLM 1.87.0  (landing page)
Ben Bolstad
git_last_commit: 53a03e9
git_last_commit_date: 2025-10-29 09:53:58 -0400
nebbiolo1Linux (Ubuntu 24.04.3 LTS) / x86_64  OK    ERROR  skipped
Package 6/46HostnameOS / ArchINSTALLBUILDCHECKBUILD BIN
AffyRNADegradation 1.57.0  (landing page)
Mario Fasold
git_last_commit: a547cf1
git_last_commit_date: 2025-10-29 10:09:52 -0400
nebbiolo1Linux (Ubuntu 24.04.3 LTS) / x86_64  OK    ERROR  skipped
Package 7/46HostnameOS / ArchINSTALLBUILDCHECKBUILD BIN
AgiMicroRna 2.61.0  (landing page)
Pedro Lopez-Romero
git_last_commit: 75a71a9
git_last_commit_date: 2025-10-29 10:03:34 -0400
nebbiolo1Linux (Ubuntu 24.04.3 LTS) / x86_64  ERROR    ERROR  skipped
Package 8/46HostnameOS / ArchINSTALLBUILDCHECKBUILD BIN
altcdfenvs 2.73.0  (landing page)
Laurent Gautier
git_last_commit: 2798b4f
git_last_commit_date: 2025-10-29 09:54:38 -0400
nebbiolo1Linux (Ubuntu 24.04.3 LTS) / x86_64  OK    ERROR  skipped
Package 9/46HostnameOS / ArchINSTALLBUILDCHECKBUILD BIN
arrayMvout 1.69.0  (landing page)
V. Carey
git_last_commit: 285aeb3
git_last_commit_date: 2025-10-29 10:01:48 -0400
nebbiolo1Linux (Ubuntu 24.04.3 LTS) / x86_64  ERROR    ERROR  skipped
Package 10/46HostnameOS / ArchINSTALLBUILDCHECKBUILD BIN
arrayQualityMetrics 3.67.0  (landing page)
Mike Smith
git_last_commit: 39eac6d
git_last_commit_date: 2025-10-29 09:59:44 -0400
nebbiolo1Linux (Ubuntu 24.04.3 LTS) / x86_64  OK    ERROR  skipped
Package 11/46HostnameOS / ArchINSTALLBUILDCHECKBUILD BIN
bnem 1.19.0  (landing page)
Martin Pirkl
git_last_commit: c656bcb
git_last_commit_date: 2025-10-29 11:04:57 -0400
nebbiolo1Linux (Ubuntu 24.04.3 LTS) / x86_64  OK    OK    OK  NO, package depends on 'epiNEM' which is not available
Package 12/46HostnameOS / ArchINSTALLBUILDCHECKBUILD BIN
CAFE 1.47.0  (landing page)
Sander Bollen
git_last_commit: 6e8ab41
git_last_commit_date: 2025-10-29 10:18:22 -0400
nebbiolo1Linux (Ubuntu 24.04.3 LTS) / x86_64  ERROR    ERROR  skipped
Package 13/46HostnameOS / ArchINSTALLBUILDCHECKBUILD BIN
ChIPXpress 1.55.0  (landing page)
George Wu
git_last_commit: 7be5116
git_last_commit_date: 2025-10-29 10:11:43 -0400
nebbiolo1Linux (Ubuntu 24.04.3 LTS) / x86_64  OK    OK    ERROR  
Package 14/46HostnameOS / ArchINSTALLBUILDCHECKBUILD BIN
Cormotif 1.57.0  (landing page)
Yingying Wei
git_last_commit: 3b9844b
git_last_commit_date: 2025-10-29 10:08:07 -0400
nebbiolo1Linux (Ubuntu 24.04.3 LTS) / x86_64  OK    OK    OK  NO, package depends on 'affy' which is not available
Package 15/46HostnameOS / ArchINSTALLBUILDCHECKBUILD BIN
Doscheda 1.33.0  (landing page)
Bruno Contrino
git_last_commit: 3ce1c92
git_last_commit_date: 2025-10-29 10:40:19 -0400
nebbiolo1Linux (Ubuntu 24.04.3 LTS) / x86_64  OK    OK    OK  NO, package depends on 'vsn' which is not available
Package 16/46HostnameOS / ArchINSTALLBUILDCHECKBUILD BIN
DrugVsDisease 2.53.0  (landing page)
j. Saez-Rodriguez
git_last_commit: 6483099
git_last_commit_date: 2025-10-29 10:13:26 -0400
nebbiolo1Linux (Ubuntu 24.04.3 LTS) / x86_64  ERROR    ERROR  skipped
Package 17/46HostnameOS / ArchINSTALLBUILDCHECKBUILD BIN
ExiMiR 2.53.0  (landing page)
Sylvain Gubian
git_last_commit: 6d3b680
git_last_commit_date: 2025-10-29 10:06:33 -0400
nebbiolo1Linux (Ubuntu 24.04.3 LTS) / x86_64  OK    ERROR  skipped
Package 18/46HostnameOS / ArchINSTALLBUILDCHECKBUILD BIN
ffpe 1.55.0  (landing page)
Levi Waldron
git_last_commit: a3c8d6b
git_last_commit_date: 2025-10-29 10:10:29 -0400
nebbiolo1Linux (Ubuntu 24.04.3 LTS) / x86_64  ERROR    ERROR  skipped
Package 19/46HostnameOS / ArchINSTALLBUILDCHECKBUILD BIN
frma 1.63.0  (landing page)
Matthew N. McCall
git_last_commit: 06e0f3f
git_last_commit_date: 2025-10-29 10:04:08 -0400
nebbiolo1Linux (Ubuntu 24.04.3 LTS) / x86_64  OK    ERROR  skipped
Package 20/46HostnameOS / ArchINSTALLBUILDCHECKBUILD BIN
frmaTools 1.63.0  (landing page)
Matthew N. McCall
git_last_commit: c003f6b
git_last_commit_date: 2025-10-29 10:04:10 -0400
nebbiolo1Linux (Ubuntu 24.04.3 LTS) / x86_64  OK    ERROR  skipped
Package 21/46HostnameOS / ArchINSTALLBUILDCHECKBUILD BIN
gcrma 2.83.0  (landing page)
Z. Wu
git_last_commit: 2a7d479
git_last_commit_date: 2025-10-29 09:53:32 -0400
nebbiolo1Linux (Ubuntu 24.04.3 LTS) / x86_64  OK    OK    ERROR  
Package 22/46HostnameOS / ArchINSTALLBUILDCHECKBUILD BIN
GEOsubmission 1.63.0  (landing page)
Alexandre Kuhn
git_last_commit: 6bd8c28
git_last_commit_date: 2025-10-29 10:04:59 -0400
nebbiolo1Linux (Ubuntu 24.04.3 LTS) / x86_64  OK    OK    OK  NO, package depends on 'affy' which is not available
Package 23/46HostnameOS / ArchINSTALLBUILDCHECKBUILD BIN
HTqPCR 1.65.0  (landing page)
Matthew N. McCall
git_last_commit: dad1902
git_last_commit_date: 2025-10-29 11:35:16 -0400
nebbiolo1Linux (Ubuntu 24.04.3 LTS) / x86_64  OK    OK    OK  NO, package depends on 'affy' which is not available
Package 24/46HostnameOS / ArchINSTALLBUILDCHECKBUILD BIN
iCheck 1.41.0  (landing page)
Weiliang Qiu
git_last_commit: da591b3
git_last_commit_date: 2025-10-29 10:28:02 -0400
nebbiolo1Linux (Ubuntu 24.04.3 LTS) / x86_64  ERROR    ERROR  skipped
Package 25/46HostnameOS / ArchINSTALLBUILDCHECKBUILD BIN
lumi 2.63.0  (landing page)
Lei Huang
git_last_commit: 692966d
git_last_commit_date: 2025-10-29 09:58:49 -0400
nebbiolo1Linux (Ubuntu 24.04.3 LTS) / x86_64  ERROR    OK    ERROR  
Package 26/46HostnameOS / ArchINSTALLBUILDCHECKBUILD BIN
makecdfenv 1.87.0  (landing page)
James W. MacDonald
git_last_commit: 7eb6d83
git_last_commit_date: 2025-10-29 09:42:16 -0400
nebbiolo1Linux (Ubuntu 24.04.3 LTS) / x86_64  OK    OK    WARNINGS  NO, package depends on 'affy' which is not available
Package 27/46HostnameOS / ArchINSTALLBUILDCHECKBUILD BIN
maPredictDSC 1.49.0  (landing page)
Adi Laurentiu Tarca
git_last_commit: befed4f
git_last_commit_date: 2025-10-29 10:15:22 -0400
nebbiolo1Linux (Ubuntu 24.04.3 LTS) / x86_64  ERROR    ERROR  skipped
Package 28/46HostnameOS / ArchINSTALLBUILDCHECKBUILD BIN
maskBAD 1.55.0  (landing page)
Michael Dannemann
git_last_commit: f7b7871
git_last_commit_date: 2025-10-29 10:09:55 -0400
nebbiolo1Linux (Ubuntu 24.04.3 LTS) / x86_64  OK    ERROR  skipped
Package 29/46HostnameOS / ArchINSTALLBUILDCHECKBUILD BIN
mimager 1.35.0  (landing page)
Aaron Wolen
git_last_commit: 86a8e49
git_last_commit_date: 2025-10-29 10:36:18 -0400
nebbiolo1Linux (Ubuntu 24.04.3 LTS) / x86_64  OK    ERROR  skipped
Package 30/46HostnameOS / ArchINSTALLBUILDCHECKBUILD BIN
MSnbase 2.37.0  (landing page)
Laurent Gatto
git_last_commit: 3ca1ea4
git_last_commit_date: 2025-10-29 10:06:57 -0400
nebbiolo1Linux (Ubuntu 24.04.3 LTS) / x86_64  OK    OK    OK  NO, package depends on 'PSMatch' which is not available
Package 31/46HostnameOS / ArchINSTALLBUILDCHECKBUILD BIN
panp 1.81.0  (landing page)
Peter Warren
git_last_commit: a363914
git_last_commit_date: 2025-10-29 09:57:20 -0400
nebbiolo1Linux (Ubuntu 24.04.3 LTS) / x86_64  OK    OK    OK  NO, package depends on 'affy' which is not available
Package 32/46HostnameOS / ArchINSTALLBUILDCHECKBUILD BIN
PECA 1.47.0  (landing page)
Tomi Suomi
git_last_commit: ef37402
git_last_commit_date: 2025-10-29 10:17:25 -0400
nebbiolo1Linux (Ubuntu 24.04.3 LTS) / x86_64  OK    ERROR  skipped
Package 33/46HostnameOS / ArchINSTALLBUILDCHECKBUILD BIN
plier 1.81.0  (landing page)
Crispin Miller
git_last_commit: ed680fc
git_last_commit_date: 2025-10-29 09:55:59 -0400
nebbiolo1Linux (Ubuntu 24.04.3 LTS) / x86_64  OK    OK    WARNINGS  NO, package depends on 'affy' which is not available
Package 34/46HostnameOS / ArchINSTALLBUILDCHECKBUILD BIN
prebs 1.51.0  (landing page)
Karolis Uziela
git_last_commit: e4fa52e
git_last_commit_date: 2025-10-29 10:14:39 -0400
nebbiolo1Linux (Ubuntu 24.04.3 LTS) / x86_64  OK    ERROR  skipped
Package 35/46HostnameOS / ArchINSTALLBUILDCHECKBUILD BIN
puma 3.53.0  (landing page)
Xuejun Liu
git_last_commit: fdcbc97
git_last_commit_date: 2025-10-29 09:59:30 -0400
nebbiolo1Linux (Ubuntu 24.04.3 LTS) / x86_64  OK    ERROR  skipped
Package 36/46HostnameOS / ArchINSTALLBUILDCHECKBUILD BIN
pvac 1.59.0  (landing page)
Jun Lu , Pierre R. Bushel
git_last_commit: 5e7dd13
git_last_commit_date: 2025-10-29 10:06:42 -0400
nebbiolo1Linux (Ubuntu 24.04.3 LTS) / x86_64  OK    ERROR  skipped
Package 37/46HostnameOS / ArchINSTALLBUILDCHECKBUILD BIN
qpcrNorm 1.69.0  (landing page)
Jessica Mar
git_last_commit: 9244214
git_last_commit_date: 2025-10-29 10:02:38 -0400
nebbiolo1Linux (Ubuntu 24.04.3 LTS) / x86_64  OK    OK    OK  NO, package depends on 'affy' which is not available
Package 38/46HostnameOS / ArchINSTALLBUILDCHECKBUILD BIN
rCGH 1.41.0  (landing page)
Frederic Commo
git_last_commit: 1f54d5a
git_last_commit_date: 2025-10-29 10:26:46 -0400
nebbiolo1Linux (Ubuntu 24.04.3 LTS) / x86_64  ERROR    ERROR  skipped
Package 39/46HostnameOS / ArchINSTALLBUILDCHECKBUILD BIN
Rnits 1.45.0  (landing page)
Dipen P. Sangurdekar
git_last_commit: d587459
git_last_commit_date: 2025-10-29 10:21:15 -0400
nebbiolo1Linux (Ubuntu 24.04.3 LTS) / x86_64  OK    OK    WARNINGS  NO, package depends on 'affy' which is not available
Package 40/46HostnameOS / ArchINSTALLBUILDCHECKBUILD BIN
RPA 1.67.0  (landing page)
Leo Lahti
git_last_commit: ae57fb9
git_last_commit_date: 2025-10-29 10:03:12 -0400
nebbiolo1Linux (Ubuntu 24.04.3 LTS) / x86_64  OK    OK    OK  NO, package depends on 'affy' which is not available
Package 41/46HostnameOS / ArchINSTALLBUILDCHECKBUILD BIN
SCAN.UPC 2.53.0  (landing page)
Stephen R. Piccolo
git_last_commit: 89643cf
git_last_commit_date: 2025-10-29 10:12:17 -0400
nebbiolo1Linux (Ubuntu 24.04.3 LTS) / x86_64  OK    OK    ERROR  
Package 42/46HostnameOS / ArchINSTALLBUILDCHECKBUILD BIN
STATegRa 1.47.0  (landing page)
David Gomez-Cabrero , NĂºria Planell
git_last_commit: 1932640
git_last_commit_date: 2025-10-29 10:22:24 -0400
nebbiolo1Linux (Ubuntu 24.04.3 LTS) / x86_64  OK    OK    OK  NO, package depends on 'affy' which is not available
Package 43/46HostnameOS / ArchINSTALLBUILDCHECKBUILD BIN
tilingArray 1.89.0  (landing page)
Zhenyu Xu
git_last_commit: 1959ceb
git_last_commit_date: 2025-10-29 09:56:07 -0400
nebbiolo1Linux (Ubuntu 24.04.3 LTS) / x86_64  OK    OK    OK  NO, package depends on 'affy' which is not available
Package 44/46HostnameOS / ArchINSTALLBUILDCHECKBUILD BIN
TurboNorm 1.59.0  (landing page)
Maarten van Iterson
git_last_commit: 037c11e
git_last_commit_date: 2025-10-29 10:06:24 -0400
nebbiolo1Linux (Ubuntu 24.04.3 LTS) / x86_64  OK    OK    ERROR  
Package 45/46HostnameOS / ArchINSTALLBUILDCHECKBUILD BIN
vsn 3.79.0  (landing page)
Wolfgang Huber
git_last_commit: c1fc26a
git_last_commit_date: 2025-10-29 09:42:11 -0400
nebbiolo1Linux (Ubuntu 24.04.3 LTS) / x86_64  OK    ERROR  skipped
Package 46/46HostnameOS / ArchINSTALLBUILDCHECKBUILD BIN
webbioc 1.83.0  (landing page)
Colin A. Smith
git_last_commit: 8bbf95c
git_last_commit_date: 2025-10-29 09:54:04 -0400
nebbiolo1Linux (Ubuntu 24.04.3 LTS) / x86_64  OK    OK    OK  NO, package depends on 'affy' which is not available