| Back to Build/check report for BioC 3.23: simplified long | 
  | 
This page was generated on 2025-11-03 11:33 -0500 (Mon, 03 Nov 2025).
| Hostname | OS | Arch (*) | R version | Installed pkgs | 
|---|---|---|---|---|
| nebbiolo1 | Linux (Ubuntu 24.04.3 LTS) | x86_64 | R Under development (unstable) (2025-10-20 r88955) -- "Unsuffered Consequences" | 4775 | 
| Click on any hostname to see more info about the system (e.g. compilers) (*) as reported by 'uname -p', except on Windows and Mac OS X | ||||
| Package 2314/2321 | Hostname | OS / Arch | INSTALL | BUILD | CHECK | BUILD BIN | ||||||||
| YAPSA 1.37.0  (landing page) Zuguang Gu 
  | nebbiolo1 | Linux (Ubuntu 24.04.3 LTS) / x86_64 | OK | OK | OK | |||||||||
| 
To the developers/maintainers of the YAPSA package: - Allow up to 24 hours (and sometimes 48 hours) for your latest push to git@git.bioconductor.org:packages/YAPSA.git to reflect on this report. See Troubleshooting Build Report for more information. - Use the following Renviron settings to reproduce errors and warnings. - If 'R CMD check' started to fail recently on the Linux builder(s) over a missing dependency, add the missing dependency to 'Suggests:' in your DESCRIPTION file. See Renviron.bioc for more information.  | 
| Package: YAPSA | 
| Version: 1.37.0 | 
| Command: /home/biocbuild/bbs-3.23-bioc/R/bin/R CMD check --install=check:YAPSA.install-out.txt --library=/home/biocbuild/bbs-3.23-bioc/R/site-library --timings YAPSA_1.37.0.tar.gz | 
| StartedAt: 2025-11-03 04:40:56 -0500 (Mon, 03 Nov 2025) | 
| EndedAt: 2025-11-03 04:52:53 -0500 (Mon, 03 Nov 2025) | 
| EllapsedTime: 717.5 seconds | 
| RetCode: 0 | 
| Status: OK | 
| CheckDir: YAPSA.Rcheck | 
| Warnings: 0 | 
##############################################################################
##############################################################################
###
### Running command:
###
###   /home/biocbuild/bbs-3.23-bioc/R/bin/R CMD check --install=check:YAPSA.install-out.txt --library=/home/biocbuild/bbs-3.23-bioc/R/site-library --timings YAPSA_1.37.0.tar.gz
###
##############################################################################
##############################################################################
* using log directory ‘/home/biocbuild/bbs-3.23-bioc/meat/YAPSA.Rcheck’
* using R Under development (unstable) (2025-10-20 r88955)
* using platform: x86_64-pc-linux-gnu
* R was compiled by
    gcc (Ubuntu 13.3.0-6ubuntu2~24.04) 13.3.0
    GNU Fortran (Ubuntu 13.3.0-6ubuntu2~24.04) 13.3.0
* running under: Ubuntu 24.04.3 LTS
* using session charset: UTF-8
* checking for file ‘YAPSA/DESCRIPTION’ ... OK
* checking extension type ... Package
* this is package ‘YAPSA’ version ‘1.37.0’
* package encoding: UTF-8
* checking package namespace information ... OK
* checking package dependencies ... INFO
Imports includes 21 non-default packages.
Importing from so many packages makes the package vulnerable to any of
them becoming unavailable.  Move as many as possible to Suggests and
use conditionally.
* checking if this is a source package ... OK
* checking if there is a namespace ... OK
* checking for hidden files and directories ... OK
* checking for portable file names ... OK
* checking for sufficient/correct file permissions ... OK
* checking whether package ‘YAPSA’ can be installed ... OK
* checking installed package size ... OK
* checking package directory ... OK
* checking ‘build’ directory ... OK
* checking DESCRIPTION meta-information ... OK
* checking top-level files ... OK
* checking for left-over files ... OK
* checking index information ... OK
* checking package subdirectories ... OK
* checking code files for non-ASCII characters ... OK
* checking R files for syntax errors ... OK
* checking whether the package can be loaded ... OK
* checking whether the package can be loaded with stated dependencies ... OK
* checking whether the package can be unloaded cleanly ... OK
* checking whether the namespace can be loaded with stated dependencies ... OK
* checking whether the namespace can be unloaded cleanly ... OK
* checking loading without being on the library search path ... OK
* checking dependencies in R code ... OK
* checking S3 generic/method consistency ... OK
* checking replacement functions ... OK
* checking foreign function calls ... OK
* checking R code for possible problems ... OK
* checking Rd files ... OK
* checking Rd metadata ... OK
* checking Rd cross-references ... NOTE
Found the following Rd file(s) with Rd \link{} targets missing package
anchors:
  create_mutation_catalogue_from_df.Rd: makeGRangesFromDataFrame
  makeVRangesFromDataFrame.Rd: makeGRangesFromDataFrame, GenomicRanges
Please provide package anchors for all Rd \link{} targets not in the
package itself and the base packages.
* checking for missing documentation entries ... OK
* checking for code/documentation mismatches ... OK
* checking Rd \usage sections ... OK
* checking Rd contents ... OK
* checking for unstated dependencies in examples ... OK
* checking contents of ‘data’ directory ... OK
* checking data for non-ASCII characters ... OK
* checking data for ASCII and uncompressed saves ... OK
* checking files in ‘vignettes’ ... OK
* checking examples ... OK
Examples with CPU (user + system) or elapsed time > 5s
                                          user system elapsed
confidence_indel_only_calulation        21.997  0.612  22.613
create_indel_mutation_catalogue_from_df 13.058  0.962  14.022
build_gene_list_for_pathway              5.644  0.700  25.172
* checking for unstated dependencies in ‘tests’ ... OK
* checking tests ...
  Running ‘testthat.R’
 OK
* checking for unstated dependencies in vignettes ... OK
* checking package vignettes ... OK
* checking re-building of vignette outputs ... OK
* checking PDF version of manual ... OK
* DONE
Status: 1 NOTE
See
  ‘/home/biocbuild/bbs-3.23-bioc/meat/YAPSA.Rcheck/00check.log’
for details.
YAPSA.Rcheck/00install.out
############################################################################## ############################################################################## ### ### Running command: ### ### /home/biocbuild/bbs-3.23-bioc/R/bin/R CMD INSTALL YAPSA ### ############################################################################## ############################################################################## * installing to library ‘/home/biocbuild/bbs-3.23-bioc/R/site-library’ * installing *source* package ‘YAPSA’ ... ** this is package ‘YAPSA’ version ‘1.37.0’ ** using staged installation ** R ** data ** inst ** byte-compile and prepare package for lazy loading ** help *** installing help indices ** building package indices ** installing vignettes ** testing if installed package can be loaded from temporary location ** testing if installed package can be loaded from final location ** testing if installed package keeps a record of temporary installation path * DONE (YAPSA)
YAPSA.Rcheck/tests/testthat.Rout
R Under development (unstable) (2025-10-20 r88955) -- "Unsuffered Consequences"
Copyright (C) 2025 The R Foundation for Statistical Computing
Platform: x86_64-pc-linux-gnu
R is free software and comes with ABSOLUTELY NO WARRANTY.
You are welcome to redistribute it under certain conditions.
Type 'license()' or 'licence()' for distribution details.
R is a collaborative project with many contributors.
Type 'contributors()' for more information and
'citation()' on how to cite R or R packages in publications.
Type 'demo()' for some demos, 'help()' for on-line help, or
'help.start()' for an HTML browser interface to help.
Type 'q()' to quit R.
> Sys.setenv(R_TESTS=" ")
> library(testthat)
> library(YAPSA)
Loading required package: GenomicRanges
Loading required package: stats4
Loading required package: BiocGenerics
Loading required package: generics
Attaching package: 'generics'
The following objects are masked from 'package:base':
    as.difftime, as.factor, as.ordered, intersect, is.element, setdiff,
    setequal, union
Attaching package: 'BiocGenerics'
The following objects are masked from 'package:stats':
    IQR, mad, sd, var, xtabs
The following objects are masked from 'package:base':
    Filter, Find, Map, Position, Reduce, anyDuplicated, aperm, append,
    as.data.frame, basename, cbind, colnames, dirname, do.call,
    duplicated, eval, evalq, get, grep, grepl, is.unsorted, lapply,
    mapply, match, mget, order, paste, pmax, pmax.int, pmin, pmin.int,
    rank, rbind, rownames, sapply, saveRDS, table, tapply, unique,
    unsplit, which.max, which.min
Loading required package: S4Vectors
Attaching package: 'S4Vectors'
The following object is masked from 'package:utils':
    findMatches
The following objects are masked from 'package:base':
    I, expand.grid, unname
Loading required package: IRanges
Loading required package: Seqinfo
Loading required package: ggplot2
Loading required package: grid
> 
> test_check("YAPSA")
YAPSA:::shapiro_if_possible::error: Non-numeric inputYAPSA:::makeVRangesFromDataFrame::warning:strand  information missing, set to "+".
YAPSA:::makeVRangesFromDataFrame::in_PID.field found.  Retrieving PID information.
YAPSA:::makeVRangesFromDataFrame::in_subgroup.field found.  Retrieving subgroup information.
[ FAIL 0 | WARN 1 | SKIP 0 | PASS 62 ]
[ FAIL 0 | WARN 1 | SKIP 0 | PASS 62 ]
> 
> proc.time()
   user  system elapsed 
 17.638   1.419  19.044 
YAPSA.Rcheck/YAPSA-Ex.timings
| name | user | system | elapsed | |
| GenomeOfNl_raw | 0.006 | 0.001 | 0.006 | |
| LCD | 0.007 | 0.001 | 0.008 | |
| LCD_complex_cutoff | 0 | 0 | 0 | |
| MutCat_indel_df | 0.004 | 0.000 | 0.004 | |
| SMC | 0.000 | 0.000 | 0.001 | |
| SMC_perPID | 0 | 0 | 0 | |
| add_annotation | 0 | 0 | 0 | |
| add_as_fist_to_list | 0 | 0 | 0 | |
| aggregate_exposures_by_category | 0 | 0 | 0 | |
| annotate_intermut_dist_PID | 0.016 | 0.002 | 0.018 | |
| annotate_intermut_dist_cohort | 0.021 | 0.001 | 0.022 | |
| annotation_exposures_barplot | 0 | 0 | 0 | |
| annotation_exposures_list_barplot | 0 | 0 | 0 | |
| annotation_heatmap_exposures | 0.000 | 0.000 | 0.001 | |
| attribute_nucleotide_exchanges | 0.002 | 0.001 | 0.003 | |
| attribute_sequence_contex_indel | 0.520 | 0.037 | 0.557 | |
| attribution_of_indels | 0.488 | 0.087 | 0.575 | |
| build_gene_list_for_pathway | 5.644 | 0.700 | 25.172 | |
| classify_indels | 0 | 0 | 0 | |
| compare_SMCs | 0 | 0 | 0 | |
| compare_exposures | 0 | 0 | 0 | |
| compare_expousre_sets | 0.003 | 0.001 | 0.004 | |
| compare_sets | 0.002 | 0.001 | 0.003 | |
| compare_to_catalogues | 0.000 | 0.000 | 0.001 | |
| complex_heatmap_exposures | 1.008 | 0.257 | 1.265 | |
| computeLogLik | 0 | 0 | 0 | |
| compute_comparison_stat_df | 0.000 | 0.000 | 0.001 | |
| confIntExp | 1.304 | 0.548 | 1.858 | |
| confidence_indel_calulation | 0.000 | 0.001 | 0.001 | |
| confidence_indel_only_calulation | 21.997 | 0.612 | 22.613 | |
| correct_rounded | 0 | 0 | 0 | |
| cosineDist | 0.000 | 0.000 | 0.001 | |
| cosineMatchDist | 0.001 | 0.001 | 0.002 | |
| create_indel_mut_cat_from_df | 0.453 | 0.037 | 0.490 | |
| create_indel_mutation_catalogue_from_df | 13.058 | 0.962 | 14.022 | |
| create_mutation_catalogue_from_VR | 1.174 | 0.178 | 1.352 | |
| create_mutation_catalogue_from_df | 0.841 | 0.165 | 1.005 | |
| cut_breaks_as_intervals | 0.260 | 0.003 | 0.263 | |
| deriveSigInd_df | 0 | 0 | 0 | |
| disambiguateVector | 0 | 0 | 0 | |
| enrichSigs | 0.000 | 0.000 | 0.001 | |
| exampleYAPSA | 0.084 | 0.004 | 0.089 | |
| exome_mutCatRaw_df | 0.009 | 0.002 | 0.011 | |
| exposures_barplot | 2.721 | 0.010 | 2.730 | |
| extract_names_from_gene_list | 0 | 0 | 0 | |
| find_affected_PIDs | 0.001 | 0.000 | 0.000 | |
| getSequenceContext | 0.123 | 0.006 | 0.130 | |
| get_extreme_PIDs | 0.006 | 0.002 | 0.009 | |
| hclust_exposures | 0.005 | 0.000 | 0.006 | |
| logLikelihood | 0.861 | 0.162 | 1.023 | |
| lymphomaNature2013_mutCat_df | 0.004 | 0.001 | 0.006 | |
| makeVRangesFromDataFrame | 0.107 | 0.002 | 0.110 | |
| make_catalogue_strata_df | 0 | 0 | 0 | |
| make_comparison_matrix | 0.074 | 0.006 | 0.081 | |
| make_strata_df | 0.000 | 0.000 | 0.001 | |
| make_subgroups_df | 0.033 | 0.002 | 0.036 | |
| melt_exposures | 0.000 | 0.000 | 0.001 | |
| merge_exposures | 0.001 | 0.000 | 0.000 | |
| normalizeMotifs_otherRownames | 0 | 0 | 0 | |
| normalize_df_per_dim | 0.007 | 0.001 | 0.009 | |
| plotExchangeSpectra | 0.001 | 0.000 | 0.000 | |
| plotExchangeSpectra_indel | 1.532 | 0.001 | 1.532 | |
| plotExposuresConfidence | 0 | 0 | 0 | |
| plotExposuresConfidence_indel | 0 | 0 | 0 | |
| plot_SMC | 0 | 0 | 0 | |
| plot_exposures | 0.676 | 0.001 | 0.678 | |
| plot_strata | 0 | 0 | 0 | |
| read_entry | 0.000 | 0.001 | 0.000 | |
| relateSigs | 0 | 0 | 0 | |
| repeat_df | 0.002 | 0.000 | 0.002 | |
| round_precision | 0.000 | 0.000 | 0.001 | |
| run_SMC | 4.463 | 0.479 | 4.942 | |
| run_annotate_vcf_pl | 0.000 | 0.000 | 0.001 | |
| run_comparison_catalogues | 0 | 0 | 0 | |
| run_comparison_general | 0 | 0 | 0 | |
| run_kmer_frequency_correction | 0.000 | 0.000 | 0.001 | |
| run_kmer_frequency_normalization | 0 | 0 | 0 | |
| run_plot_strata_general | 0 | 0 | 0 | |
| shapiro_if_possible | 0.001 | 0.000 | 0.001 | |
| split_exposures_by_subgroups | 0 | 0 | 0 | |
| stat_plot_subgroups | 0.000 | 0.000 | 0.001 | |
| stat_test_SMC | 0 | 0 | 0 | |
| stat_test_subgroups | 0 | 0 | 0 | |
| stderrmean | 0.000 | 0.001 | 0.001 | |
| sum_over_list_of_df | 0.002 | 0.000 | 0.002 | |
| testSigs | 0 | 0 | 0 | |
| test_exposureAffected | 0 | 0 | 0 | |
| test_gene_list_in_exposures | 0 | 0 | 0 | |
| transform_rownames_R_to_MATLAB | 0.000 | 0.000 | 0.001 | |
| translate_to_hg19 | 0.004 | 0.000 | 0.004 | |
| trellis_rainfall_plot | 1.702 | 0.012 | 1.714 | |
| variateExp | 2.577 | 0.185 | 2.761 | |
| variateExpSingle | 0.849 | 0.155 | 1.005 | |