| Back to Build/check report for BioC 3.23: simplified long |
|
This page was generated on 2025-11-01 11:33 -0400 (Sat, 01 Nov 2025).
| Hostname | OS | Arch (*) | R version | Installed pkgs |
|---|---|---|---|---|
| nebbiolo1 | Linux (Ubuntu 24.04.3 LTS) | x86_64 | R Under development (unstable) (2025-10-20 r88955) -- "Unsuffered Consequences" | 4774 |
| Click on any hostname to see more info about the system (e.g. compilers) (*) as reported by 'uname -p', except on Windows and Mac OS X | ||||
| Package 2286/2321 | Hostname | OS / Arch | INSTALL | BUILD | CHECK | BUILD BIN | ||||||||
| VplotR 1.21.0 (landing page) Jacques Serizay
| nebbiolo1 | Linux (Ubuntu 24.04.3 LTS) / x86_64 | OK | OK | OK | |||||||||
|
To the developers/maintainers of the VplotR package: - Allow up to 24 hours (and sometimes 48 hours) for your latest push to git@git.bioconductor.org:packages/VplotR.git to reflect on this report. See Troubleshooting Build Report for more information. - Use the following Renviron settings to reproduce errors and warnings. - If 'R CMD check' started to fail recently on the Linux builder(s) over a missing dependency, add the missing dependency to 'Suggests:' in your DESCRIPTION file. See Renviron.bioc for more information. |
| Package: VplotR |
| Version: 1.21.0 |
| Command: /home/biocbuild/bbs-3.23-bioc/R/bin/R CMD check --install=check:VplotR.install-out.txt --library=/home/biocbuild/bbs-3.23-bioc/R/site-library --timings VplotR_1.21.0.tar.gz |
| StartedAt: 2025-11-01 04:42:08 -0400 (Sat, 01 Nov 2025) |
| EndedAt: 2025-11-01 04:48:43 -0400 (Sat, 01 Nov 2025) |
| EllapsedTime: 394.5 seconds |
| RetCode: 0 |
| Status: OK |
| CheckDir: VplotR.Rcheck |
| Warnings: 0 |
##############################################################################
##############################################################################
###
### Running command:
###
### /home/biocbuild/bbs-3.23-bioc/R/bin/R CMD check --install=check:VplotR.install-out.txt --library=/home/biocbuild/bbs-3.23-bioc/R/site-library --timings VplotR_1.21.0.tar.gz
###
##############################################################################
##############################################################################
* using log directory ‘/home/biocbuild/bbs-3.23-bioc/meat/VplotR.Rcheck’
* using R Under development (unstable) (2025-10-20 r88955)
* using platform: x86_64-pc-linux-gnu
* R was compiled by
gcc (Ubuntu 13.3.0-6ubuntu2~24.04) 13.3.0
GNU Fortran (Ubuntu 13.3.0-6ubuntu2~24.04) 13.3.0
* running under: Ubuntu 24.04.3 LTS
* using session charset: UTF-8
* checking for file ‘VplotR/DESCRIPTION’ ... OK
* checking extension type ... Package
* this is package ‘VplotR’ version ‘1.21.0’
* package encoding: UTF-8
* checking package namespace information ... OK
* checking package dependencies ... OK
* checking if this is a source package ... OK
* checking if there is a namespace ... OK
* checking for hidden files and directories ... OK
* checking for portable file names ... OK
* checking for sufficient/correct file permissions ... OK
* checking whether package ‘VplotR’ can be installed ... OK
* checking installed package size ... INFO
installed size is 5.2Mb
sub-directories of 1Mb or more:
data 2.9Mb
figures 2.1Mb
* checking package directory ... OK
* checking ‘build’ directory ... OK
* checking DESCRIPTION meta-information ... OK
* checking top-level files ... NOTE
File
LICENSE
is not mentioned in the DESCRIPTION file.
* checking for left-over files ... OK
* checking index information ... OK
* checking package subdirectories ... OK
* checking code files for non-ASCII characters ... OK
* checking R files for syntax errors ... OK
* checking whether the package can be loaded ... OK
* checking whether the package can be loaded with stated dependencies ... OK
* checking whether the package can be unloaded cleanly ... OK
* checking whether the namespace can be loaded with stated dependencies ... OK
* checking whether the namespace can be unloaded cleanly ... OK
* checking loading without being on the library search path ... OK
* checking dependencies in R code ... OK
* checking S3 generic/method consistency ... OK
* checking replacement functions ... OK
* checking foreign function calls ... OK
* checking R code for possible problems ... OK
* checking Rd files ... OK
* checking Rd metadata ... OK
* checking Rd cross-references ... OK
* checking for missing documentation entries ... OK
* checking for code/documentation mismatches ... OK
* checking Rd \usage sections ... OK
* checking Rd contents ... OK
* checking for unstated dependencies in examples ... OK
* checking contents of ‘data’ directory ... OK
* checking data for non-ASCII characters ... OK
* checking data for ASCII and uncompressed saves ... OK
* checking files in ‘vignettes’ ... OK
* checking examples ... OK
Examples with CPU (user + system) or elapsed time > 5s
user system elapsed
nucleosomeEnrichment.GRanges 9.120 1.254 10.375
nucleosomeEnrichment.Vmat 6.316 0.880 7.197
nucleosomeEnrichment 5.223 0.995 6.218
* checking for unstated dependencies in ‘tests’ ... OK
* checking tests ...
Running ‘testthat.R’
OK
* checking for unstated dependencies in vignettes ... OK
* checking package vignettes ... OK
* checking re-building of vignette outputs ... OK
* checking PDF version of manual ... OK
* DONE
Status: 1 NOTE
See
‘/home/biocbuild/bbs-3.23-bioc/meat/VplotR.Rcheck/00check.log’
for details.
VplotR.Rcheck/00install.out
############################################################################## ############################################################################## ### ### Running command: ### ### /home/biocbuild/bbs-3.23-bioc/R/bin/R CMD INSTALL VplotR ### ############################################################################## ############################################################################## * installing to library ‘/home/biocbuild/bbs-3.23-bioc/R/site-library’ * installing *source* package ‘VplotR’ ... ** this is package ‘VplotR’ version ‘1.21.0’ ** using staged installation ** R ** data ** inst ** byte-compile and prepare package for lazy loading ** help *** installing help indices ** building package indices ** installing vignettes ** testing if installed package can be loaded from temporary location ** testing if installed package can be loaded from final location ** testing if installed package keeps a record of temporary installation path * DONE (VplotR)
VplotR.Rcheck/tests/testthat.Rout
R Under development (unstable) (2025-10-20 r88955) -- "Unsuffered Consequences"
Copyright (C) 2025 The R Foundation for Statistical Computing
Platform: x86_64-pc-linux-gnu
R is free software and comes with ABSOLUTELY NO WARRANTY.
You are welcome to redistribute it under certain conditions.
Type 'license()' or 'licence()' for distribution details.
R is a collaborative project with many contributors.
Type 'contributors()' for more information and
'citation()' on how to cite R or R packages in publications.
Type 'demo()' for some demos, 'help()' for on-line help, or
'help.start()' for an HTML browser interface to help.
Type 'q()' to quit R.
> library(testthat)
> library(VplotR)
Loading required package: GenomicRanges
Loading required package: stats4
Loading required package: BiocGenerics
Loading required package: generics
Attaching package: 'generics'
The following objects are masked from 'package:base':
as.difftime, as.factor, as.ordered, intersect, is.element, setdiff,
setequal, union
Attaching package: 'BiocGenerics'
The following objects are masked from 'package:stats':
IQR, mad, sd, var, xtabs
The following objects are masked from 'package:base':
Filter, Find, Map, Position, Reduce, anyDuplicated, aperm, append,
as.data.frame, basename, cbind, colnames, dirname, do.call,
duplicated, eval, evalq, get, grep, grepl, is.unsorted, lapply,
mapply, match, mget, order, paste, pmax, pmax.int, pmin, pmin.int,
rank, rbind, rownames, sapply, saveRDS, table, tapply, unique,
unsplit, which.max, which.min
Loading required package: S4Vectors
Attaching package: 'S4Vectors'
The following object is masked from 'package:utils':
findMatches
The following objects are masked from 'package:base':
I, expand.grid, unname
Loading required package: IRanges
Loading required package: Seqinfo
Loading required package: ggplot2
>
> test_check("VplotR")
[ FAIL 0 | WARN 20 | SKIP 0 | PASS 4 ]
[ FAIL 0 | WARN 20 | SKIP 0 | PASS 4 ]
>
> proc.time()
user system elapsed
65.930 4.480 70.406
VplotR.Rcheck/VplotR-Ex.timings
| name | user | system | elapsed | |
| ABF1_sacCer3 | 0.063 | 0.003 | 0.066 | |
| ATAC_ce11_Serizay2020 | 0.211 | 0.013 | 0.224 | |
| CTCF_hg38 | 0.025 | 0.001 | 0.026 | |
| MNase_sacCer3_Henikoff2011 | 0.079 | 0.009 | 0.088 | |
| MNase_sacCer3_Henikoff2011_subset | 0.052 | 0.000 | 0.052 | |
| REB1_sacCer3 | 0.011 | 0.001 | 0.012 | |
| alignToTSS | 0.069 | 0.011 | 0.080 | |
| bam_test | 0.035 | 0.004 | 0.039 | |
| ce11_all_REs | 0.022 | 0.005 | 0.027 | |
| ce11_proms | 0.016 | 0.012 | 0.028 | |
| computeVmat | 1.821 | 0.088 | 1.910 | |
| deconvolveBidirectionalPromoters | 0.104 | 0.003 | 0.107 | |
| getFragmentsDistribution | 0.112 | 0.004 | 0.117 | |
| importPEBamFiles | 0.199 | 0.001 | 0.201 | |
| normalizeVmat | 0.950 | 0.004 | 0.955 | |
| nucleosomeEnrichment.GRanges | 9.120 | 1.254 | 10.375 | |
| nucleosomeEnrichment | 5.223 | 0.995 | 6.218 | |
| nucleosomeEnrichment.Vmat | 6.316 | 0.880 | 7.197 | |
| plotFootprint | 0.661 | 0.012 | 0.674 | |
| plotProfile | 1.299 | 0.002 | 1.301 | |
| plotVmat.GRanges | 1.237 | 0.011 | 1.251 | |
| plotVmat | 1.272 | 0.007 | 1.279 | |
| plotVmat.Vmat | 1.535 | 0.010 | 1.545 | |
| plotVmat.VmatList | 2.187 | 0.003 | 2.190 | |
| plotVmat.default | 1.589 | 0.002 | 1.592 | |
| plotVmat.list | 2.064 | 0.001 | 2.065 | |
| sampleGRanges.GRanges | 1.478 | 0.660 | 2.138 | |
| sampleGRanges | 1.557 | 0.805 | 2.362 | |
| shiftATACGranges | 0.081 | 0.001 | 0.081 | |
| shuffleVmat | 0.905 | 0.009 | 0.914 | |
| theme_ggplot2 | 0.379 | 0.066 | 0.445 | |