Back to Build/check report for BioC 3.23:   simplified   long
ABCDEFGHIJKLMNOPQRS[T]UVWXYZ

This page was generated on 2025-11-04 11:32 -0500 (Tue, 04 Nov 2025).

HostnameOSArch (*)R versionInstalled pkgs
nebbiolo1Linux (Ubuntu 24.04.3 LTS)x86_64R Under development (unstable) (2025-10-20 r88955) -- "Unsuffered Consequences" 4788
Click on any hostname to see more info about the system (e.g. compilers)      (*) as reported by 'uname -p', except on Windows and Mac OS X

All results for package TreeSummarizedExperiment


To the developers/maintainers of the TreeSummarizedExperiment package:
- Allow up to 24 hours (and sometimes 48 hours) for your latest push to git@git.bioconductor.org:packages/TreeSummarizedExperiment.git to reflect on this report. See Troubleshooting Build Report for more information.
- Use the following Renviron settings to reproduce errors and warnings.
- If 'R CMD check' started to fail recently on the Linux builder(s) over a missing dependency, add the missing dependency to 'Suggests:' in your DESCRIPTION file. See Renviron.bioc for more information.

raw results

Package 2224/2323HostnameOS / ArchINSTALLBUILDCHECKBUILD BIN
TreeSummarizedExperiment 2.19.0  (landing page)
Ruizhu Huang
Snapshot Date: 2025-11-03 13:40 -0500 (Mon, 03 Nov 2025)
git_url: https://git.bioconductor.org/packages/TreeSummarizedExperiment
git_branch: devel
git_last_commit: d592bc4
git_last_commit_date: 2025-10-29 10:52:27 -0500 (Wed, 29 Oct 2025)
nebbiolo1Linux (Ubuntu 24.04.3 LTS) / x86_64  OK    OK    OK  YES



Results for Bioconductor software packages that depend directly on package TreeSummarizedExperiment

QUICK STATSOS / ArchINSTALLBUILDCHECKBUILD BIN
nebbiolo1Linux (Ubuntu 24.04.3 LTS) / x86_64
0016
0016
01015
Package 1/16HostnameOS / ArchINSTALLBUILDCHECKBUILD BIN
anansi 1.1.0  (landing page)
Thomaz Bastiaanssen
git_last_commit: d5ff74a
git_last_commit_date: 2025-10-29 11:38:37 -0500
nebbiolo1Linux (Ubuntu 24.04.3 LTS) / x86_64  OK    OK    OK  YES
Package 2/16HostnameOS / ArchINSTALLBUILDCHECKBUILD BIN
benchdamic 1.17.0  (landing page)
Matteo Calgaro
git_last_commit: 316209e
git_last_commit_date: 2025-10-29 11:13:17 -0500
nebbiolo1Linux (Ubuntu 24.04.3 LTS) / x86_64  OK    OK    OK  NO, package depends on 'Maaslin2' which is not available
Package 3/16HostnameOS / ArchINSTALLBUILDCHECKBUILD BIN
DspikeIn 1.1.0  (landing page)
Mitra Ghotbi
git_last_commit: 18fc5b8
git_last_commit_date: 2025-10-29 11:39:12 -0500
nebbiolo1Linux (Ubuntu 24.04.3 LTS) / x86_64  OK    OK    OK  YES
Package 4/16HostnameOS / ArchINSTALLBUILDCHECKBUILD BIN
ExperimentSubset 1.21.0  (landing page)
Irzam Sarfraz
git_last_commit: a61ebd5
git_last_commit_date: 2025-10-29 11:03:30 -0500
nebbiolo1Linux (Ubuntu 24.04.3 LTS) / x86_64  OK    OK    OK  YES
Package 5/16HostnameOS / ArchINSTALLBUILDCHECKBUILD BIN
HoloFoodR 1.5.0  (landing page)
Tuomas Borman
git_last_commit: 53c2191
git_last_commit_date: 2025-10-29 11:30:56 -0500
nebbiolo1Linux (Ubuntu 24.04.3 LTS) / x86_64  OK    OK    OK  YES
Package 6/16HostnameOS / ArchINSTALLBUILDCHECKBUILD BIN
iSEEtree 1.5.0  (landing page)
Giulio Benedetti
git_last_commit: 63da959
git_last_commit_date: 2025-10-29 11:31:13 -0500
nebbiolo1Linux (Ubuntu 24.04.3 LTS) / x86_64  OK    OK    OK  YES
Package 7/16HostnameOS / ArchINSTALLBUILDCHECKBUILD BIN
maaslin3 1.3.0  (landing page)
William Nickols
git_last_commit: b274055
git_last_commit_date: 2025-10-29 11:33:46 -0500
nebbiolo1Linux (Ubuntu 24.04.3 LTS) / x86_64  OK    OK    OK  YES
Package 8/16HostnameOS / ArchINSTALLBUILDCHECKBUILD BIN
MGnifyR 1.7.0  (landing page)
Tuomas Borman
git_last_commit: d6f3e14
git_last_commit_date: 2025-10-29 11:28:57 -0500
nebbiolo1Linux (Ubuntu 24.04.3 LTS) / x86_64  OK    OK    OK  YES
Package 9/16HostnameOS / ArchINSTALLBUILDCHECKBUILD BIN
mia 1.19.0  (landing page)
Tuomas Borman
git_last_commit: ba530f5
git_last_commit_date: 2025-10-29 11:07:20 -0500
nebbiolo1Linux (Ubuntu 24.04.3 LTS) / x86_64  OK    OK    OK  YES
Package 10/16HostnameOS / ArchINSTALLBUILDCHECKBUILD BIN
miaDash 1.3.0  (landing page)
Giulio Benedetti
git_last_commit: 320315c
git_last_commit_date: 2025-10-29 11:35:29 -0500
nebbiolo1Linux (Ubuntu 24.04.3 LTS) / x86_64  OK    OK    OK  YES
Package 11/16HostnameOS / ArchINSTALLBUILDCHECKBUILD BIN
miaSim 1.17.0  (landing page)
Yagmur Simsek
git_last_commit: 253acb3
git_last_commit_date: 2025-10-29 11:13:14 -0500
nebbiolo1Linux (Ubuntu 24.04.3 LTS) / x86_64  OK    OK    OK  YES
Package 12/16HostnameOS / ArchINSTALLBUILDCHECKBUILD BIN
miaTime 1.1.0  (landing page)
Tuomas Borman
git_last_commit: 411484f
git_last_commit_date: 2025-10-29 11:37:15 -0500
nebbiolo1Linux (Ubuntu 24.04.3 LTS) / x86_64  OK    OK    OK  YES
Package 13/16HostnameOS / ArchINSTALLBUILDCHECKBUILD BIN
miaViz 1.19.0  (landing page)
Tuomas Borman
git_last_commit: 5a360e5
git_last_commit_date: 2025-10-29 11:07:33 -0500
nebbiolo1Linux (Ubuntu 24.04.3 LTS) / x86_64  OK    OK    OK  YES
Package 14/16HostnameOS / ArchINSTALLBUILDCHECKBUILD BIN
microSTASIS 1.11.0  (landing page)
Pedro Sánchez-Sánchez
git_last_commit: bd7c8a4
git_last_commit_date: 2025-10-29 11:20:08 -0500
nebbiolo1Linux (Ubuntu 24.04.3 LTS) / x86_64  OK    OK    ERROR  
Package 15/16HostnameOS / ArchINSTALLBUILDCHECKBUILD BIN
PLSDAbatch 1.7.0  (landing page)
Yiwen (Eva) Wang
git_last_commit: 744879e
git_last_commit_date: 2025-10-29 11:26:59 -0500
nebbiolo1Linux (Ubuntu 24.04.3 LTS) / x86_64  OK    OK    OK  YES
Package 16/16HostnameOS / ArchINSTALLBUILDCHECKBUILD BIN
treeclimbR 1.7.0  (landing page)
Charlotte Soneson
git_last_commit: 3ba408c
git_last_commit_date: 2025-10-29 11:28:31 -0500
nebbiolo1Linux (Ubuntu 24.04.3 LTS) / x86_64  OK    OK    OK  YES