Back to Build/check report for BioC 3.23:   simplified   long
ABCDEFGHIJKLMNOPQR[S]TUVWXYZ

This page was generated on 2025-10-31 08:34 -0400 (Fri, 31 Oct 2025).

HostnameOSArch (*)R versionInstalled pkgs
nebbiolo1Linux (Ubuntu 24.04.3 LTS)x86_64R Under development (unstable) (2025-10-20 r88955) -- "Unsuffered Consequences" 4428
Click on any hostname to see more info about the system (e.g. compilers)      (*) as reported by 'uname -p', except on Windows and Mac OS X

Package 2059/2321HostnameOS / ArchINSTALLBUILDCHECKBUILD BIN
SpectriPy 1.1.0  (landing page)
Johannes Rainer
Snapshot Date: 2025-10-30 13:40 -0400 (Thu, 30 Oct 2025)
git_url: https://git.bioconductor.org/packages/SpectriPy
git_branch: devel
git_last_commit: 09e5773
git_last_commit_date: 2025-10-29 11:36:52 -0400 (Wed, 29 Oct 2025)
nebbiolo1Linux (Ubuntu 24.04.3 LTS) / x86_64  OK    OK    OK  NO, package depends on 'Spectra' which is not available


CHECK results for SpectriPy on nebbiolo1

To the developers/maintainers of the SpectriPy package:
- Allow up to 24 hours (and sometimes 48 hours) for your latest push to git@git.bioconductor.org:packages/SpectriPy.git to reflect on this report. See Troubleshooting Build Report for more information.
- Use the following Renviron settings to reproduce errors and warnings.
- If 'R CMD check' started to fail recently on the Linux builder(s) over a missing dependency, add the missing dependency to 'Suggests:' in your DESCRIPTION file. See Renviron.bioc for more information.

raw results


Summary

Package: SpectriPy
Version: 1.1.0
Command: /home/biocbuild/bbs-3.23-bioc/R/bin/R CMD check --install=check:SpectriPy.install-out.txt --library=/home/biocbuild/bbs-3.23-bioc/R/site-library --timings SpectriPy_1.1.0.tar.gz
StartedAt: 2025-10-31 00:33:30 -0400 (Fri, 31 Oct 2025)
EndedAt: 2025-10-31 00:46:45 -0400 (Fri, 31 Oct 2025)
EllapsedTime: 795.0 seconds
RetCode: 0
Status:   OK  
CheckDir: SpectriPy.Rcheck
Warnings: 0

Command output

##############################################################################
##############################################################################
###
### Running command:
###
###   /home/biocbuild/bbs-3.23-bioc/R/bin/R CMD check --install=check:SpectriPy.install-out.txt --library=/home/biocbuild/bbs-3.23-bioc/R/site-library --timings SpectriPy_1.1.0.tar.gz
###
##############################################################################
##############################################################################


* using log directory ‘/home/biocbuild/bbs-3.23-bioc/meat/SpectriPy.Rcheck’
* using R Under development (unstable) (2025-10-20 r88955)
* using platform: x86_64-pc-linux-gnu
* R was compiled by
    gcc (Ubuntu 13.3.0-6ubuntu2~24.04) 13.3.0
    GNU Fortran (Ubuntu 13.3.0-6ubuntu2~24.04) 13.3.0
* running under: Ubuntu 24.04.3 LTS
* using session charset: UTF-8
* checking for file ‘SpectriPy/DESCRIPTION’ ... OK
* this is package ‘SpectriPy’ version ‘1.1.0’
* package encoding: UTF-8
* checking package namespace information ... OK
* checking package dependencies ... OK
* checking if this is a source package ... OK
* checking if there is a namespace ... OK
* checking for hidden files and directories ... OK
* checking for portable file names ... OK
* checking for sufficient/correct file permissions ... OK
* checking whether package ‘SpectriPy’ can be installed ... OK
* checking installed package size ... OK
* checking package directory ... OK
* checking ‘build’ directory ... OK
* checking DESCRIPTION meta-information ... OK
* checking top-level files ... OK
* checking for left-over files ... OK
* checking index information ... OK
* checking package subdirectories ... OK
* checking code files for non-ASCII characters ... OK
* checking R files for syntax errors ... OK
* checking whether the package can be loaded ... OK
* checking whether the package can be loaded with stated dependencies ... OK
* checking whether the package can be unloaded cleanly ... OK
* checking whether the namespace can be loaded with stated dependencies ... OK
* checking whether the namespace can be unloaded cleanly ... OK
* checking loading without being on the library search path ... OK
* checking whether startup messages can be suppressed ... OK
* checking dependencies in R code ... NOTE
Unexported object imported by a ':::' call: ‘Spectra:::.check_peaks_data_value’
  See the note in ?`:::` about the use of this operator.
* checking S3 generic/method consistency ... OK
* checking replacement functions ... OK
* checking foreign function calls ... OK
* checking R code for possible problems ... OK
* checking Rd files ... OK
* checking Rd metadata ... OK
* checking Rd cross-references ... OK
* checking for missing documentation entries ... OK
* checking for code/documentation mismatches ... OK
* checking Rd \usage sections ... OK
* checking Rd contents ... OK
* checking for unstated dependencies in examples ... OK
* checking files in ‘vignettes’ ... OK
* checking examples ... OK
Examples with CPU (user + system) or elapsed time > 5s
             user system elapsed
MsBackendPy 5.346  0.869   6.095
* checking for unstated dependencies in ‘tests’ ... OK
* checking tests ...
  Running ‘testthat.R’
 OK
* checking for unstated dependencies in vignettes ... OK
* checking package vignettes ... OK
* checking re-building of vignette outputs ... OK
* checking PDF version of manual ... OK
* DONE

Status: 1 NOTE
See
  ‘/home/biocbuild/bbs-3.23-bioc/meat/SpectriPy.Rcheck/00check.log’
for details.


Installation output

SpectriPy.Rcheck/00install.out

##############################################################################
##############################################################################
###
### Running command:
###
###   /home/biocbuild/bbs-3.23-bioc/R/bin/R CMD INSTALL SpectriPy
###
##############################################################################
##############################################################################


* installing to library ‘/home/biocbuild/bbs-3.23-bioc/R/site-library’
* installing *source* package ‘SpectriPy’ ...
** this is package ‘SpectriPy’ version ‘1.1.0’
** using staged installation
** R
** inst
** byte-compile and prepare package for lazy loading
** help
*** installing help indices
*** copying figures
** building package indices
** installing vignettes
** testing if installed package can be loaded from temporary location
** testing if installed package can be loaded from final location
** testing if installed package keeps a record of temporary installation path
* DONE (SpectriPy)

Tests output

SpectriPy.Rcheck/tests/testthat.Rout


R Under development (unstable) (2025-10-20 r88955) -- "Unsuffered Consequences"
Copyright (C) 2025 The R Foundation for Statistical Computing
Platform: x86_64-pc-linux-gnu

R is free software and comes with ABSOLUTELY NO WARRANTY.
You are welcome to redistribute it under certain conditions.
Type 'license()' or 'licence()' for distribution details.

R is a collaborative project with many contributors.
Type 'contributors()' for more information and
'citation()' on how to cite R or R packages in publications.

Type 'demo()' for some demos, 'help()' for on-line help, or
'help.start()' for an HTML browser interface to help.
Type 'q()' to quit R.

> library(testthat)
> library(Spectra)
Loading required package: S4Vectors
Loading required package: stats4
Loading required package: BiocGenerics
Loading required package: generics

Attaching package: 'generics'

The following objects are masked from 'package:base':

    as.difftime, as.factor, as.ordered, intersect, is.element, setdiff,
    setequal, union


Attaching package: 'BiocGenerics'

The following objects are masked from 'package:stats':

    IQR, mad, sd, var, xtabs

The following objects are masked from 'package:base':

    Filter, Find, Map, Position, Reduce, anyDuplicated, aperm, append,
    as.data.frame, basename, cbind, colnames, dirname, do.call,
    duplicated, eval, evalq, get, grep, grepl, is.unsorted, lapply,
    mapply, match, mget, order, paste, pmax, pmax.int, pmin, pmin.int,
    rank, rbind, rownames, sapply, saveRDS, table, tapply, unique,
    unsplit, which.max, which.min


Attaching package: 'S4Vectors'

The following object is masked from 'package:utils':

    findMatches

The following objects are masked from 'package:base':

    I, expand.grid, unname

Loading required package: BiocParallel
> library(SpectriPy)
Loading required package: reticulate
> library(MsBackendMgf)
> 
> fl <- system.file("extdata", "mgf", "test.mgf", package = "SpectriPy")
> s <- Spectra(fl, source = MsBackendMgf())
Start data import from 1 files ... done
> s <- setBackend(s, MsBackendPy(), pythonVariableName = "py_be")
> 
> be <- s@backend
> 
> test_check("SpectriPy")
2025-10-31 00:38:03,537:WARNING:matchms:add_precursor_mz:No precursor_mz found in metadata.
2025-10-31 00:38:03,538:WARNING:matchms:add_precursor_mz:No precursor_mz found in metadata.
2025-10-31 00:38:03,539:WARNING:matchms:add_precursor_mz:No precursor_mz found in metadata.
2025-10-31 00:38:03,540:WARNING:matchms:add_precursor_mz:No precursor_mz found in metadata.
2025-10-31 00:38:03,541:WARNING:matchms:add_precursor_mz:No precursor_mz found in metadata.
2025-10-31 00:38:03,541:WARNING:matchms:add_precursor_mz:No precursor_mz found in metadata.
2025-10-31 00:38:03,542:WARNING:matchms:add_precursor_mz:No precursor_mz found in metadata.
2025-10-31 00:38:03,543:WARNING:matchms:add_precursor_mz:No precursor_mz found in metadata.
2025-10-31 00:38:03,543:WARNING:matchms:add_precursor_mz:No precursor_mz found in metadata.
2025-10-31 00:38:03,544:WARNING:matchms:add_precursor_mz:No precursor_mz found in metadata.
2025-10-31 00:38:03,545:WARNING:matchms:add_precursor_mz:No precursor_mz found in metadata.
2025-10-31 00:38:03,546:WARNING:matchms:add_precursor_mz:No precursor_mz found in metadata.
2025-10-31 00:38:03,546:WARNING:matchms:add_precursor_mz:No precursor_mz found in metadata.
2025-10-31 00:38:03,547:WARNING:matchms:add_precursor_mz:No precursor_mz found in metadata.
2025-10-31 00:38:03,548:WARNING:matchms:add_precursor_mz:No precursor_mz found in metadata.
2025-10-31 00:38:03,548:WARNING:matchms:add_precursor_mz:No precursor_mz found in metadata.
2025-10-31 00:38:03,549:WARNING:matchms:add_precursor_mz:No precursor_mz found in metadata.
2025-10-31 00:38:03,550:WARNING:matchms:add_precursor_mz:No precursor_mz found in metadata.
2025-10-31 00:38:03,550:WARNING:matchms:add_precursor_mz:No precursor_mz found in metadata.
2025-10-31 00:38:03,551:WARNING:matchms:add_precursor_mz:No precursor_mz found in metadata.
2025-10-31 00:38:03,552:WARNING:matchms:add_precursor_mz:No precursor_mz found in metadata.
2025-10-31 00:38:03,553:WARNING:matchms:add_precursor_mz:No precursor_mz found in metadata.
2025-10-31 00:38:03,553:WARNING:matchms:add_precursor_mz:No precursor_mz found in metadata.
2025-10-31 00:38:03,554:WARNING:matchms:add_precursor_mz:No precursor_mz found in metadata.
2025-10-31 00:38:03,555:WARNING:matchms:add_precursor_mz:No precursor_mz found in metadata.
2025-10-31 00:38:03,555:WARNING:matchms:add_precursor_mz:No precursor_mz found in metadata.
2025-10-31 00:38:03,556:WARNING:matchms:add_precursor_mz:No precursor_mz found in metadata.
2025-10-31 00:38:03,557:WARNING:matchms:add_precursor_mz:No precursor_mz found in metadata.
2025-10-31 00:38:03,558:WARNING:matchms:add_precursor_mz:No precursor_mz found in metadata.
2025-10-31 00:38:03,558:WARNING:matchms:add_precursor_mz:No precursor_mz found in metadata.
2025-10-31 00:38:03,559:WARNING:matchms:add_precursor_mz:No precursor_mz found in metadata.
2025-10-31 00:38:03,560:WARNING:matchms:add_precursor_mz:No precursor_mz found in metadata.
2025-10-31 00:38:03,560:WARNING:matchms:add_precursor_mz:No precursor_mz found in metadata.
2025-10-31 00:38:03,561:WARNING:matchms:add_precursor_mz:No precursor_mz found in metadata.
2025-10-31 00:38:03,562:WARNING:matchms:add_precursor_mz:No precursor_mz found in metadata.
2025-10-31 00:38:03,563:WARNING:matchms:add_precursor_mz:No precursor_mz found in metadata.
2025-10-31 00:38:03,563:WARNING:matchms:add_precursor_mz:No precursor_mz found in metadata.
2025-10-31 00:38:03,564:WARNING:matchms:add_precursor_mz:No precursor_mz found in metadata.
2025-10-31 00:38:03,565:WARNING:matchms:add_precursor_mz:No precursor_mz found in metadata.
2025-10-31 00:38:03,565:WARNING:matchms:add_precursor_mz:No precursor_mz found in metadata.
2025-10-31 00:38:03,566:WARNING:matchms:add_precursor_mz:No precursor_mz found in metadata.
2025-10-31 00:38:03,567:WARNING:matchms:add_precursor_mz:No precursor_mz found in metadata.
2025-10-31 00:38:03,568:WARNING:matchms:add_precursor_mz:No precursor_mz found in metadata.
2025-10-31 00:38:03,568:WARNING:matchms:add_precursor_mz:No precursor_mz found in metadata.
2025-10-31 00:38:03,569:WARNING:matchms:add_precursor_mz:No precursor_mz found in metadata.
2025-10-31 00:38:03,570:WARNING:matchms:add_precursor_mz:No precursor_mz found in metadata.
2025-10-31 00:38:03,571:WARNING:matchms:add_precursor_mz:No precursor_mz found in metadata.
2025-10-31 00:38:03,571:WARNING:matchms:add_precursor_mz:No precursor_mz found in metadata.
2025-10-31 00:38:03,572:WARNING:matchms:add_precursor_mz:No precursor_mz found in metadata.
2025-10-31 00:38:03,573:WARNING:matchms:add_precursor_mz:No precursor_mz found in metadata.
2025-10-31 00:38:03,574:WARNING:matchms:add_precursor_mz:No precursor_mz found in metadata.
2025-10-31 00:38:03,574:WARNING:matchms:add_precursor_mz:No precursor_mz found in metadata.
2025-10-31 00:38:03,575:WARNING:matchms:add_precursor_mz:No precursor_mz found in metadata.
2025-10-31 00:38:03,576:WARNING:matchms:add_precursor_mz:No precursor_mz found in metadata.
2025-10-31 00:38:03,576:WARNING:matchms:add_precursor_mz:No precursor_mz found in metadata.
2025-10-31 00:38:03,577:WARNING:matchms:add_precursor_mz:No precursor_mz found in metadata.
2025-10-31 00:38:03,578:WARNING:matchms:add_precursor_mz:No precursor_mz found in metadata.
2025-10-31 00:38:03,578:WARNING:matchms:add_precursor_mz:No precursor_mz found in metadata.
2025-10-31 00:38:03,579:WARNING:matchms:add_precursor_mz:No precursor_mz found in metadata.
2025-10-31 00:38:03,580:WARNING:matchms:add_precursor_mz:No precursor_mz found in metadata.
2025-10-31 00:38:03,581:WARNING:matchms:add_precursor_mz:No precursor_mz found in metadata.
2025-10-31 00:38:03,581:WARNING:matchms:add_precursor_mz:No precursor_mz found in metadata.
2025-10-31 00:38:03,582:WARNING:matchms:add_precursor_mz:No precursor_mz found in metadata.
2025-10-31 00:38:03,583:WARNING:matchms:add_precursor_mz:No precursor_mz found in metadata.
2025-10-31 00:38:03,584:WARNING:matchms:add_precursor_mz:No precursor_mz found in metadata.
2025-10-31 00:38:03,584:WARNING:matchms:add_precursor_mz:No precursor_mz found in metadata.
2025-10-31 00:38:03,585:WARNING:matchms:add_precursor_mz:No precursor_mz found in metadata.
2025-10-31 00:38:03,586:WARNING:matchms:add_precursor_mz:No precursor_mz found in metadata.
2025-10-31 00:38:03,586:WARNING:matchms:add_precursor_mz:No precursor_mz found in metadata.
2025-10-31 00:38:03,587:WARNING:matchms:add_precursor_mz:No precursor_mz found in metadata.
2025-10-31 00:38:03,588:WARNING:matchms:add_precursor_mz:No precursor_mz found in metadata.
2025-10-31 00:38:03,588:WARNING:matchms:add_precursor_mz:No precursor_mz found in metadata.
2025-10-31 00:38:03,589:WARNING:matchms:add_precursor_mz:No precursor_mz found in metadata.
2025-10-31 00:38:03,590:WARNING:matchms:add_precursor_mz:No precursor_mz found in metadata.
2025-10-31 00:38:03,591:WARNING:matchms:add_precursor_mz:No precursor_mz found in metadata.
2025-10-31 00:38:03,591:WARNING:matchms:add_precursor_mz:No precursor_mz found in metadata.
2025-10-31 00:38:03,592:WARNING:matchms:add_precursor_mz:No precursor_mz found in metadata.
2025-10-31 00:38:03,593:WARNING:matchms:add_precursor_mz:No precursor_mz found in metadata.
2025-10-31 00:38:03,594:WARNING:matchms:add_precursor_mz:No precursor_mz found in metadata.
2025-10-31 00:38:03,594:WARNING:matchms:add_precursor_mz:No precursor_mz found in metadata.
2025-10-31 00:38:03,595:WARNING:matchms:add_precursor_mz:No precursor_mz found in metadata.
2025-10-31 00:38:03,596:WARNING:matchms:add_precursor_mz:No precursor_mz found in metadata.
2025-10-31 00:38:03,596:WARNING:matchms:add_precursor_mz:No precursor_mz found in metadata.
2025-10-31 00:38:03,597:WARNING:matchms:add_precursor_mz:No precursor_mz found in metadata.
2025-10-31 00:38:03,598:WARNING:matchms:add_precursor_mz:No precursor_mz found in metadata.
2025-10-31 00:38:03,599:WARNING:matchms:add_precursor_mz:No precursor_mz found in metadata.
2025-10-31 00:38:03,599:WARNING:matchms:add_precursor_mz:No precursor_mz found in metadata.
2025-10-31 00:38:03,600:WARNING:matchms:add_precursor_mz:No precursor_mz found in metadata.
2025-10-31 00:38:03,601:WARNING:matchms:add_precursor_mz:No precursor_mz found in metadata.
2025-10-31 00:38:03,601:WARNING:matchms:add_precursor_mz:No precursor_mz found in metadata.
2025-10-31 00:38:03,602:WARNING:matchms:add_precursor_mz:No precursor_mz found in metadata.
2025-10-31 00:38:03,603:WARNING:matchms:add_precursor_mz:No precursor_mz found in metadata.
2025-10-31 00:38:03,604:WARNING:matchms:add_precursor_mz:No precursor_mz found in metadata.
2025-10-31 00:38:03,604:WARNING:matchms:add_precursor_mz:No precursor_mz found in metadata.
2025-10-31 00:38:03,605:WARNING:matchms:add_precursor_mz:No precursor_mz found in metadata.
2025-10-31 00:38:03,606:WARNING:matchms:add_precursor_mz:No precursor_mz found in metadata.
2025-10-31 00:38:03,606:WARNING:matchms:add_precursor_mz:No precursor_mz found in metadata.
2025-10-31 00:38:03,607:WARNING:matchms:add_precursor_mz:No precursor_mz found in metadata.
2025-10-31 00:38:03,608:WARNING:matchms:add_precursor_mz:No precursor_mz found in metadata.
2025-10-31 00:38:03,609:WARNING:matchms:add_precursor_mz:No precursor_mz found in metadata.

Calculating similarities:   0%|          | 0/4 [00:00<?, ?it/s]
Calculating similarities:  25%|██▌       | 1/4 [00:02<00:07,  2.64s/it]
Calculating similarities: 100%|██████████| 4/4 [00:02<00:00,  1.51it/s]

Calculating similarities:   0%|          | 0/4 [00:00<?, ?it/s]
Calculating similarities: 100%|██████████| 4/4 [00:00<00:00, 4250.62it/s]

Calculating similarities:   0%|          | 0/4 [00:00<?, ?it/s]
Calculating similarities: 100%|██████████| 4/4 [00:00<00:00, 3187.77it/s]

Calculating similarities:   0%|          | 0/4 [00:00<?, ?it/s]
Calculating similarities: 100%|██████████| 4/4 [00:00<00:00, 4335.20it/s]

Calculating similarities:   0%|          | 0/2 [00:00<?, ?it/s]
Calculating similarities: 100%|██████████| 2/2 [00:00<00:00, 5614.86it/s]

Calculating similarities:   0%|          | 0/2 [00:00<?, ?it/s]
Calculating similarities: 100%|██████████| 2/2 [00:00<00:00, 3612.66it/s]

Calculating similarities:   0%|          | 0/2 [00:00<?, ?it/s]
Calculating similarities: 100%|██████████| 2/2 [00:00<00:00, 4911.36it/s]

Calculating similarities:   0%|          | 0/2 [00:00<?, ?it/s]
Calculating similarities: 100%|██████████| 2/2 [00:00<00:00, 2159.23it/s]

Calculating similarities:   0%|          | 0/2 [00:00<?, ?it/s]
Calculating similarities: 100%|██████████| 2/2 [00:00<00:00, 3076.13it/s]

Calculating similarities:   0%|          | 0/2 [00:00<?, ?it/s]
Calculating similarities: 100%|██████████| 2/2 [00:00<00:00, 3029.47it/s]

Calculating similarities:   0%|          | 0/4 [00:00<?, ?it/s]
Calculating similarities:  50%|█████     | 2/4 [00:00<00:00, 1735.33it/s]

Calculating similarities:   0%|          | 0/2 [00:00<?, ?it/s]
Calculating similarities:  50%|█████     | 1/2 [00:00<00:00,  1.51it/s]
Calculating similarities: 100%|██████████| 2/2 [00:00<00:00,  3.01it/s]

Calculating similarities:   0%|          | 0/2 [00:00<?, ?it/s]
Calculating similarities:  50%|█████     | 1/2 [00:00<00:00,  1.16it/s]
Calculating similarities: 100%|██████████| 2/2 [00:00<00:00,  2.33it/s]
2025-10-31 00:38:15,074:WARNING:matchms:add_precursor_mz:No precursor_mz found in metadata.
2025-10-31 00:38:15,129:WARNING:matchms:add_precursor_mz:No precursor_mz found in metadata.
2025-10-31 00:38:15,130:WARNING:matchms:add_precursor_mz:No precursor_mz found in metadata.
2025-10-31 00:38:15,131:WARNING:matchms:add_precursor_mz:No precursor_mz found in metadata.
2025-10-31 00:38:15,198:WARNING:matchms:add_precursor_mz:No precursor_mz found in metadata.
2025-10-31 00:38:15,199:WARNING:matchms:add_precursor_mz:No precursor_mz found in metadata.
2025-10-31 00:38:15,200:WARNING:matchms:add_precursor_mz:No precursor_mz found in metadata.
2025-10-31 00:38:15,456:WARNING:matchms:add_precursor_mz:No precursor_mz found in metadata.
2025-10-31 00:38:15,457:WARNING:matchms:add_precursor_mz:No precursor_mz found in metadata.
2025-10-31 00:38:15,458:WARNING:matchms:add_precursor_mz:No precursor_mz found in metadata.
2025-10-31 00:38:15,489:WARNING:matchms:add_precursor_mz:No precursor_mz found in metadata.
2025-10-31 00:38:15,490:WARNING:matchms:add_precursor_mz:No precursor_mz found in metadata.
2025-10-31 00:38:15,491:WARNING:matchms:add_precursor_mz:No precursor_mz found in metadata.
2025-10-31 00:38:15,772:WARNING:matchms:add_precursor_mz:No precursor_mz found in metadata.
2025-10-31 00:38:15,773:WARNING:matchms:add_precursor_mz:No precursor_mz found in metadata.
2025-10-31 00:38:15,774:WARNING:matchms:add_precursor_mz:No precursor_mz found in metadata.
2025-10-31 00:38:15,789:WARNING:matchms:add_precursor_mz:No precursor_mz found in metadata.
2025-10-31 00:38:15,790:WARNING:matchms:add_precursor_mz:No precursor_mz found in metadata.
2025-10-31 00:38:15,791:WARNING:matchms:add_precursor_mz:No precursor_mz found in metadata.

Processing spectra:   0%|          | 0/4 [00:00<?, ?it/s]
Processing spectra: 100%|██████████| 4/4 [00:00<00:00, 3529.07it/s]

Processing spectra:   0%|          | 0/4 [00:00<?, ?it/s]
Processing spectra: 100%|██████████| 4/4 [00:00<00:00, 3949.44it/s]

Processing spectra:   0%|          | 0/4 [00:00<?, ?it/s]
Processing spectra: 100%|██████████| 4/4 [00:00<00:00, 3715.88it/s]

Processing spectra:   0%|          | 0/4 [00:00<?, ?it/s]
Processing spectra: 100%|██████████| 4/4 [00:00<00:00, 4194.30it/s]

Processing spectra:   0%|          | 0/4 [00:00<?, ?it/s]
Processing spectra: 100%|██████████| 4/4 [00:00<00:00, 3973.76it/s]
[ FAIL 0 | WARN 4 | SKIP 1 | PASS 592 ]

══ Skipped tests (1) ═══════════════════════════════════════════════════════════
• empty test (1): 'test_zzz.R:16:1'

[ FAIL 0 | WARN 4 | SKIP 1 | PASS 592 ]
> 
> ## TODO: add tests from the Spectra unit test suite!
> 
> ## ## Run the MsBackend spectra variable test suite
> ## test_suite <- system.file("test_backends", "test_MsBackend",
> ##                           package = "Spectra")
> 
> ## ## Run single test file.
> ## res <- test_dir(test_suite, stop_on_failure = TRUE)
> 
> proc.time()
   user  system elapsed 
 29.035   2.899  31.292 

Example timings

SpectriPy.Rcheck/SpectriPy-Ex.timings

nameusersystemelapsed
MsBackendPy5.3460.8696.095
compareSpectriPy2.3680.2552.641
conversion0.3450.3560.507
filterSpectriPy0.1710.0320.203