| Back to Build/check report for BioC 3.23: simplified long |
|
This page was generated on 2025-11-01 11:33 -0400 (Sat, 01 Nov 2025).
| Hostname | OS | Arch (*) | R version | Installed pkgs |
|---|---|---|---|---|
| nebbiolo1 | Linux (Ubuntu 24.04.3 LTS) | x86_64 | R Under development (unstable) (2025-10-20 r88955) -- "Unsuffered Consequences" | 4774 |
| Click on any hostname to see more info about the system (e.g. compilers) (*) as reported by 'uname -p', except on Windows and Mac OS X | ||||
| Package 2014/2321 | Hostname | OS / Arch | INSTALL | BUILD | CHECK | BUILD BIN | ||||||||
| SmartPhos 1.1.0 (landing page) Shubham Agrawal
| nebbiolo1 | Linux (Ubuntu 24.04.3 LTS) / x86_64 | OK | OK | OK | |||||||||
|
To the developers/maintainers of the SmartPhos package: - Allow up to 24 hours (and sometimes 48 hours) for your latest push to git@git.bioconductor.org:packages/SmartPhos.git to reflect on this report. See Troubleshooting Build Report for more information. - Use the following Renviron settings to reproduce errors and warnings. - If 'R CMD check' started to fail recently on the Linux builder(s) over a missing dependency, add the missing dependency to 'Suggests:' in your DESCRIPTION file. See Renviron.bioc for more information. |
| Package: SmartPhos |
| Version: 1.1.0 |
| Command: /home/biocbuild/bbs-3.23-bioc/R/bin/R CMD check --install=check:SmartPhos.install-out.txt --library=/home/biocbuild/bbs-3.23-bioc/R/site-library --timings SmartPhos_1.1.0.tar.gz |
| StartedAt: 2025-11-01 03:40:41 -0400 (Sat, 01 Nov 2025) |
| EndedAt: 2025-11-01 03:47:09 -0400 (Sat, 01 Nov 2025) |
| EllapsedTime: 387.5 seconds |
| RetCode: 0 |
| Status: OK |
| CheckDir: SmartPhos.Rcheck |
| Warnings: 0 |
##############################################################################
##############################################################################
###
### Running command:
###
### /home/biocbuild/bbs-3.23-bioc/R/bin/R CMD check --install=check:SmartPhos.install-out.txt --library=/home/biocbuild/bbs-3.23-bioc/R/site-library --timings SmartPhos_1.1.0.tar.gz
###
##############################################################################
##############################################################################
* using log directory ‘/home/biocbuild/bbs-3.23-bioc/meat/SmartPhos.Rcheck’
* using R Under development (unstable) (2025-10-20 r88955)
* using platform: x86_64-pc-linux-gnu
* R was compiled by
gcc (Ubuntu 13.3.0-6ubuntu2~24.04) 13.3.0
GNU Fortran (Ubuntu 13.3.0-6ubuntu2~24.04) 13.3.0
* running under: Ubuntu 24.04.3 LTS
* using session charset: UTF-8
* checking for file ‘SmartPhos/DESCRIPTION’ ... OK
* checking extension type ... Package
* this is package ‘SmartPhos’ version ‘1.1.0’
* package encoding: UTF-8
* checking package namespace information ... OK
* checking package dependencies ... INFO
Imports includes 36 non-default packages.
Importing from so many packages makes the package vulnerable to any of
them becoming unavailable. Move as many as possible to Suggests and
use conditionally.
* checking if this is a source package ... OK
* checking if there is a namespace ... OK
* checking for hidden files and directories ... OK
* checking for portable file names ... OK
* checking for sufficient/correct file permissions ... OK
* checking whether package ‘SmartPhos’ can be installed ... OK
* checking installed package size ... INFO
installed size is 5.9Mb
sub-directories of 1Mb or more:
data 1.3Mb
shiny-app 4.1Mb
* checking package directory ... OK
* checking ‘build’ directory ... OK
* checking DESCRIPTION meta-information ... OK
* checking top-level files ... OK
* checking for left-over files ... OK
* checking index information ... OK
* checking package subdirectories ... OK
* checking code files for non-ASCII characters ... OK
* checking R files for syntax errors ... OK
* checking whether the package can be loaded ... OK
* checking whether the package can be loaded with stated dependencies ... OK
* checking whether the package can be unloaded cleanly ... OK
* checking whether the namespace can be loaded with stated dependencies ... OK
* checking whether the namespace can be unloaded cleanly ... OK
* checking loading without being on the library search path ... OK
* checking dependencies in R code ... NOTE
Namespaces in Imports field not imported from:
‘DT’ ‘XML’ ‘cowplot’ ‘factoextra’ ‘ggbeeswarm’ ‘grid’ ‘plotly’
‘shinyBS’ ‘shinyWidgets’ ‘shinyjs’ ‘shinythemes’ ‘tools’
All declared Imports should be used.
* checking S3 generic/method consistency ... OK
* checking replacement functions ... OK
* checking foreign function calls ... OK
* checking R code for possible problems ... NOTE
runFisher: no visible binding for global variable ‘signature’
runGSEAforPhospho: no visible binding for global variable ‘signature’
Undefined global functions or variables:
signature
Consider adding
importFrom("methods", "signature")
to your NAMESPACE file (and ensure that your DESCRIPTION Imports field
contains 'methods').
* checking Rd files ... OK
* checking Rd metadata ... OK
* checking Rd cross-references ... OK
* checking for missing documentation entries ... OK
* checking for code/documentation mismatches ... OK
* checking Rd \usage sections ... OK
* checking Rd contents ... OK
* checking for unstated dependencies in examples ... OK
* checking contents of ‘data’ directory ... OK
* checking data for non-ASCII characters ... OK
* checking data for ASCII and uncompressed saves ... OK
* checking files in ‘vignettes’ ... OK
* checking examples ... OK
* checking for unstated dependencies in ‘tests’ ... OK
* checking tests ...
Running ‘testthat.R’
OK
* checking for unstated dependencies in vignettes ... OK
* checking package vignettes ... OK
* checking re-building of vignette outputs ... OK
* checking PDF version of manual ... OK
* DONE
Status: 2 NOTEs
See
‘/home/biocbuild/bbs-3.23-bioc/meat/SmartPhos.Rcheck/00check.log’
for details.
SmartPhos.Rcheck/00install.out
############################################################################## ############################################################################## ### ### Running command: ### ### /home/biocbuild/bbs-3.23-bioc/R/bin/R CMD INSTALL SmartPhos ### ############################################################################## ############################################################################## * installing to library ‘/home/biocbuild/bbs-3.23-bioc/R/site-library’ * installing *source* package ‘SmartPhos’ ... ** this is package ‘SmartPhos’ version ‘1.1.0’ ** using staged installation ** R ** data ** inst ** byte-compile and prepare package for lazy loading ** help *** installing help indices ** building package indices ** installing vignettes ** testing if installed package can be loaded from temporary location ** testing if installed package can be loaded from final location ** testing if installed package keeps a record of temporary installation path * DONE (SmartPhos)
SmartPhos.Rcheck/tests/testthat.Rout
R Under development (unstable) (2025-10-20 r88955) -- "Unsuffered Consequences"
Copyright (C) 2025 The R Foundation for Statistical Computing
Platform: x86_64-pc-linux-gnu
R is free software and comes with ABSOLUTELY NO WARRANTY.
You are welcome to redistribute it under certain conditions.
Type 'license()' or 'licence()' for distribution details.
R is a collaborative project with many contributors.
Type 'contributors()' for more information and
'citation()' on how to cite R or R packages in publications.
Type 'demo()' for some demos, 'help()' for on-line help, or
'help.start()' for an HTML browser interface to help.
Type 'q()' to quit R.
> # This file is part of the standard setup for testthat.
> # It is recommended that you do not modify it.
> #
> # Where should you do additional test configuration?
> # Learn more about the roles of various files in:
> # * https://r-pkgs.org/testing-design.html#sec-tests-files-overview
> # * https://testthat.r-lib.org/articles/special-files.html
>
> library(testthat)
> library(SmartPhos)
>
> test_check("SmartPhos")
harmonizing input:
removing 5 sampleMap rows not in names(experiments)
harmonizing input:
removing 5 sampleMap rows not in names(experiments)
Running gene set analysis:
Checking arguments...done!
Final gene/gene-set association: 20 genes and 22 gene sets
Details:
Calculating gene set statistics from 20 out of 65 gene-level statistics
Removed 4366 genes from GSC due to lack of matching gene statistics
Removed 28 gene sets containing no genes after gene removal
Removed additionally 0 gene sets not matching the size limits
Loaded additional information for 22 gene sets
Calculating gene set statistics...done!
Calculating gene set significance...done!
Adjusting for multiple testing...done!
Running gene set analysis:
Checking arguments...done!
Final gene/gene-set association: 20 genes and 22 gene sets
Details:
Calculating gene set statistics from 20 out of 65 gene-level statistics
Removed 4366 genes from GSC due to lack of matching gene statistics
Removed 28 gene sets containing no genes after gene removal
Removed additionally 0 gene sets not matching the size limits
Loaded additional information for 22 gene sets
Calculating gene set statistics...done!
Calculating gene set significance...done!
Adjusting for multiple testing...done!
Imputing along margin 2 (samples/columns).
Imputing along margin 2 (samples/columns).
New names:
* `` -> `...1`
* `` -> `...2`
* `` -> `...3`
[ FAIL 0 | WARN 0 | SKIP 0 | PASS 309 ]
>
> proc.time()
user system elapsed
63.329 5.614 68.446
SmartPhos.Rcheck/SmartPhos-Ex.timings
| name | user | system | elapsed | |
| Homo_sapien_kinase_substrate_network | 0.068 | 0.002 | 0.070 | |
| Mus_musculus_kinase_substrate_network | 0.047 | 0.004 | 0.051 | |
| addZeroTime | 0.295 | 0.020 | 0.314 | |
| calcKinaseScore | 0.745 | 0.096 | 0.842 | |
| clusterEnrich | 1.008 | 0.008 | 1.016 | |
| clusterTS | 0.962 | 0.003 | 0.965 | |
| dda_example | 0.003 | 0.001 | 0.004 | |
| dia_example | 0.007 | 0.000 | 0.006 | |
| enrichDifferential | 0.458 | 0.002 | 0.459 | |
| getDecouplerNetwork | 0.458 | 1.285 | 1.742 | |
| getRatioMatrix | 0.645 | 0.018 | 0.663 | |
| intensityBoxPlot | 0.607 | 0.005 | 0.612 | |
| makeSmartPhosDirectory | 0.001 | 0.012 | 0.023 | |
| medianNorm | 0.000 | 0.000 | 0.001 | |
| mscale | 0.001 | 0.000 | 0.001 | |
| normByFullProteome | 0.244 | 0.000 | 0.243 | |
| performCombinedNormalization | 0.132 | 0.148 | 0.279 | |
| performDifferentialExp | 0.275 | 0.004 | 0.278 | |
| plotHeatmap | 0.370 | 0.008 | 0.378 | |
| plotIntensity | 0.963 | 0.002 | 0.966 | |
| plotKinaseDE | 1.004 | 0.000 | 1.005 | |
| plotKinaseTimeSeries | 0.307 | 0.001 | 0.309 | |
| plotLogRatio | 1.006 | 0.001 | 1.008 | |
| plotMissing | 0.310 | 0.006 | 0.315 | |
| plotPCA | 0.268 | 0.001 | 0.270 | |
| plotTimeSeries | 0.456 | 0.002 | 0.458 | |
| plotVolcano | 0.563 | 0.007 | 0.569 | |
| preprocessPhos | 0.321 | 0.016 | 0.336 | |
| preprocessProteome | 0.256 | 0.009 | 0.265 | |
| readExperiment | 0.149 | 0.003 | 0.152 | |
| readExperimentDIA | 3.910 | 0.380 | 4.182 | |
| readPhosphoExperiment | 0.022 | 0.002 | 0.024 | |
| readPhosphoExperimentDIA | 1.643 | 0.208 | 1.824 | |
| readProteomeExperiment | 0.021 | 0.002 | 0.024 | |
| readProteomeExperimentDIA | 1.673 | 0.316 | 1.910 | |
| runFisher | 0.402 | 0.072 | 0.474 | |
| runSmartPhos | 0 | 0 | 0 | |
| swissProt | 0.235 | 0.020 | 0.255 | |