| Back to Multiple platform build/check report for BioC 3.22: simplified long |
|
This page was generated on 2025-10-25 12:07 -0400 (Sat, 25 Oct 2025).
| Hostname | OS | Arch (*) | R version | Installed pkgs |
|---|---|---|---|---|
| nebbiolo2 | Linux (Ubuntu 24.04.3 LTS) | x86_64 | 4.5.1 Patched (2025-08-23 r88802) -- "Great Square Root" | 4901 |
| lconway | macOS 12.7.6 Monterey | x86_64 | 4.5.1 Patched (2025-09-10 r88807) -- "Great Square Root" | 4691 |
| kjohnson3 | macOS 13.7.7 Ventura | arm64 | 4.5.1 Patched (2025-09-10 r88807) -- "Great Square Root" | 4637 |
| taishan | Linux (openEuler 24.03 LTS) | aarch64 | 4.5.0 (2025-04-11) -- "How About a Twenty-Six" | 4658 |
| Click on any hostname to see more info about the system (e.g. compilers) (*) as reported by 'uname -p', except on Windows and Mac OS X | ||||
| Package 2035/2361 | Hostname | OS / Arch | INSTALL | BUILD | CHECK | BUILD BIN | ||||||||
| SingleR 2.11.4 (landing page) Aaron Lun
| nebbiolo2 | Linux (Ubuntu 24.04.3 LTS) / x86_64 | OK | OK | OK | |||||||||
| lconway | macOS 12.7.6 Monterey / x86_64 | OK | OK | OK | OK | |||||||||
| kjohnson3 | macOS 13.7.7 Ventura / arm64 | OK | OK | OK | OK | |||||||||
| taishan | Linux (openEuler 24.03 LTS) / aarch64 | OK | NA | NA | ||||||||||
|
To the developers/maintainers of the SingleR package: - Allow up to 24 hours (and sometimes 48 hours) for your latest push to git@git.bioconductor.org:packages/SingleR.git to reflect on this report. See Troubleshooting Build Report for more information. - Use the following Renviron settings to reproduce errors and warnings. - If 'R CMD check' started to fail recently on the Linux builder(s) over a missing dependency, add the missing dependency to 'Suggests:' in your DESCRIPTION file. See Renviron.bioc for more information. - See Martin Grigorov's blog post for how to debug Linux ARM64 related issues on a x86_64 host. |
| Package: SingleR |
| Version: 2.11.4 |
| Command: /home/biocbuild/R/R/bin/R CMD INSTALL SingleR |
| StartedAt: 2025-10-23 20:38:14 -0000 (Thu, 23 Oct 2025) |
| EndedAt: 2025-10-23 20:39:46 -0000 (Thu, 23 Oct 2025) |
| EllapsedTime: 92.0 seconds |
| RetCode: 0 |
| Status: OK |
##############################################################################
##############################################################################
###
### Running command:
###
### /home/biocbuild/R/R/bin/R CMD INSTALL SingleR
###
##############################################################################
##############################################################################
* installing to library ‘/home/biocbuild/R/R-4.5.0/site-library’
* installing *source* package ‘SingleR’ ...
** this is package ‘SingleR’ version ‘2.11.4’
** using staged installation
** libs
using C++ compiler: ‘aarch64-unknown-linux-gnu-g++ (GCC) 14.2.0’
using C++17
/opt/ohpc/pub/compiler/gcc/14.2.0/bin/aarch64-unknown-linux-gnu-g++ -std=gnu++17 -I"/home/biocbuild/R/R-4.5.0/include" -DNDEBUG -I'/home/biocbuild/R/R-4.5.0/site-library/Rcpp/include' -I'/home/biocbuild/R/R-4.5.0/site-library/beachmat/include' -I'/home/biocbuild/R/R-4.5.0/site-library/assorthead/include' -I'/home/biocbuild/R/R-4.5.0/site-library/BiocNeighbors/include' -I/usr/local/include -fPIC -g -O2 -Wall -Werror=format-security -c RcppExports.cpp -o RcppExports.o
/opt/ohpc/pub/compiler/gcc/14.2.0/bin/aarch64-unknown-linux-gnu-g++ -std=gnu++17 -I"/home/biocbuild/R/R-4.5.0/include" -DNDEBUG -I'/home/biocbuild/R/R-4.5.0/site-library/Rcpp/include' -I'/home/biocbuild/R/R-4.5.0/site-library/beachmat/include' -I'/home/biocbuild/R/R-4.5.0/site-library/assorthead/include' -I'/home/biocbuild/R/R-4.5.0/site-library/BiocNeighbors/include' -I/usr/local/include -fPIC -g -O2 -Wall -Werror=format-security -c classify_integrated.cpp -o classify_integrated.o
/opt/ohpc/pub/compiler/gcc/14.2.0/bin/aarch64-unknown-linux-gnu-g++ -std=gnu++17 -I"/home/biocbuild/R/R-4.5.0/include" -DNDEBUG -I'/home/biocbuild/R/R-4.5.0/site-library/Rcpp/include' -I'/home/biocbuild/R/R-4.5.0/site-library/beachmat/include' -I'/home/biocbuild/R/R-4.5.0/site-library/assorthead/include' -I'/home/biocbuild/R/R-4.5.0/site-library/BiocNeighbors/include' -I/usr/local/include -fPIC -g -O2 -Wall -Werror=format-security -c classify_single.cpp -o classify_single.o
/opt/ohpc/pub/compiler/gcc/14.2.0/bin/aarch64-unknown-linux-gnu-g++ -std=gnu++17 -I"/home/biocbuild/R/R-4.5.0/include" -DNDEBUG -I'/home/biocbuild/R/R-4.5.0/site-library/Rcpp/include' -I'/home/biocbuild/R/R-4.5.0/site-library/beachmat/include' -I'/home/biocbuild/R/R-4.5.0/site-library/assorthead/include' -I'/home/biocbuild/R/R-4.5.0/site-library/BiocNeighbors/include' -I/usr/local/include -fPIC -g -O2 -Wall -Werror=format-security -c find_classic_markers.cpp -o find_classic_markers.o
/opt/ohpc/pub/compiler/gcc/14.2.0/bin/aarch64-unknown-linux-gnu-g++ -std=gnu++17 -I"/home/biocbuild/R/R-4.5.0/include" -DNDEBUG -I'/home/biocbuild/R/R-4.5.0/site-library/Rcpp/include' -I'/home/biocbuild/R/R-4.5.0/site-library/beachmat/include' -I'/home/biocbuild/R/R-4.5.0/site-library/assorthead/include' -I'/home/biocbuild/R/R-4.5.0/site-library/BiocNeighbors/include' -I/usr/local/include -fPIC -g -O2 -Wall -Werror=format-security -c grouped_medians.cpp -o grouped_medians.o
/opt/ohpc/pub/compiler/gcc/14.2.0/bin/aarch64-unknown-linux-gnu-g++ -std=gnu++17 -I"/home/biocbuild/R/R-4.5.0/include" -DNDEBUG -I'/home/biocbuild/R/R-4.5.0/site-library/Rcpp/include' -I'/home/biocbuild/R/R-4.5.0/site-library/beachmat/include' -I'/home/biocbuild/R/R-4.5.0/site-library/assorthead/include' -I'/home/biocbuild/R/R-4.5.0/site-library/BiocNeighbors/include' -I/usr/local/include -fPIC -g -O2 -Wall -Werror=format-security -c set_executor.cpp -o set_executor.o
/opt/ohpc/pub/compiler/gcc/14.2.0/bin/aarch64-unknown-linux-gnu-g++ -std=gnu++17 -I"/home/biocbuild/R/R-4.5.0/include" -DNDEBUG -I'/home/biocbuild/R/R-4.5.0/site-library/Rcpp/include' -I'/home/biocbuild/R/R-4.5.0/site-library/beachmat/include' -I'/home/biocbuild/R/R-4.5.0/site-library/assorthead/include' -I'/home/biocbuild/R/R-4.5.0/site-library/BiocNeighbors/include' -I/usr/local/include -fPIC -g -O2 -Wall -Werror=format-security -c train_integrated.cpp -o train_integrated.o
/opt/ohpc/pub/compiler/gcc/14.2.0/bin/aarch64-unknown-linux-gnu-g++ -std=gnu++17 -I"/home/biocbuild/R/R-4.5.0/include" -DNDEBUG -I'/home/biocbuild/R/R-4.5.0/site-library/Rcpp/include' -I'/home/biocbuild/R/R-4.5.0/site-library/beachmat/include' -I'/home/biocbuild/R/R-4.5.0/site-library/assorthead/include' -I'/home/biocbuild/R/R-4.5.0/site-library/BiocNeighbors/include' -I/usr/local/include -fPIC -g -O2 -Wall -Werror=format-security -c train_single.cpp -o train_single.o
train_single.cpp: In function ‘SEXPREC* train_single(Rcpp::IntegerVector, Rcpp::RObject, Rcpp::IntegerVector, Rcpp::IntegerVector, Rcpp::List, Rcpp::RObject, int)’:
train_single.cpp:19:9: warning: unused variable ‘NR’ [-Wunused-variable]
19 | int NR = parsed->ptr->nrow();
| ^~
/opt/ohpc/pub/compiler/gcc/14.2.0/bin/aarch64-unknown-linux-gnu-g++ -std=gnu++17 -shared -L/home/biocbuild/R/R-4.5.0/lib -L/usr/local/lib -o SingleR.so RcppExports.o classify_integrated.o classify_single.o find_classic_markers.o grouped_medians.o set_executor.o train_integrated.o train_single.o -L/home/biocbuild/R/R-4.5.0/lib -lR
installing to /home/biocbuild/R/R-4.5.0/site-library/00LOCK-SingleR/00new/SingleR/libs
** R
** inst
** byte-compile and prepare package for lazy loading
** help
*** installing help indices
** building package indices
** installing vignettes
** testing if installed package can be loaded from temporary location
** checking absolute paths in shared objects and dynamic libraries
** testing if installed package can be loaded from final location
** testing if installed package keeps a record of temporary installation path
* DONE (SingleR)