Back to Build/check report for BioC 3.23:   simplified   long
ABCDEFGHIJKLMNOPQR[S]TUVWXYZ

This page was generated on 2025-11-01 11:33 -0400 (Sat, 01 Nov 2025).

HostnameOSArch (*)R versionInstalled pkgs
nebbiolo1Linux (Ubuntu 24.04.3 LTS)x86_64R Under development (unstable) (2025-10-20 r88955) -- "Unsuffered Consequences" 4774
Click on any hostname to see more info about the system (e.g. compilers)      (*) as reported by 'uname -p', except on Windows and Mac OS X

Package 1970/2321HostnameOS / ArchINSTALLBUILDCHECKBUILD BIN
ShortRead 1.69.1  (landing page)
Bioconductor Package Maintainer
Snapshot Date: 2025-10-31 13:40 -0400 (Fri, 31 Oct 2025)
git_url: https://git.bioconductor.org/packages/ShortRead
git_branch: devel
git_last_commit: c488f29
git_last_commit_date: 2025-10-31 12:50:57 -0400 (Fri, 31 Oct 2025)
nebbiolo1Linux (Ubuntu 24.04.3 LTS) / x86_64  OK    OK    WARNINGS  YES


BUILD results for ShortRead on nebbiolo1

To the developers/maintainers of the ShortRead package:
- Allow up to 24 hours (and sometimes 48 hours) for your latest push to git@git.bioconductor.org:packages/ShortRead.git to reflect on this report. See Troubleshooting Build Report for more information.
- Use the following Renviron settings to reproduce errors and warnings.
- If 'R CMD check' started to fail recently on the Linux builder(s) over a missing dependency, add the missing dependency to 'Suggests:' in your DESCRIPTION file. See Renviron.bioc for more information.

raw results


Summary

Package: ShortRead
Version: 1.69.1
Command: /home/biocbuild/bbs-3.23-bioc/R/bin/R CMD build --keep-empty-dirs --no-resave-data ShortRead
StartedAt: 2025-10-31 20:11:10 -0400 (Fri, 31 Oct 2025)
EndedAt: 2025-10-31 20:12:15 -0400 (Fri, 31 Oct 2025)
EllapsedTime: 65.1 seconds
RetCode: 0
Status:   OK  
PackageFile: ShortRead_1.69.1.tar.gz
PackageFileSize: 5.06 MiB

Command output

##############################################################################
##############################################################################
###
### Running command:
###
###   /home/biocbuild/bbs-3.23-bioc/R/bin/R CMD build --keep-empty-dirs --no-resave-data ShortRead
###
##############################################################################
##############################################################################


* checking for file ‘ShortRead/DESCRIPTION’ ... OK
* preparing ‘ShortRead’:
* checking DESCRIPTION meta-information ... OK
* cleaning src
* running ‘cleanup’
* installing the package (it is needed to build vignettes)
* creating vignettes ... OK
* cleaning src
* running ‘cleanup’
* checking for LF line-endings in source and make files and shell scripts
* checking for empty or unneeded directories
* building ‘ShortRead_1.69.1.tar.gz’