| Back to Build/check report for BioC 3.23: simplified long |
|
This page was generated on 2025-10-31 08:34 -0400 (Fri, 31 Oct 2025).
| Hostname | OS | Arch (*) | R version | Installed pkgs |
|---|---|---|---|---|
| nebbiolo1 | Linux (Ubuntu 24.04.3 LTS) | x86_64 | R Under development (unstable) (2025-10-20 r88955) -- "Unsuffered Consequences" | 4428 |
| Click on any hostname to see more info about the system (e.g. compilers) (*) as reported by 'uname -p', except on Windows and Mac OS X | ||||
| Package 1954/2321 | Hostname | OS / Arch | INSTALL | BUILD | CHECK | BUILD BIN | ||||||||
| SeqSQC 1.33.0 (landing page) Qian Liu
| nebbiolo1 | Linux (Ubuntu 24.04.3 LTS) / x86_64 | OK | OK | WARNINGS | |||||||||
|
To the developers/maintainers of the SeqSQC package: - Allow up to 24 hours (and sometimes 48 hours) for your latest push to git@git.bioconductor.org:packages/SeqSQC.git to reflect on this report. See Troubleshooting Build Report for more information. - Use the following Renviron settings to reproduce errors and warnings. - If 'R CMD check' started to fail recently on the Linux builder(s) over a missing dependency, add the missing dependency to 'Suggests:' in your DESCRIPTION file. See Renviron.bioc for more information. |
| Package: SeqSQC |
| Version: 1.33.0 |
| Command: /home/biocbuild/bbs-3.23-bioc/R/bin/R CMD INSTALL SeqSQC |
| StartedAt: 2025-10-30 15:25:33 -0400 (Thu, 30 Oct 2025) |
| EndedAt: 2025-10-30 15:25:54 -0400 (Thu, 30 Oct 2025) |
| EllapsedTime: 20.7 seconds |
| RetCode: 0 |
| Status: OK |
############################################################################## ############################################################################## ### ### Running command: ### ### /home/biocbuild/bbs-3.23-bioc/R/bin/R CMD INSTALL SeqSQC ### ############################################################################## ############################################################################## * installing to library ‘/home/biocbuild/bbs-3.23-bioc/R/site-library’ * installing *source* package ‘SeqSQC’ ... ** this is package ‘SeqSQC’ version ‘1.33.0’ ** using staged installation ** R ** inst ** byte-compile and prepare package for lazy loading Warning: replacing previous import ‘e1071::element’ by ‘ggplot2::element’ when loading ‘SeqSQC’ Warning: replacing previous import ‘S4Vectors::rename’ by ‘plotly::rename’ when loading ‘SeqSQC’ Warning: replacing previous import ‘IRanges::slice’ by ‘plotly::slice’ when loading ‘SeqSQC’ Warning: replacing previous import ‘ggplot2::last_plot’ by ‘plotly::last_plot’ when loading ‘SeqSQC’ ** help *** installing help indices ** building package indices ** installing vignettes ** testing if installed package can be loaded from temporary location Warning: replacing previous import ‘e1071::element’ by ‘ggplot2::element’ when loading ‘SeqSQC’ Warning: replacing previous import ‘S4Vectors::rename’ by ‘plotly::rename’ when loading ‘SeqSQC’ Warning: replacing previous import ‘IRanges::slice’ by ‘plotly::slice’ when loading ‘SeqSQC’ Warning: replacing previous import ‘ggplot2::last_plot’ by ‘plotly::last_plot’ when loading ‘SeqSQC’ ** testing if installed package can be loaded from final location Warning: replacing previous import ‘e1071::element’ by ‘ggplot2::element’ when loading ‘SeqSQC’ Warning: replacing previous import ‘S4Vectors::rename’ by ‘plotly::rename’ when loading ‘SeqSQC’ Warning: replacing previous import ‘IRanges::slice’ by ‘plotly::slice’ when loading ‘SeqSQC’ Warning: replacing previous import ‘ggplot2::last_plot’ by ‘plotly::last_plot’ when loading ‘SeqSQC’ ** testing if installed package keeps a record of temporary installation path * DONE (SeqSQC)