| Back to Multiple platform build/check report for BioC 3.22: simplified long |
|
This page was generated on 2025-08-15 12:07 -0400 (Fri, 15 Aug 2025).
| Hostname | OS | Arch (*) | R version | Installed pkgs |
|---|---|---|---|---|
| nebbiolo2 | Linux (Ubuntu 24.04.3 LTS) | x86_64 | 4.5.1 (2025-06-13) -- "Great Square Root" | 4818 |
| palomino8 | Windows Server 2022 Datacenter | x64 | 4.5.1 (2025-06-13 ucrt) -- "Great Square Root" | 4554 |
| lconway | macOS 12.7.1 Monterey | x86_64 | 4.5.1 (2025-06-13) -- "Great Square Root" | 4595 |
| kjohnson3 | macOS 13.7.7 Ventura | arm64 | 4.5.1 Patched (2025-06-14 r88325) -- "Great Square Root" | 4537 |
| taishan | Linux (openEuler 24.03 LTS) | aarch64 | 4.5.0 (2025-04-11) -- "How About a Twenty-Six" | 4535 |
| Click on any hostname to see more info about the system (e.g. compilers) (*) as reported by 'uname -p', except on Windows and Mac OS X | ||||
| Package 2120/2317 | Hostname | OS / Arch | INSTALL | BUILD | CHECK | BUILD BIN | ||||||||
| SVP 1.1.0 (landing page) Shuangbin Xu
| nebbiolo2 | Linux (Ubuntu 24.04.3 LTS) / x86_64 | OK | OK | OK | |||||||||
| palomino8 | Windows Server 2022 Datacenter / x64 | OK | OK | OK | OK | |||||||||
| lconway | macOS 12.7.1 Monterey / x86_64 | OK | OK | OK | OK | |||||||||
| kjohnson3 | macOS 13.7.7 Ventura / arm64 | OK | OK | OK | OK | |||||||||
| taishan | Linux (openEuler 24.03 LTS) / aarch64 | OK | ERROR | skipped | ||||||||||
|
To the developers/maintainers of the SVP package: - Allow up to 24 hours (and sometimes 48 hours) for your latest push to git@git.bioconductor.org:packages/SVP.git to reflect on this report. See Troubleshooting Build Report for more information. - Use the following Renviron settings to reproduce errors and warnings. - If 'R CMD check' started to fail recently on the Linux builder(s) over a missing dependency, add the missing dependency to 'Suggests:' in your DESCRIPTION file. See Renviron.bioc for more information. |
| Package: SVP |
| Version: 1.1.0 |
| Command: F:\biocbuild\bbs-3.22-bioc\R\bin\R.exe CMD check --no-multiarch --install=check:SVP.install-out.txt --library=F:\biocbuild\bbs-3.22-bioc\R\library --no-vignettes --timings SVP_1.1.0.tar.gz |
| StartedAt: 2025-08-15 08:35:53 -0400 (Fri, 15 Aug 2025) |
| EndedAt: 2025-08-15 08:42:11 -0400 (Fri, 15 Aug 2025) |
| EllapsedTime: 377.8 seconds |
| RetCode: 0 |
| Status: OK |
| CheckDir: SVP.Rcheck |
| Warnings: 0 |
##############################################################################
##############################################################################
###
### Running command:
###
### F:\biocbuild\bbs-3.22-bioc\R\bin\R.exe CMD check --no-multiarch --install=check:SVP.install-out.txt --library=F:\biocbuild\bbs-3.22-bioc\R\library --no-vignettes --timings SVP_1.1.0.tar.gz
###
##############################################################################
##############################################################################
* using log directory 'F:/biocbuild/bbs-3.22-bioc/meat/SVP.Rcheck'
* using R version 4.5.1 (2025-06-13 ucrt)
* using platform: x86_64-w64-mingw32
* R was compiled by
gcc.exe (GCC) 14.2.0
GNU Fortran (GCC) 14.2.0
* running under: Windows Server 2022 x64 (build 20348)
* using session charset: UTF-8
* using option '--no-vignettes'
* checking for file 'SVP/DESCRIPTION' ... OK
* this is package 'SVP' version '1.1.0'
* package encoding: UTF-8
* checking package namespace information ... OK
* checking package dependencies ... INFO
Imports includes 22 non-default packages.
Importing from so many packages makes the package vulnerable to any of
them becoming unavailable. Move as many as possible to Suggests and
use conditionally.
* checking if this is a source package ... OK
* checking if there is a namespace ... OK
* checking for hidden files and directories ... OK
* checking for portable file names ... OK
* checking whether package 'SVP' can be installed ... OK
* used C++ compiler: 'G__~1.EXE (GCC) 14.2.0'
* checking installed package size ... INFO
installed size is 5.0Mb
sub-directories of 1Mb or more:
R 1.3Mb
data 1.6Mb
libs 1.9Mb
* checking package directory ... OK
* checking 'build' directory ... OK
* checking DESCRIPTION meta-information ... OK
* checking top-level files ... OK
* checking for left-over files ... OK
* checking index information ... OK
* checking package subdirectories ... OK
* checking code files for non-ASCII characters ... OK
* checking R files for syntax errors ... OK
* checking whether the package can be loaded ... OK
* checking whether the package can be loaded with stated dependencies ... OK
* checking whether the package can be unloaded cleanly ... OK
* checking whether the namespace can be loaded with stated dependencies ... OK
* checking whether the namespace can be unloaded cleanly ... OK
* checking dependencies in R code ... OK
* checking S3 generic/method consistency ... OK
* checking replacement functions ... OK
* checking foreign function calls ... OK
* checking R code for possible problems ... OK
* checking Rd files ... OK
* checking Rd metadata ... OK
* checking Rd cross-references ... NOTE
Found the following Rd file(s) with Rd \link{} targets missing package
anchors:
LISAResult.Rd: SingleCellExperiment-class
LISAsce-method.Rd: SingleCellExperiment-class,
SpatialExperiment-class
SVPExperiment.Rd: SingleCellExperiment, SingleCellExperiment-class
cal_lisa_f1-method.Rd: SingleCellExperiment-class
cluster.assign-method.Rd: SingleCellExperiment-class
data_hpda_spe_cell_dec.Rd: SpatialExperiment-class
data_sceSubPbmc.Rd: SingleCellExperiment-class
extract_weight_adj-method.Rd: SingleCellExperiment-class,
SpatialExperiment-class
fscoreDfs.Rd: SingleCellExperiment-class, DataFrame-class, List-class
gsvaExps.Rd: SingleCellExperiment-class, colData, List-class,
assay<-, Annotated-class, metadata, Vector-class, mcols
mob_sce.Rd: SingleCellExperiment-class
pred.cell.signature-method.Rd: SingleCellExperiment-class
runCORR-method.Rd: SingleCellExperiment-class,
SpatialExperiment-class
runDetectSVG-method.Rd: SingleCellExperiment-class,
SpatialExperiment-class, SimpleList-class, DataFrame-class
runENCODE-method.Rd: SingleCellExperiment-class,
SpatialExperiment-class
runGLOBALBV-method.Rd: SingleCellExperiment-class,
SpatialExperiment-class
runKldSVG-method.Rd: SingleCellExperiment-class,
SpatialExperiment-class, SimpleList-class, DataFrame-class
runLISA-method.Rd: SingleCellExperiment-class,
SpatialExperiment-class, SimpleList-class
runLOCALBV-method.Rd: SingleCellExperiment-class,
SpatialExperiment-class, SimpleList-class
runMCA-method.Rd: SingleCellExperiment-class
runSGSA-method.Rd: SingleCellExperiment-class
runWKDE-method.Rd: SingleCellExperiment-class,
SpatialExperiment-class
svDfs.Rd: SingleCellExperiment-class, DataFrame-class, List-class
Please provide package anchors for all Rd \link{} targets not in the
package itself and the base packages.
* checking for missing documentation entries ... OK
* checking for code/documentation mismatches ... OK
* checking Rd \usage sections ... OK
* checking Rd contents ... OK
* checking for unstated dependencies in examples ... OK
* checking contents of 'data' directory ... OK
* checking data for non-ASCII characters ... OK
* checking data for ASCII and uncompressed saves ... OK
* checking line endings in C/C++/Fortran sources/headers ... OK
* checking line endings in Makefiles ... OK
* checking compilation flags in Makevars ... OK
* checking for GNU extensions in Makefiles ... INFO
GNU make is a SystemRequirements.
* checking for portable use of $(BLAS_LIBS) and $(LAPACK_LIBS) ... OK
* checking use of PKG_*FLAGS in Makefiles ... OK
* checking compiled code ... NOTE
Note: information on .o files for x64 is not available
File 'F:/biocbuild/bbs-3.22-bioc/R/library/SVP/libs/x64/SVP.dll':
Found '_assert', possibly from 'assert' (C)
Found '_exit', possibly from '_exit' (C)
Found 'abort', possibly from 'abort' (C), 'runtime' (Fortran)
Found 'exit', possibly from 'exit' (C), 'stop' (Fortran)
Compiled code should not call entry points which might terminate R nor
write to stdout/stderr instead of to the console, nor use Fortran I/O
nor system RNGs nor [v]sprintf. The detected symbols are linked into
the code but might come from libraries and not actually be called.
See 'Writing portable packages' in the 'Writing R Extensions' manual.
* checking files in 'vignettes' ... OK
* checking examples ... OK
Examples with CPU (user + system) or elapsed time > 5s
user system elapsed
runKldSVG-method 21.54 0.44 2.31
runSGSA-method 19.30 0.59 20.17
runWKDE-method 5.26 0.45 2.30
as_tbl_df 4.53 0.19 5.08
* checking for unstated dependencies in 'tests' ... OK
* checking tests ...
Running 'testthat.R'
OK
* checking for unstated dependencies in vignettes ... OK
* checking package vignettes ... OK
* checking running R code from vignettes ... SKIPPED
* checking re-building of vignette outputs ... SKIPPED
* checking PDF version of manual ... OK
* DONE
Status: 2 NOTEs
See
'F:/biocbuild/bbs-3.22-bioc/meat/SVP.Rcheck/00check.log'
for details.
SVP.Rcheck/00install.out
############################################################################## ############################################################################## ### ### Running command: ### ### F:\biocbuild\bbs-3.22-bioc\R\bin\R.exe CMD INSTALL SVP ### ############################################################################## ############################################################################## * installing to library 'F:/biocbuild/bbs-3.22-bioc/R/library' * installing *source* package 'SVP' ... ** this is package 'SVP' version '1.1.0' ** using staged installation ** libs using C++ compiler: 'G__~1.EXE (GCC) 14.2.0' g++ -std=gnu++17 -I"F:/biocbuild/bbs-3.22-bioc/R/include" -DNDEBUG -I'F:/biocbuild/bbs-3.22-bioc/R/library/Rcpp/include' -I'F:/biocbuild/bbs-3.22-bioc/R/library/RcppArmadillo/include' -I'F:/biocbuild/bbs-3.22-bioc/R/library/RcppParallel/include' -I'F:/biocbuild/bbs-3.22-bioc/R/library/RcppEigen/include' -I'F:/biocbuild/bbs-3.22-bioc/R/library/dqrng/include' -I"C:/rtools45/x86_64-w64-mingw32.static.posix/include" -fopenmp -DARMA_64BIT_WORD -DNDEBUG -DEIGEN_DONT_VECTORIZE -O2 -Wall -mfpmath=sse -msse2 -mstackrealign -c RcppExports.cpp -o RcppExports.o g++ -std=gnu++17 -I"F:/biocbuild/bbs-3.22-bioc/R/include" -DNDEBUG -I'F:/biocbuild/bbs-3.22-bioc/R/library/Rcpp/include' -I'F:/biocbuild/bbs-3.22-bioc/R/library/RcppArmadillo/include' -I'F:/biocbuild/bbs-3.22-bioc/R/library/RcppParallel/include' -I'F:/biocbuild/bbs-3.22-bioc/R/library/RcppEigen/include' -I'F:/biocbuild/bbs-3.22-bioc/R/library/dqrng/include' -I"C:/rtools45/x86_64-w64-mingw32.static.posix/include" -fopenmp -DARMA_64BIT_WORD -DNDEBUG -DEIGEN_DONT_VECTORIZE -O2 -Wall -mfpmath=sse -msse2 -mstackrealign -c autocorutils.cpp -o autocorutils.o g++ -std=gnu++17 -I"F:/biocbuild/bbs-3.22-bioc/R/include" -DNDEBUG -I'F:/biocbuild/bbs-3.22-bioc/R/library/Rcpp/include' -I'F:/biocbuild/bbs-3.22-bioc/R/library/RcppArmadillo/include' -I'F:/biocbuild/bbs-3.22-bioc/R/library/RcppParallel/include' -I'F:/biocbuild/bbs-3.22-bioc/R/library/RcppEigen/include' -I'F:/biocbuild/bbs-3.22-bioc/R/library/dqrng/include' -I"C:/rtools45/x86_64-w64-mingw32.static.posix/include" -fopenmp -DARMA_64BIT_WORD -DNDEBUG -DEIGEN_DONT_VECTORIZE -O2 -Wall -mfpmath=sse -msse2 -mstackrealign -c bisp.cpp -o bisp.o g++ -std=gnu++17 -I"F:/biocbuild/bbs-3.22-bioc/R/include" -DNDEBUG -I'F:/biocbuild/bbs-3.22-bioc/R/library/Rcpp/include' -I'F:/biocbuild/bbs-3.22-bioc/R/library/RcppArmadillo/include' -I'F:/biocbuild/bbs-3.22-bioc/R/library/RcppParallel/include' -I'F:/biocbuild/bbs-3.22-bioc/R/library/RcppEigen/include' -I'F:/biocbuild/bbs-3.22-bioc/R/library/dqrng/include' -I"C:/rtools45/x86_64-w64-mingw32.static.posix/include" -fopenmp -DARMA_64BIT_WORD -DNDEBUG -DEIGEN_DONT_VECTORIZE -O2 -Wall -mfpmath=sse -msse2 -mstackrealign -c cor.cpp -o cor.o g++ -std=gnu++17 -I"F:/biocbuild/bbs-3.22-bioc/R/include" -DNDEBUG -I'F:/biocbuild/bbs-3.22-bioc/R/library/Rcpp/include' -I'F:/biocbuild/bbs-3.22-bioc/R/library/RcppArmadillo/include' -I'F:/biocbuild/bbs-3.22-bioc/R/library/RcppParallel/include' -I'F:/biocbuild/bbs-3.22-bioc/R/library/RcppEigen/include' -I'F:/biocbuild/bbs-3.22-bioc/R/library/dqrng/include' -I"C:/rtools45/x86_64-w64-mingw32.static.posix/include" -fopenmp -DARMA_64BIT_WORD -DNDEBUG -DEIGEN_DONT_VECTORIZE -O2 -Wall -mfpmath=sse -msse2 -mstackrealign -c extract.cpp -o extract.o g++ -std=gnu++17 -I"F:/biocbuild/bbs-3.22-bioc/R/include" -DNDEBUG -I'F:/biocbuild/bbs-3.22-bioc/R/library/Rcpp/include' -I'F:/biocbuild/bbs-3.22-bioc/R/library/RcppArmadillo/include' -I'F:/biocbuild/bbs-3.22-bioc/R/library/RcppParallel/include' -I'F:/biocbuild/bbs-3.22-bioc/R/library/RcppEigen/include' -I'F:/biocbuild/bbs-3.22-bioc/R/library/dqrng/include' -I"C:/rtools45/x86_64-w64-mingw32.static.posix/include" -fopenmp -DARMA_64BIT_WORD -DNDEBUG -DEIGEN_DONT_VECTORIZE -O2 -Wall -mfpmath=sse -msse2 -mstackrealign -c gearysc.cpp -o gearysc.o g++ -std=gnu++17 -I"F:/biocbuild/bbs-3.22-bioc/R/include" -DNDEBUG -I'F:/biocbuild/bbs-3.22-bioc/R/library/Rcpp/include' -I'F:/biocbuild/bbs-3.22-bioc/R/library/RcppArmadillo/include' -I'F:/biocbuild/bbs-3.22-bioc/R/library/RcppParallel/include' -I'F:/biocbuild/bbs-3.22-bioc/R/library/RcppEigen/include' -I'F:/biocbuild/bbs-3.22-bioc/R/library/dqrng/include' -I"C:/rtools45/x86_64-w64-mingw32.static.posix/include" -fopenmp -DARMA_64BIT_WORD -DNDEBUG -DEIGEN_DONT_VECTORIZE -O2 -Wall -mfpmath=sse -msse2 -mstackrealign -c getisord.cpp -o getisord.o g++ -std=gnu++17 -I"F:/biocbuild/bbs-3.22-bioc/R/include" -DNDEBUG -I'F:/biocbuild/bbs-3.22-bioc/R/library/Rcpp/include' -I'F:/biocbuild/bbs-3.22-bioc/R/library/RcppArmadillo/include' -I'F:/biocbuild/bbs-3.22-bioc/R/library/RcppParallel/include' -I'F:/biocbuild/bbs-3.22-bioc/R/library/RcppEigen/include' -I'F:/biocbuild/bbs-3.22-bioc/R/library/dqrng/include' -I"C:/rtools45/x86_64-w64-mingw32.static.posix/include" -fopenmp -DARMA_64BIT_WORD -DNDEBUG -DEIGEN_DONT_VECTORIZE -O2 -Wall -mfpmath=sse -msse2 -mstackrealign -c kld.cpp -o kld.o g++ -std=gnu++17 -I"F:/biocbuild/bbs-3.22-bioc/R/include" -DNDEBUG -I'F:/biocbuild/bbs-3.22-bioc/R/library/Rcpp/include' -I'F:/biocbuild/bbs-3.22-bioc/R/library/RcppArmadillo/include' -I'F:/biocbuild/bbs-3.22-bioc/R/library/RcppParallel/include' -I'F:/biocbuild/bbs-3.22-bioc/R/library/RcppEigen/include' -I'F:/biocbuild/bbs-3.22-bioc/R/library/dqrng/include' -I"C:/rtools45/x86_64-w64-mingw32.static.posix/include" -fopenmp -DARMA_64BIT_WORD -DNDEBUG -DEIGEN_DONT_VECTORIZE -O2 -Wall -mfpmath=sse -msse2 -mstackrealign -c lisa.cpp -o lisa.o g++ -std=gnu++17 -I"F:/biocbuild/bbs-3.22-bioc/R/include" -DNDEBUG -I'F:/biocbuild/bbs-3.22-bioc/R/library/Rcpp/include' -I'F:/biocbuild/bbs-3.22-bioc/R/library/RcppArmadillo/include' -I'F:/biocbuild/bbs-3.22-bioc/R/library/RcppParallel/include' -I'F:/biocbuild/bbs-3.22-bioc/R/library/RcppEigen/include' -I'F:/biocbuild/bbs-3.22-bioc/R/library/dqrng/include' -I"C:/rtools45/x86_64-w64-mingw32.static.posix/include" -fopenmp -DARMA_64BIT_WORD -DNDEBUG -DEIGEN_DONT_VECTORIZE -O2 -Wall -mfpmath=sse -msse2 -mstackrealign -c mca.cpp -o mca.o g++ -std=gnu++17 -I"F:/biocbuild/bbs-3.22-bioc/R/include" -DNDEBUG -I'F:/biocbuild/bbs-3.22-bioc/R/library/Rcpp/include' -I'F:/biocbuild/bbs-3.22-bioc/R/library/RcppArmadillo/include' -I'F:/biocbuild/bbs-3.22-bioc/R/library/RcppParallel/include' -I'F:/biocbuild/bbs-3.22-bioc/R/library/RcppEigen/include' -I'F:/biocbuild/bbs-3.22-bioc/R/library/dqrng/include' -I"C:/rtools45/x86_64-w64-mingw32.static.posix/include" -fopenmp -DARMA_64BIT_WORD -DNDEBUG -DEIGEN_DONT_VECTORIZE -O2 -Wall -mfpmath=sse -msse2 -mstackrealign -c metric.cpp -o metric.o g++ -std=gnu++17 -I"F:/biocbuild/bbs-3.22-bioc/R/include" -DNDEBUG -I'F:/biocbuild/bbs-3.22-bioc/R/library/Rcpp/include' -I'F:/biocbuild/bbs-3.22-bioc/R/library/RcppArmadillo/include' -I'F:/biocbuild/bbs-3.22-bioc/R/library/RcppParallel/include' -I'F:/biocbuild/bbs-3.22-bioc/R/library/RcppEigen/include' -I'F:/biocbuild/bbs-3.22-bioc/R/library/dqrng/include' -I"C:/rtools45/x86_64-w64-mingw32.static.posix/include" -fopenmp -DARMA_64BIT_WORD -DNDEBUG -DEIGEN_DONT_VECTORIZE -O2 -Wall -mfpmath=sse -msse2 -mstackrealign -c moransi.cpp -o moransi.o g++ -std=gnu++17 -I"F:/biocbuild/bbs-3.22-bioc/R/include" -DNDEBUG -I'F:/biocbuild/bbs-3.22-bioc/R/library/Rcpp/include' -I'F:/biocbuild/bbs-3.22-bioc/R/library/RcppArmadillo/include' -I'F:/biocbuild/bbs-3.22-bioc/R/library/RcppParallel/include' -I'F:/biocbuild/bbs-3.22-bioc/R/library/RcppEigen/include' -I'F:/biocbuild/bbs-3.22-bioc/R/library/dqrng/include' -I"C:/rtools45/x86_64-w64-mingw32.static.posix/include" -fopenmp -DARMA_64BIT_WORD -DNDEBUG -DEIGEN_DONT_VECTORIZE -O2 -Wall -mfpmath=sse -msse2 -mstackrealign -c pairknn.cpp -o pairknn.o g++ -std=gnu++17 -I"F:/biocbuild/bbs-3.22-bioc/R/include" -DNDEBUG -I'F:/biocbuild/bbs-3.22-bioc/R/library/Rcpp/include' -I'F:/biocbuild/bbs-3.22-bioc/R/library/RcppArmadillo/include' -I'F:/biocbuild/bbs-3.22-bioc/R/library/RcppParallel/include' -I'F:/biocbuild/bbs-3.22-bioc/R/library/RcppEigen/include' -I'F:/biocbuild/bbs-3.22-bioc/R/library/dqrng/include' -I"C:/rtools45/x86_64-w64-mingw32.static.posix/include" -fopenmp -DARMA_64BIT_WORD -DNDEBUG -DEIGEN_DONT_VECTORIZE -O2 -Wall -mfpmath=sse -msse2 -mstackrealign -c rwr.cpp -o rwr.o g++ -std=gnu++17 -shared -s -static-libgcc -o SVP.dll tmp.def RcppExports.o autocorutils.o bisp.o cor.o extract.o gearysc.o getisord.o kld.o lisa.o mca.o metric.o moransi.o pairknn.o rwr.o -fopenmp -LF:/biocbuild/bbs-3.22-bioc/R/bin/x64 -lRlapack -LF:/biocbuild/bbs-3.22-bioc/R/bin/x64 -lRblas -lgfortran -lquadmath -LF:/biocbuild/bbs-3.22-bioc/R/library/RcppParallel/libs/x64 -lRcppParallel -LF:/biocbuild/bbs-3.22-bioc/R/library/RcppParallel/lib/x64 -ltbb -ltbbmalloc -LC:/rtools45/x86_64-w64-mingw32.static.posix/lib/x64 -LC:/rtools45/x86_64-w64-mingw32.static.posix/lib -LF:/biocbuild/bbs-3.22-bioc/R/bin/x64 -lR installing to F:/biocbuild/bbs-3.22-bioc/R/library/00LOCK-SVP/00new/SVP/libs/x64 ** R ** data ** byte-compile and prepare package for lazy loading ** help *** installing help indices ** building package indices ** installing vignettes ** testing if installed package can be loaded from temporary location ** testing if installed package can be loaded from final location ** testing if installed package keeps a record of temporary installation path * DONE (SVP)
SVP.Rcheck/tests/testthat.Rout
R version 4.5.1 (2025-06-13 ucrt) -- "Great Square Root"
Copyright (C) 2025 The R Foundation for Statistical Computing
Platform: x86_64-w64-mingw32/x64
R is free software and comes with ABSOLUTELY NO WARRANTY.
You are welcome to redistribute it under certain conditions.
Type 'license()' or 'licence()' for distribution details.
R is a collaborative project with many contributors.
Type 'contributors()' for more information and
'citation()' on how to cite R or R packages in publications.
Type 'demo()' for some demos, 'help()' for on-line help, or
'help.start()' for an HTML browser interface to help.
Type 'q()' to quit R.
> # This file is part of the standard setup for testthat.
> # It is recommended that you do not modify it.
> #
> # Where should you do additional test configuration?
> # Learn more about the roles of various files in:
> # * https://r-pkgs.org/testing-design.html#sec-tests-files-overview
> # * https://testthat.r-lib.org/articles/special-files.html
>
> library(testthat)
> library(SVP)
>
> test_check("SVP")
0% 10 20 30 40 50 60 70 80 90 100%
|----|----|----|----|----|----|----|----|----|----|
***************************************************
0% 10 20 30 40 50 60 70 80 90 100%
|----|----|----|----|----|----|----|----|----|----|
***************************************************
0% 10 20 30 40 50 60 70 80 90 100%
|----|----|----|----|----|----|----|----|----|----|
***************************************************
0% 10 20 30 40 50 60 70 80 90 100%
|----|----|----|----|----|----|----|----|----|----|
***************************************************
0% 10 20 30 40 50 60 70 80 90 100%
|----|----|----|----|----|----|----|----|----|----|
***************************************************
0% 10 20 30 40 50 60 70 80 90 100%
|----|----|----|----|----|----|----|----|----|----|
***************************************************
0% 10 20 30 40 50 60 70 80 90 100%
|----|----|----|----|----|----|----|----|----|----|
***************************************************
elapsed time is 0.050000 seconds
0% 10 20 30 40 50 60 70 80 90 100%
|----|----|----|----|----|----|----|----|----|----|
***************************************************
elapsed time is 0.030000 seconds
0% 10 20 30 40 50 60 70 80 90 100%
|----|----|----|----|----|----|----|----|----|----|
***************************************************
elapsed time is 0.030000 seconds
0% 10 20 30 40 50 60 70 80 90 100%
|----|----|----|----|----|----|----|----|----|----|
***************************************************
elapsed time is 1.420000 seconds
0% 10 20 30 40 50 60 70 80 90 100%
|----|----|----|----|----|----|----|----|----|----|
***************************************************
0% 10 20 30 40 50 60 70 80 90 100%
|----|----|----|----|----|----|----|----|----|----|
***************************************************
0% 10 20 30 40 50 60 70 80 90 100%
|----|----|----|----|----|----|----|----|----|----|
***************************************************
The result is added to the input object, which can be extracted using
`LISAResult()` with `type='localG.SVP'`, and a specified `features`.
[ FAIL 0 | WARN 0 | SKIP 0 | PASS 43 ]
>
> proc.time()
user system elapsed
36.51 2.07 17.37
SVP.Rcheck/SVP-Ex.timings
| name | user | system | elapsed | |
| CellCycle.Hs | 0.01 | 0.00 | 0.02 | |
| LISAResult | 0.77 | 0.06 | 0.82 | |
| LISAsce-method | 1.97 | 0.04 | 2.02 | |
| SVP-accessors | 2.81 | 0.21 | 4.98 | |
| SVPExperiment | 0.55 | 0.03 | 0.58 | |
| as_tbl_df | 4.53 | 0.19 | 5.08 | |
| cal_lisa_f1-method | 0.25 | 0.03 | 0.25 | |
| cluster.assign-method | 0.47 | 0.05 | 0.51 | |
| data_CancerSEA | 0.00 | 0.03 | 0.03 | |
| data_SenMayo | 0 | 0 | 0 | |
| data_hpda_spe_cell_dec | 0.01 | 0.03 | 0.05 | |
| data_sceSubPbmc | 0.16 | 0.02 | 0.17 | |
| extract_weight_adj-method | 0.19 | 0.02 | 0.20 | |
| fast_cor | 0.03 | 0.00 | 0.03 | |
| fscoreDfs | 1.49 | 0.09 | 1.58 | |
| gsvaExps | 1.08 | 0.08 | 1.15 | |
| mob_marker_genes | 0 | 0 | 0 | |
| mob_sce | 0.40 | 0.01 | 0.42 | |
| plot_heatmap_globalbv | 3.67 | 0.08 | 2.94 | |
| pred.cell.signature-method | 3.94 | 0.42 | 4.67 | |
| runCORR-method | 0.17 | 0.00 | 0.18 | |
| runDetectMarker-method | 2.67 | 0.08 | 2.71 | |
| runDetectSVG-method | 0.94 | 0.17 | 1.11 | |
| runENCODE-method | 1.21 | 0.02 | 1.22 | |
| runGLOBALBV-method | 0.96 | 0.06 | 0.46 | |
| runKldSVG-method | 21.54 | 0.44 | 2.31 | |
| runLISA-method | 2.31 | 0.16 | 2.47 | |
| runLOCALBV-method | 1.22 | 0.06 | 1.28 | |
| runMCA-method | 1.06 | 0.08 | 1.12 | |
| runSGSA-method | 19.30 | 0.59 | 20.17 | |
| runWKDE-method | 5.26 | 0.45 | 2.30 | |
| svDfs | 0.58 | 0.06 | 0.70 | |