| Back to Build/check report for BioC 3.23: simplified long |
|
This page was generated on 2025-10-31 08:34 -0400 (Fri, 31 Oct 2025).
| Hostname | OS | Arch (*) | R version | Installed pkgs |
|---|---|---|---|---|
| nebbiolo1 | Linux (Ubuntu 24.04.3 LTS) | x86_64 | R Under development (unstable) (2025-10-20 r88955) -- "Unsuffered Consequences" | 4428 |
| Click on any hostname to see more info about the system (e.g. compilers) (*) as reported by 'uname -p', except on Windows and Mac OS X | ||||
| Package 1910/2321 | Hostname | OS / Arch | INSTALL | BUILD | CHECK | BUILD BIN | ||||||||
| SCOPE 1.23.0 (landing page) Rujin Wang
| nebbiolo1 | Linux (Ubuntu 24.04.3 LTS) / x86_64 | ERROR | ERROR | skipped | |||||||||
|
To the developers/maintainers of the SCOPE package: - Allow up to 24 hours (and sometimes 48 hours) for your latest push to git@git.bioconductor.org:packages/SCOPE.git to reflect on this report. See Troubleshooting Build Report for more information. - Use the following Renviron settings to reproduce errors and warnings. - If 'R CMD check' started to fail recently on the Linux builder(s) over a missing dependency, add the missing dependency to 'Suggests:' in your DESCRIPTION file. See Renviron.bioc for more information. |
| Package: SCOPE |
| Version: 1.23.0 |
| Command: /home/biocbuild/bbs-3.23-bioc/R/bin/R CMD build --keep-empty-dirs --no-resave-data SCOPE |
| StartedAt: 2025-10-30 18:55:47 -0400 (Thu, 30 Oct 2025) |
| EndedAt: 2025-10-30 18:55:48 -0400 (Thu, 30 Oct 2025) |
| EllapsedTime: 1.0 seconds |
| RetCode: 1 |
| Status: ERROR |
| PackageFile: None |
| PackageFileSize: NA |
##############################################################################
##############################################################################
###
### Running command:
###
### /home/biocbuild/bbs-3.23-bioc/R/bin/R CMD build --keep-empty-dirs --no-resave-data SCOPE
###
##############################################################################
##############################################################################
* checking for file ‘SCOPE/DESCRIPTION’ ... OK
* preparing ‘SCOPE’:
* checking DESCRIPTION meta-information ... OK
* installing the package (it is needed to build vignettes)
-----------------------------------
ERROR: dependency ‘BSgenome.Hsapiens.UCSC.hg19’ is not available for package ‘SCOPE’
Perhaps try a variation of:
install.packages('BSgenome.Hsapiens.UCSC.hg19')
* removing ‘/tmp/RtmpZBSztj/Rinst1fccd756aee88b/SCOPE’
-----------------------------------
ERROR: package installation failed