Back to Multiple platform build/check report for BioC 3.22:   simplified   long
ABCDEFGHIJKLMNOPQR[S]TUVWXYZ

This page was generated on 2025-10-10 12:07 -0400 (Fri, 10 Oct 2025).

HostnameOSArch (*)R versionInstalled pkgs
nebbiolo2Linux (Ubuntu 24.04.3 LTS)x86_644.5.1 Patched (2025-08-23 r88802) -- "Great Square Root" 4854
lconwaymacOS 12.7.1 Montereyx86_644.5.1 Patched (2025-09-10 r88807) -- "Great Square Root" 4642
kjohnson3macOS 13.7.7 Venturaarm644.5.1 Patched (2025-09-10 r88807) -- "Great Square Root" 4587
taishanLinux (openEuler 24.03 LTS)aarch644.5.0 (2025-04-11) -- "How About a Twenty-Six" 4586
Click on any hostname to see more info about the system (e.g. compilers)      (*) as reported by 'uname -p', except on Windows and Mac OS X

Package 1865/2341HostnameOS / ArchINSTALLBUILDCHECKBUILD BIN
SAIGEgds 2.9.2  (landing page)
Xiuwen Zheng
Snapshot Date: 2025-10-09 13:45 -0400 (Thu, 09 Oct 2025)
git_url: https://git.bioconductor.org/packages/SAIGEgds
git_branch: devel
git_last_commit: 0fbba86
git_last_commit_date: 2025-09-26 23:29:09 -0400 (Fri, 26 Sep 2025)
nebbiolo2Linux (Ubuntu 24.04.3 LTS) / x86_64  OK    OK    OK  UNNEEDED, same version is already published
lconwaymacOS 12.7.1 Monterey / x86_64  OK    OK    OK    OK  UNNEEDED, same version is already published
kjohnson3macOS 13.7.7 Ventura / arm64  OK    OK    OK    OK  UNNEEDED, same version is already published
taishanLinux (openEuler 24.03 LTS) / aarch64  OK    OK    ERROR  


INSTALL results for SAIGEgds on taishan

To the developers/maintainers of the SAIGEgds package:
- Allow up to 24 hours (and sometimes 48 hours) for your latest push to git@git.bioconductor.org:packages/SAIGEgds.git to reflect on this report. See Troubleshooting Build Report for more information.
- Use the following Renviron settings to reproduce errors and warnings.
- If 'R CMD check' started to fail recently on the Linux builder(s) over a missing dependency, add the missing dependency to 'Suggests:' in your DESCRIPTION file. See Renviron.bioc for more information.
- See Martin Grigorov's blog post for how to debug Linux ARM64 related issues on a x86_64 host.

raw results


Summary

Package: SAIGEgds
Version: 2.9.2
Command: /home/biocbuild/R/R/bin/R CMD INSTALL SAIGEgds
StartedAt: 2025-10-09 21:17:00 -0000 (Thu, 09 Oct 2025)
EndedAt: 2025-10-09 21:18:46 -0000 (Thu, 09 Oct 2025)
EllapsedTime: 105.8 seconds
RetCode: 0
Status:   OK  

Command output

##############################################################################
##############################################################################
###
### Running command:
###
###   /home/biocbuild/R/R/bin/R CMD INSTALL SAIGEgds
###
##############################################################################
##############################################################################


* installing to library ‘/home/biocbuild/R/R-4.5.0/site-library’
* installing *source* package ‘SAIGEgds’ ...
** this is package ‘SAIGEgds’ version ‘2.9.2’
** using staged installation
** libs
using C++ compiler: ‘aarch64-unknown-linux-gnu-g++ (GCC) 14.2.0’
/opt/ohpc/pub/compiler/gcc/14.2.0/bin/aarch64-unknown-linux-gnu-g++ -std=gnu++17 -I"/home/biocbuild/R/R-4.5.0/include" -DNDEBUG -DARMA_64BIT_WORD=1 -I'/home/biocbuild/R/R-4.5.0/site-library/Rcpp/include' -I'/home/biocbuild/R/R-4.5.0/site-library/RcppArmadillo/include' -I'/home/biocbuild/R/R-4.5.0/site-library/RcppParallel/include' -I/usr/local/include    -fPIC  -g -O2  -Wall -Werror=format-security  -c SPATest.cpp -o SPATest.o
/opt/ohpc/pub/compiler/gcc/14.2.0/bin/aarch64-unknown-linux-gnu-g++ -std=gnu++17 -I"/home/biocbuild/R/R-4.5.0/include" -DNDEBUG -DARMA_64BIT_WORD=1 -I'/home/biocbuild/R/R-4.5.0/site-library/Rcpp/include' -I'/home/biocbuild/R/R-4.5.0/site-library/RcppArmadillo/include' -I'/home/biocbuild/R/R-4.5.0/site-library/RcppParallel/include' -I/usr/local/include    -fPIC  -g -O2  -Wall -Werror=format-security  -c saige_fitnull.cpp -o saige_fitnull.o
/opt/ohpc/pub/compiler/gcc/14.2.0/bin/aarch64-unknown-linux-gnu-g++ -std=gnu++17 -I"/home/biocbuild/R/R-4.5.0/include" -DNDEBUG -DARMA_64BIT_WORD=1 -I'/home/biocbuild/R/R-4.5.0/site-library/Rcpp/include' -I'/home/biocbuild/R/R-4.5.0/site-library/RcppArmadillo/include' -I'/home/biocbuild/R/R-4.5.0/site-library/RcppParallel/include' -I/usr/local/include    -fPIC  -g -O2  -Wall -Werror=format-security  -c saige_main.cpp -o saige_main.o
/opt/ohpc/pub/compiler/gcc/14.2.0/bin/aarch64-unknown-linux-gnu-g++ -std=gnu++17 -I"/home/biocbuild/R/R-4.5.0/include" -DNDEBUG -DARMA_64BIT_WORD=1 -I'/home/biocbuild/R/R-4.5.0/site-library/Rcpp/include' -I'/home/biocbuild/R/R-4.5.0/site-library/RcppArmadillo/include' -I'/home/biocbuild/R/R-4.5.0/site-library/RcppParallel/include' -I/usr/local/include    -fPIC  -g -O2  -Wall -Werror=format-security  -c saige_misc.cpp -o saige_misc.o
/opt/ohpc/pub/compiler/gcc/14.2.0/bin/aarch64-unknown-linux-gnu-g++ -std=gnu++17 -I"/home/biocbuild/R/R-4.5.0/include" -DNDEBUG -DARMA_64BIT_WORD=1 -I'/home/biocbuild/R/R-4.5.0/site-library/Rcpp/include' -I'/home/biocbuild/R/R-4.5.0/site-library/RcppArmadillo/include' -I'/home/biocbuild/R/R-4.5.0/site-library/RcppParallel/include' -I/usr/local/include    -fPIC  -g -O2  -Wall -Werror=format-security  -c saige_permu.cpp -o saige_permu.o
saige_permu.cpp: In function ‘void SKATExactBin_ComputeProb_Group(arma::uvec&, arma::uvec&, arma::vec&, uint32_t, uint32_t, int, std::vector<double>&)’:
saige_permu.cpp:119:24: warning: comparison of integer expressions of different signedness: ‘int’ and ‘std::vector<double>::size_type’ {aka ‘long unsigned int’} [-Wsign-compare]
  119 |         for(int i=0; i < weight.size(); i++)
      |                      ~~^~~~~~~~~~~~~~~
/opt/ohpc/pub/compiler/gcc/14.2.0/bin/aarch64-unknown-linux-gnu-g++ -std=gnu++17 -I"/home/biocbuild/R/R-4.5.0/include" -DNDEBUG -DARMA_64BIT_WORD=1 -I'/home/biocbuild/R/R-4.5.0/site-library/Rcpp/include' -I'/home/biocbuild/R/R-4.5.0/site-library/RcppArmadillo/include' -I'/home/biocbuild/R/R-4.5.0/site-library/RcppParallel/include' -I/usr/local/include    -fPIC  -g -O2  -Wall -Werror=format-security  -c vec_ext_avx2.cpp -o vec_ext_avx2.o
/opt/ohpc/pub/compiler/gcc/14.2.0/bin/aarch64-unknown-linux-gnu-g++ -std=gnu++17 -I"/home/biocbuild/R/R-4.5.0/include" -DNDEBUG -DARMA_64BIT_WORD=1 -I'/home/biocbuild/R/R-4.5.0/site-library/Rcpp/include' -I'/home/biocbuild/R/R-4.5.0/site-library/RcppArmadillo/include' -I'/home/biocbuild/R/R-4.5.0/site-library/RcppParallel/include' -I/usr/local/include    -fPIC  -g -O2  -Wall -Werror=format-security  -c vec_ext_avx512bw.cpp -o vec_ext_avx512bw.o
/opt/ohpc/pub/compiler/gcc/14.2.0/bin/aarch64-unknown-linux-gnu-g++ -std=gnu++17 -I"/home/biocbuild/R/R-4.5.0/include" -DNDEBUG -DARMA_64BIT_WORD=1 -I'/home/biocbuild/R/R-4.5.0/site-library/Rcpp/include' -I'/home/biocbuild/R/R-4.5.0/site-library/RcppArmadillo/include' -I'/home/biocbuild/R/R-4.5.0/site-library/RcppParallel/include' -I/usr/local/include    -fPIC  -g -O2  -Wall -Werror=format-security  -c vec_ext_def.cpp -o vec_ext_def.o
vec_ext_def.cpp: In function ‘void vec_init_function()’:
vec_ext_def.cpp:33:27: warning: unused variable ‘VEC_ALGORITHM_AVX2’ [-Wunused-variable]
   33 |         extern const bool VEC_ALGORITHM_AVX2;
      |                           ^~~~~~~~~~~~~~~~~~
vec_ext_def.cpp:34:27: warning: unused variable ‘VEC_ALGORITHM_AVX512BW’ [-Wunused-variable]
   34 |         extern const bool VEC_ALGORITHM_AVX512BW;
      |                           ^~~~~~~~~~~~~~~~~~~~~~
/opt/ohpc/pub/compiler/gcc/14.2.0/bin/aarch64-unknown-linux-gnu-g++ -std=gnu++17 -I"/home/biocbuild/R/R-4.5.0/include" -DNDEBUG -DARMA_64BIT_WORD=1 -I'/home/biocbuild/R/R-4.5.0/site-library/Rcpp/include' -I'/home/biocbuild/R/R-4.5.0/site-library/RcppArmadillo/include' -I'/home/biocbuild/R/R-4.5.0/site-library/RcppParallel/include' -I/usr/local/include    -fPIC  -g -O2  -Wall -Werror=format-security  -c vectorization.cpp -o vectorization.o
/opt/ohpc/pub/compiler/gcc/14.2.0/bin/aarch64-unknown-linux-gnu-g++ -std=gnu++17 -shared -L/home/biocbuild/R/R-4.5.0/lib -L/usr/local/lib -o SAIGEgds.so SPATest.o saige_fitnull.o saige_main.o saige_misc.o saige_permu.o vec_ext_avx2.o vec_ext_avx512bw.o vec_ext_def.o vectorization.o -lm -lopenblas -lgfortran -lm -lgcc -L/home/biocbuild/R/R-4.5.0/lib -lR
installing to /home/biocbuild/R/R-4.5.0/site-library/00LOCK-SAIGEgds/00new/SAIGEgds/libs
** R
** inst
** byte-compile and prepare package for lazy loading
** help
*** installing help indices
** building package indices
** installing vignettes
** testing if installed package can be loaded from temporary location
** checking absolute paths in shared objects and dynamic libraries
** testing if installed package can be loaded from final location
** testing if installed package keeps a record of temporary installation path
* DONE (SAIGEgds)