Back to Build/check report for BioC 3.23:   simplified   long
ABCDEFGHIJKLMNOPQR[S]TUVWXYZ

This page was generated on 2025-11-01 11:33 -0400 (Sat, 01 Nov 2025).

HostnameOSArch (*)R versionInstalled pkgs
nebbiolo1Linux (Ubuntu 24.04.3 LTS)x86_64R Under development (unstable) (2025-10-20 r88955) -- "Unsuffered Consequences" 4774
Click on any hostname to see more info about the system (e.g. compilers)      (*) as reported by 'uname -p', except on Windows and Mac OS X

Package 1847/2321HostnameOS / ArchINSTALLBUILDCHECKBUILD BIN
S4Vectors 0.49.0  (landing page)
Hervé Pagès
Snapshot Date: 2025-10-31 13:40 -0400 (Fri, 31 Oct 2025)
git_url: https://git.bioconductor.org/packages/S4Vectors
git_branch: devel
git_last_commit: cead68c
git_last_commit_date: 2025-10-29 14:48:28 -0400 (Wed, 29 Oct 2025)
nebbiolo1Linux (Ubuntu 24.04.3 LTS) / x86_64  OK    OK    WARNINGS  UNNEEDED, same version is already published


BUILD results for S4Vectors on nebbiolo1

To the developers/maintainers of the S4Vectors package:
- Allow up to 24 hours (and sometimes 48 hours) for your latest push to git@git.bioconductor.org:packages/S4Vectors.git to reflect on this report. See Troubleshooting Build Report for more information.
- Use the following Renviron settings to reproduce errors and warnings.
- If 'R CMD check' started to fail recently on the Linux builder(s) over a missing dependency, add the missing dependency to 'Suggests:' in your DESCRIPTION file. See Renviron.bioc for more information.

raw results


Summary

Package: S4Vectors
Version: 0.49.0
Command: /home/biocbuild/bbs-3.23-bioc/R/bin/R CMD build --keep-empty-dirs --no-resave-data S4Vectors
StartedAt: 2025-10-31 19:55:17 -0400 (Fri, 31 Oct 2025)
EndedAt: 2025-10-31 19:56:15 -0400 (Fri, 31 Oct 2025)
EllapsedTime: 58.1 seconds
RetCode: 0
Status:   OK  
PackageFile: S4Vectors_0.49.0.tar.gz
PackageFileSize: 820.6 KiB

Command output

##############################################################################
##############################################################################
###
### Running command:
###
###   /home/biocbuild/bbs-3.23-bioc/R/bin/R CMD build --keep-empty-dirs --no-resave-data S4Vectors
###
##############################################################################
##############################################################################


* checking for file ‘S4Vectors/DESCRIPTION’ ... OK
* preparing ‘S4Vectors’:
* checking DESCRIPTION meta-information ... OK
* cleaning src
* installing the package (it is needed to build vignettes)
* creating vignettes ... OK
* cleaning src
* checking for LF line-endings in source and make files and shell scripts
* checking for empty or unneeded directories
* building ‘S4Vectors_0.49.0.tar.gz’