Back to Build/check report for BioC 3.23:   simplified   long
ABCDEFGHIJKLMNOPQ[R]STUVWXYZ

This page was generated on 2025-10-23 11:30 -0400 (Thu, 23 Oct 2025).

HostnameOSArch (*)R versionInstalled pkgs
nebbiolo1Linux (Ubuntu 24.04.3 LTS)x86_64R Under development (unstable) (2025-10-20 r88955) -- "Unsuffered Consequences" 3809
Click on any hostname to see more info about the system (e.g. compilers)      (*) as reported by 'uname -p', except on Windows and Mac OS X

Package 1736/2355HostnameOS / ArchINSTALLBUILDCHECKBUILD BIN
ReactomeGraph4R 1.17.1  (landing page)
Chi-Lam Poon
Snapshot Date: 2025-10-22 15:48 -0400 (Wed, 22 Oct 2025)
git_url: https://git.bioconductor.org/packages/ReactomeGraph4R
git_branch: devel
git_last_commit: 47e4992
git_last_commit_date: 2025-06-18 15:38:24 -0400 (Wed, 18 Jun 2025)
nebbiolo1Linux (Ubuntu 24.04.3 LTS) / x86_64  ERROR    ERROR  skipped


BUILD results for ReactomeGraph4R on nebbiolo1

To the developers/maintainers of the ReactomeGraph4R package:
- Allow up to 24 hours (and sometimes 48 hours) for your latest push to git@git.bioconductor.org:packages/ReactomeGraph4R.git to reflect on this report. See Troubleshooting Build Report for more information.
- Use the following Renviron settings to reproduce errors and warnings.
- If 'R CMD check' started to fail recently on the Linux builder(s) over a missing dependency, add the missing dependency to 'Suggests:' in your DESCRIPTION file. See Renviron.bioc for more information.

raw results


Summary

Package: ReactomeGraph4R
Version: 1.17.1
Command: /home/biocbuild/bbs-3.23-bioc/R/bin/R CMD build --keep-empty-dirs --no-resave-data ReactomeGraph4R
StartedAt: 2025-10-23 00:11:34 -0000 (Thu, 23 Oct 2025)
EndedAt: 2025-10-23 00:11:35 -0000 (Thu, 23 Oct 2025)
EllapsedTime: 1.0 seconds
RetCode: 1
Status:   ERROR  
PackageFile: None
PackageFileSize: NA

Command output

##############################################################################
##############################################################################
###
### Running command:
###
###   /home/biocbuild/bbs-3.23-bioc/R/bin/R CMD build --keep-empty-dirs --no-resave-data ReactomeGraph4R
###
##############################################################################
##############################################################################


* checking for file ‘ReactomeGraph4R/DESCRIPTION’ ... OK
* preparing ‘ReactomeGraph4R’:
* checking DESCRIPTION meta-information ... OK
* installing the package (it is needed to build vignettes)
      -----------------------------------
ERROR: dependency ‘ReactomeContentService4R’ is not available for package ‘ReactomeGraph4R’
Perhaps try a variation of:
install.packages('ReactomeContentService4R')
* removing ‘/tmp/RtmpyVDpQM/Rinst17796e74db6942/ReactomeGraph4R’
      -----------------------------------
ERROR: package installation failed