Back to Multiple platform build/check report for BioC 3.22:   simplified   long
ABCDEFGHIJKLMNOPQ[R]STUVWXYZ

This page was generated on 2025-10-30 12:36 -0400 (Thu, 30 Oct 2025).

HostnameOSArch (*)R versionInstalled pkgs
nebbiolo2Linux (Ubuntu 24.04.3 LTS)x86_644.5.1 Patched (2025-08-23 r88802) -- "Great Square Root" 4901
lconwaymacOS 12.7.6 Montereyx86_644.5.1 Patched (2025-09-10 r88807) -- "Great Square Root" 4691
kjohnson3macOS 13.7.7 Venturaarm644.5.1 Patched (2025-09-10 r88807) -- "Great Square Root" 4637
Click on any hostname to see more info about the system (e.g. compilers)      (*) as reported by 'uname -p', except on Windows and Mac OS X

Package 1742/2361HostnameOS / ArchINSTALLBUILDCHECKBUILD BIN
ReactomeGraph4R 1.18.0  (landing page)
Chi-Lam Poon
Snapshot Date: 2025-10-29 19:52 -0400 (Wed, 29 Oct 2025)
git_url: https://git.bioconductor.org/packages/ReactomeGraph4R
git_branch: RELEASE_3_22
git_last_commit: 4d9a288
git_last_commit_date: 2025-10-29 11:10:08 -0400 (Wed, 29 Oct 2025)
nebbiolo2Linux (Ubuntu 24.04.3 LTS) / x86_64  ERROR    ERROR  skipped
lconwaymacOS 12.7.6 Monterey / x86_64  ERROR    ERROR  skippedskipped
kjohnson3macOS 13.7.7 Ventura / arm64  ERROR    ERROR  skippedskipped


BUILD results for ReactomeGraph4R on lconway

To the developers/maintainers of the ReactomeGraph4R package:
- Allow up to 24 hours (and sometimes 48 hours) for your latest push to git@git.bioconductor.org:packages/ReactomeGraph4R.git to reflect on this report. See Troubleshooting Build Report for more information.
- Use the following Renviron settings to reproduce errors and warnings.
- If 'R CMD check' started to fail recently on the Linux builder(s) over a missing dependency, add the missing dependency to 'Suggests:' in your DESCRIPTION file. See Renviron.bioc for more information.

raw results


Summary

Package: ReactomeGraph4R
Version: 1.18.0
Command: /Library/Frameworks/R.framework/Resources/bin/R CMD build --keep-empty-dirs --no-resave-data ReactomeGraph4R
StartedAt: 2025-10-30 01:04:14 -0400 (Thu, 30 Oct 2025)
EndedAt: 2025-10-30 01:04:16 -0400 (Thu, 30 Oct 2025)
EllapsedTime: 2.0 seconds
RetCode: 1
Status:   ERROR  
PackageFile: None
PackageFileSize: NA

Command output

##############################################################################
##############################################################################
###
### Running command:
###
###   /Library/Frameworks/R.framework/Resources/bin/R CMD build --keep-empty-dirs --no-resave-data ReactomeGraph4R
###
##############################################################################
##############################################################################


* checking for file ‘ReactomeGraph4R/DESCRIPTION’ ... OK
* preparing ‘ReactomeGraph4R’:
* checking DESCRIPTION meta-information ... OK
* installing the package to build vignettes
      -----------------------------------
ERROR: dependency ‘ReactomeContentService4R’ is not available for package ‘ReactomeGraph4R’
Perhaps try a variation of:
install.packages('ReactomeContentService4R')
* removing ‘/private/var/folders/db/4tvgx8jx4z3fm1gzlnlzw9rc0000gq/T/RtmpE7yTeU/Rinstc8a17b490a00/ReactomeGraph4R’
      -----------------------------------
ERROR: package installation failed